Workbook
Name fhdata_Query: #REF!
Name PARKS_Query: #REF!
Name sum_data: #REF!

Sheet Annual Report
A1: 2015 Aerial Overview Summary for British Columbia
B2: Regions | J2: Provincial
B3: South Coast | C3: West Coast | D3: Cariboo | E3: Thompson/ Okanagan | F3: Kootenay/ Boundary | G3: Skeena | H3: Omineca | I3: Northeast | J3: Total
A5: Bark Beetles
A6: IBM=Mountain Pine Beetle | B6: =Master!Y6 -> 333.29147 | C6: =Master!BL6 -> 44.397263 | D6: =Master!CL6 -> 1899.3413 | E6: =Master!DU6 -> 8539.8276 | F6: =Master!FQ6 -> 30026.785 | G6: =Master!HS6 -> 10573.512 | H6: =Master!IQ6 -> 96072.752 | I6: =Master!JO6 -> 178986.68 | J6: =SUM(B6:I6) -> 326476.59
A7: IBS=Spruce Beetle | B7: =Master!Y7 -> 202.56884 | C7: =Master!BL7 -> 1663.3119 | D7: =Master!CL7 -> 2900.0722 | E7: =Master!DU7 -> 5295.2211 | F7: =Master!FQ7 -> 5190.3102 | G7: =Master!HS7 -> 8406.1648 | H7: =Master!IQ7 -> 156057.4 | I7: =Master!JO7 -> 14335.099 | J7: =SUM(B7:I7) -> 194050.15
A8: IBB=Western Balsam Bark Beetle | B8: =Master!Y8 -> 22072.32 | C8: =Master!BL8 -> 17211.586 | D8: =Master!CL8 -> 38775.882 | E8: =Master!DU8 -> 187374.21 | F8: =Master!FQ8 -> 21046.26 | G8: =Master!HS8 -> 814699.52 | H8: =Master!IQ8 -> 1036054.6 | I8: =Master!JO8 -> 212235.42 | J8: =SUM(B8:I8) -> 2349469.8
A9: IBD=Douglas-fir Beetle | B9: =Master!Y9 -> 4908.8389 | C9: =Master!BL9 -> 1312.7536 | D9: =Master!CL9 -> 33251.838 | E9: =Master!DU9 -> 5207.3609 | F9: =Master!FQ9 -> 1640.8271 | G9: =Master!HS9 -> 1.25 | H9: =Master!IQ9 -> 1304.6494 | I9: =Master!JO9 -> 0 | J9: =SUM(B9:I9) -> 47627.518
A10: IBF=Fir engraver beetle | B10: =Master!Y10 -> 0 | C10: =Master!BL10 -> 0 | D10: =Master!CL10 -> 0 | E10: =Master!DU10 -> 0 | F10: =Master!FQ10 -> 0 | G10: =Master!HS10 -> 0 | H10: =Master!IQ10 -> 0 | I10: =Master!JO10 -> 0 | J10: =SUM(B10:I10) -> 0
A11: IBP=Twig beetle | B11: =Master!Y11 -> 0 | C11: =Master!BL11 -> 0 | D11: =Master!CL11 -> 0 | E11: =Master!DU11 -> 0 | F11: =Master!FQ11 -> 0 | G11: =Master!HS11 -> 0 | H11: =Master!IQ11 -> 0 | I11: =Master!JO11 -> 0 | J11: =SUM(B11:I11) -> 0
A12: IBI=Engraver Beetle (Ips species) | B12: =Master!Y12 -> 0 | C12: =Master!BL12 -> 0 | D12: =Master!CL12 -> 0 | E12: =Master!DU12 -> 0 | F12: =Master!FQ12 -> 0 | G12: =Master!HS12 -> 0 | H12: =Master!IQ12 -> 0 | I12: =Master!JO12 -> 0 | J12: =SUM(B12:I12) -> 0
A13: IBW=Western Pine Beetle | B13: =Master!Y13 -> 0 | C13: =Master!BL13 -> 0 | D13: =Master!CL13 -> 0 | E13: =Master!DU13 -> 0 | F13: =Master!FQ13 -> 0 | G13: =Master!HS13 -> 0 | H13: =Master!IQ13 -> 0 | I13: =Master!JO13 -> 0 | J13: =SUM(B13:I13) -> 0
A14: IBL=Lodgepole Pine Beetle | B14: =Master!Y14 -> 0 | C14: =Master!BL14 -> 0 | D14: =Master!CL14 -> 0 | E14: =Master!DU14 -> 0 | F14: =Master!FQ14 -> 0 | G14: =Master!HS14 -> 0 | H14: =Master!IQ14 -> 0 | I14: =Master!JO14 -> 0 | J14: =SUM(B14:I14) -> 0
A15: IBT=Red Turpentine Beetle | B15: =Master!Y15 -> 0 | C15: =Master!BL15 -> 0 | D15: =Master!CL15 -> 0 | E15: =Master!DU15 -> 0 | F15: =Master!FQ15 -> 0 | G15: =Master!HS15 -> 0 | H15: =Master!IQ15 -> 0 | I15: =Master!JO15 -> 0 | J15: =SUM(B15:I15) -> 0
A16: IB=Young pine mortality | B16: =Master!Y16 -> 0 | C16: =Master!BL16 -> 0 | D16: =Master!CL16 -> 0 | E16: =Master!DU16 -> 0 | F16: =Master!FQ16 -> 0 | G16: =Master!HS16 -> 0.75 | H16: =Master!IQ16 -> 756.91084 | I16: =Master!JO16 -> 0 | J16: =SUM(B16:I16) -> 757.66084
A17: IWW=Warrens Root Collar Weevil | B17: =Master!Y17 -> 0 | C17: =Master!BL17 -> 0 | D17: =Master!CL17 -> 0 | E17: =Master!DU17 -> 0 | F17: =Master!FQ17 -> 0 | G17: =Master!HS17 -> 0 | H17: =Master!IQ17 -> 0 | I17: =Master!JO17 -> 0 | J17: =SUM(B17:I17) -> 0
A18: Total All BB= | B18: =Master!Y18 -> 27517.019 | C18: =Master!BL18 -> 20232.048 | D18: =Master!CL18 -> 76827.134 | E18: =Master!DU18 -> 206416.62 | F18: =Master!FQ18 -> 57904.182 | G18: =Master!HS18 -> 833681.19 | H18: =Master!IQ18 -> 1290246.3 | I18: =Master!JO18 -> 405557.2 | J18: =SUM(B18:I18) -> 2918381.7
A20: Defoliators
A21: ID=Defoliators | B21: =Master!Y21 -> 0 | C21: =Master!BL21 -> 182.48367 | D21: =Master!CL21 -> 0 | E21: =Master!DU21 -> 0 | F21: =Master!FQ21 -> 141.65491 | G21: =Master!HS21 -> 21.611337 | H21: =Master!IQ21 -> 0 | I21: =Master!JO21 -> 0 | J21: =SUM(B21:I21) -> 345.74992
A22: IAB=Balsam Woolly Adelgid | B22: =Master!Y22 -> 22.866557 | C22: =Master!BL22 -> 236.79861 | D22: =Master!CL22 -> 0 | E22: =Master!DU22 -> 0 | F22: =Master!FQ22 -> 34.826294 | G22: =Master!HS22 -> 0 | H22: =Master!IQ22 -> 0 | I22: =Master!JO22 -> 0 | J22: =SUM(B22:I22) -> 294.49147
A23: IAS=Green Spruce Aphid | B23: =Master!Y23 -> 0 | C23: =Master!BL23 -> 578.02834 | D23: =Master!CL23 -> 0 | E23: =Master!DU23 -> 0 | F23: =Master!FQ23 -> 0 | G23: =Master!HS23 -> 0 | H23: =Master!IQ23 -> 0 | I23: =Master!JO23 -> 0 | J23: =SUM(B23:I23) -> 578.02834
A24: ID1=Leaf Beetles | B24: =Master!Y24 -> 0 | C24: =Master!BL24 -> 0 | D24: =Master!CL24 -> 0 | E24: =Master!DU24 -> 0 | F24: =Master!FQ24 -> 0 | G24: =Master!HS24 -> 0 | H24: =Master!IQ24 -> 0 | I24: =Master!JO24 -> 0 | J24: =SUM(B24:I24) -> 0
A25: ID2=Bruce spanworm | B25: =Master!Y25 -> 0 | C25: =Master!BL25 -> 0 | D25: =Master!CL25 -> 0 | E25: =Master!DU25 -> 0 | F25: =Master!FQ25 -> 0 | G25: =Master!HS25 -> 0 | H25: =Master!IQ25 -> 0 | I25: =Master!JO25 -> 22452.23 | J25: =SUM(B25:I25) -> 22452.23
A26: ID6=Aspen Leaf Miner | B26: =Master!Y26 -> 0 | C26: =Master!BL26 -> 1759.4994 | D26: =Master!CL26 -> 174048.15 | E26: =Master!DU26 -> 36398.867 | F26: =Master!FQ26 -> 13850.377 | G26: =Master!HS26 -> 319232.65 | H26: =Master!IQ26 -> 373538.46 | I26: =Master!JO26 -> 23256.797 | J26: =SUM(B26:I26) -> 942084.8
A27: IDA=Black Army Cutworm | B27: =Master!Y27 -> 0 | C27: =Master!BL27 -> 0 | D27: =Master!CL27 -> 0 | E27: =Master!DU27 -> 0 | F27: =Master!FQ27 -> 0 | G27: =Master!HS27 -> 0 | H27: =Master!IQ27 -> 0 | I27: =Master!JO27 -> 0 | J27: =SUM(B27:I27) -> 0
A28: IDB=2-Year Budworm | B28: =Master!Y28 -> 0 | C28: =Master!BL28 -> 0 | D28: =Master!CL28 -> 106.1736 | E28: =Master!DU28 -> 7122.8972 | F28: =Master!FQ28 -> 0 | G28: =Master!HS28 -> 28009.171 | H28: =Master!IQ28 -> 11181.804 | I28: =Master!JO28 -> 0 | J28: =SUM(B28:I28) -> 46420.046
A29: IDC=Larch casebearer | B29: =Master!Y29 -> 0 | C29: =Master!BL29 -> 0 | D29: =Master!CL29 -> 0 | E29: =Master!DU29 -> 32.111339 | F29: =Master!FQ29 -> 0 | G29: =Master!HS29 -> 0 | H29: =Master!IQ29 -> 0 | I29: =Master!JO29 -> 0 | J29: =SUM(B29:I29) -> 32.111339
A30: IDE=Spruce Budworm | B30: =Master!Y30 -> 0 | C30: =Master!BL30 -> 0 | D30: =Master!CL30 -> 0 | E30: =Master!DU30 -> 0 | F30: =Master!FQ30 -> 0 | G30: =Master!HS30 -> 0 | H30: =Master!IQ30 -> 0 | I30: =Master!JO30 -> 0 | J30: =SUM(B30:I30) -> 0
A31: IDF=Forest Tent Caterpillar | B31: =Master!Y31 -> 0 | C31: =Master!BL31 -> 0 | D31: =Master!CL31 -> 131665.45 | E31: =Master!DU31 -> 0 | F31: =Master!FQ31 -> 0 | G31: =Master!HS31 -> 0 | H31: =Master!IQ31 -> 478333.58 | I31: =Master!JO31 -> 0 | J31: =SUM(B31:I31) -> 609999.03
A32: IDH=Western Blackheaded Budworm | B32: =Master!Y32 -> 0 | C32: =Master!BL32 -> 301.14466 | D32: =Master!CL32 -> 0 | E32: =Master!DU32 -> 0 | F32: =Master!FQ32 -> 0 | G32: =Master!HS32 -> 0 | H32: =Master!IQ32 -> 0 | I32: =Master!JO32 -> 0 | J32: =SUM(B32:I32) -> 301.14466
... A48: Total Defoliators= | B48: =Master!Y48 -> 631.24036 | C48: =Master!BL48 -> 8062.4945 | D48: =Master!CL48 -> 315215.7 | E48: =Master!DU48 -> 48362.769 | F48: =Master!FQ48 -> 15680.459 | G48: =Master!HS48 -> 347263.43 | H48: =Master!IQ48 -> 863126.11 | I48: =Master!JO48 -> 45709.027 | J48: =SUM(B48:I48) -> 1644051.2
A50: Other
A51: N | B51: =Master!Y51 -> 0 | C51: =Master!BL51 -> 0 | D51: =Master!CL51 -> 70.755317 | E51: =Master!DU51 -> 0 | F51: =Master!FQ51 -> 0 | G51: =Master!HS51 -> 0 | H51: =Master!IQ51 -> 0 | I51: =Master!JO51 -> 0 | J51: =SUM(B51:I51) -> 70.755317
A52: NAV=Avalanche or snow slide | B52: =Master!Y52 -> 0 | C52: =Master!BL52 -> 50.048079 | D52: =Master!CL52 -> 0 | E52: =Master!DU52 -> 7.6197877 | F52: =Master!FQ52 -> 0 | G52: =Master!HS52 -> 10.974995 | H52: =Master!IQ52 -> 0 | I52: =Master!JO52 -> 0 | J52: =SUM(B52:I52) -> 68.642862
A53: NB=Fire | B53: =Master!Y53 -> 23975.755 | C53: =Master!BL53 -> 940.30191 | D53: =Master!CL53 -> 10087.417 | E53: =Master!DU53 -> 10947.538 | F53: =Master!FQ53 -> 14248.475 | G53: =Master!HS53 -> 21268.154 | H53: =Master!IQ53 -> 38175.681 | I53: =Master!JO53 -> 146145.09 | J53: =SUM(B53:I53) -> 265788.41
A54: NBP=Post Fire | B54: =Master!Y54 -> 0 | C54: =Master!BL54 -> 126.03063 | D54: =Master!CL54 -> 512.5446 | E54: =Master!DU54 -> 71.006153 | F54: =Master!FQ54 -> 0 | G54: =Master!HS54 -> 91913.561 | H54: =Master!IQ54 -> 55014.562 | I54: =Master!JO54 -> 0 | J54: =SUM(B54:I54) -> 147637.7
A55: NCA=Aspen decline | B55: =Master!Y55 -> 0 | C55: =Master!BL55 -> 0 | D55: =Master!CL55 -> 5.4270194 | E55: =Master!DU55 -> 122.40817 | F55: =Master!FQ55 -> 0 | G55: =Master!HS55 -> 0 | H55: =Master!IQ55 -> 0 | I55: =Master!JO55 -> 46.518172 | J55: =SUM(B55:I55) -> 174.35336
A56: NCB=Birch decline | B56: =Master!Y56 -> 0 | C56: =Master!BL56 -> 0 | D56: =Master!CL56 -> 0 | E56: =Master!DU56 -> 0 | F56: =Master!FQ56 -> 0 | G56: =Master!HS56 -> 0 | H56: =Master!IQ56 -> 0 | I56: =Master!JO56 -> 0 | J56: =SUM(B56:I56) -> 0
A57: NCF=Douglas-fir decline | B57: =Master!Y57 -> 0 | C57: =Master!BL57 -> 0 | D57: =Master!CL57 -> 0 | E57: =Master!DU57 -> 0 | F57: =Master!FQ57 -> 0 | G57: =Master!HS57 -> 0 | H57: =Master!IQ57 -> 0 | I57: =Master!JO57 -> 0 | J57: =SUM(B57:I57) -> 0
A58: NCY=Yellow cedar decline | B58: =Master!Y58 -> 0 | C58: =Master!BL58 -> 26826.518 | D58: =Master!CL58 -> 0 | E58: =Master!DU58 -> 0 | F58: =Master!FQ58 -> 0 | G58: =Master!HS58 -> 10713.986 | H58: =Master!IQ58 -> 0 | I58: =Master!JO58 -> 0 | J58: =SUM(B58:I58) -> 37540.504
A59: ND=Drought | B59: =Master!Y59 -> 68.012661 | C59: =Master!BL59 -> 2486.1422 | D59: =Master!CL59 -> 8353.6983 | E59: =Master!DU59 -> 12.05462 | F59: =Master!FQ59 -> 1159.9432 | G59: =Master!HS59 -> 196.63911 | H59: =Master!IQ59 -> 112.81959 | I59: =Master!JO59 -> 59663.284 | J59: =SUM(B59:I59) -> 72052.593
A60: NF=Flooding | B60: =Master!Y60 -> 763.09655 | C60: =Master!BL60 -> 4229.9147 | D60: =Master!CL60 -> 338.97748 | E60: =Master!DU60 -> 14.562425 | F60: =Master!FQ60 -> 372.98089 | G60: =Master!HS60 -> 429.673 | H60: =Master!IQ60 -> 124.93701 | I60: =Master!JO60 -> 6884.1679 | J60: =SUM(B60:I60) -> 13158.31
A61: NGK=Shoot/Bud Frost Kill | B61: =Master!Y61 -> 0 | C61: =Master!BL61 -> 0 | D61: =Master!CL61 -> 0 | E61: =Master!DU61 -> 0 | F61: =Master!FQ61 -> 0 | G61: =Master!HS61 -> 0 | H61: =Master!IQ61 -> 0 | I61: =Master!JO61 -> 0 | J61: =SUM(B61:I61) -> 0
A62: NH=Hail | B62: =Master!Y62 -> 0 | C62: =Master!BL62 -> 0 | D62: =Master!CL62 -> 0 | E62: =Master!DU62 -> 0 | F62: =Master!FQ62 -> 0 | G62: =Master!HS62 -> 0 | H62: =Master!IQ62 -> 0 | I62: =Master!JO62 -> 0 | J62: =SUM(B62:I62) -> 0
... A71: Total Abiotics= | B71: =Master!Y71 -> 25528.701 | C71: =Master!BL71 -> 42660.971 | D71: =Master!CL71 -> 20426.681 | E71: =Master!DU71 -> 11207.355 | F71: =Master!FQ71 -> 16437.816 | G71: =Master!HS71 -> 125018.66 | H71: =Master!IQ71 -> 93467.395 | I71: =Master!JO71 -> 213203.23 | J71: =SUM(B71:I71) -> 547950.81
A73: Diseases
A74: DF=Diseases | B74: =Master!Y74 -> 0 | C74: =Master!BL74 -> 0 | D74: =Master!CL74 -> 0 | E74: =Master!DU74 -> 0 | F74: =Master!FQ74 -> 0 | G74: =Master!HS74 -> 0 | H74: =Master!IQ74 -> 0 | I74: =Master!JO74 -> 0 | J74: =SUM(B74:I74) -> 0
A75: DFB=Delphinella needle cast | B75: =Master!Y75 -> 0 | C75: =Master!BL75 -> 0 | D75: =Master!CL75 -> 0 | E75: =Master!DU75 -> 0 | F75: =Master!FQ75 -> 20.529766 | G75: =Master!HS75 -> 0 | H75: =Master!IQ75 -> 0 | I75: =Master!JO75 -> 0 | J75: =SUM(B75:I75) -> 20.529766
A76: DFC=Large-spored Spruce-labrador Tea Rust | B76: =Master!Y76 -> 0 | C76: =Master!BL76 -> 0 | D76: =Master!CL76 -> 0 | E76: =Master!DU76 -> 0 | F76: =Master!FQ76 -> 0 | G76: =Master!HS76 -> 0 | H76: =Master!IQ76 -> 0 | I76: =Master!JO76 -> 0 | J76: =SUM(B76:I76) -> 0
A77: DFH=Larch Needle Blight | B77: =Master!Y77 -> 0 | C77: =Master!BL77 -> 0 | D77: =Master!CL77 -> 0 | E77: =Master!DU77 -> 144.68359 | F77: =Master!FQ77 -> 4622.9941 | G77: =Master!HS77 -> 0 | H77: =Master!IQ77 -> 0 | I77: =Master!JO77 -> 0 | J77: =SUM(B77:I77) -> 4767.6777
A78: DFL=Lophodermella Needle Cast | B78: =Master!Y78 -> 0 | C78: =Master!BL78 -> 0 | D78: =Master!CL78 -> 0 | E78: =Master!DU78 -> 0 | F78: =Master!FQ78 -> 0 | G78: =Master!HS78 -> 0 | H78: =Master!IQ78 -> 0 | I78: =Master!JO78 -> 0 | J78: =SUM(B78:I78) -> 0
A79: DFG=Cottonwood Leaf Rust | B79: =Master!Y79 -> 0 | C79: =Master!BL79 -> 38.667751 | D79: =Master!CL79 -> 0 | E79: =Master!DU79 -> 299.67983 | F79: =Master!FQ79 -> 0 | G79: =Master!HS79 -> 0 | H79: =Master!IQ79 -> 0 | I79: =Master!JO79 -> 0 | J79: =SUM(B79:I79) -> 338.34758
A80: DFM=Larch Needle Cast | B80: =Master!Y80 -> 0 | C80: =Master!BL80 -> 0 | D80: =Master!CL80 -> 0 | E80: =Master!DU80 -> 0 | F80: =Master!FQ80 -> 0 | G80: =Master!HS80 -> 0 | H80: =Master!IQ80 -> 0 | I80: =Master!JO80 -> 0 | J80: =SUM(B80:I80) -> 0
A81: DFO=Lophodermium Needle Cast | B81: =Master!Y81 -> 0 | C81: =Master!BL81 -> 0 | D81: =Master!CL81 -> 0 | E81: =Master!DU81 -> 0 | F81: =Master!FQ81 -> 0 | G81: =Master!HS81 -> 0 | H81: =Master!IQ81 -> 0 | I81: =Master!JO81 -> 0 | J81: =SUM(B81:I81) -> 0
A82: DFR-Douglas-fir Needle Cast | B82: =Master!Y82 -> 0 | C82: =Master!BL82 -> 0 | D82: =Master!CL82 -> 0 | E82: =Master!DU82 -> 0 | F82: =Master!FQ82 -> 0 | G82: =Master!HS82 -> 0 | H82: =Master!IQ82 -> 0 | I82: =Master!JO82 -> 0 | J82: =SUM(B82:I82) -> 0
A83: DFS=Dothistroma Needle Blight | B83: =Master!Y83 -> 0 | C83: =Master!BL83 -> 0 | D83: =Master!CL83 -> 0 | E83: =Master!DU83 -> 604.19209 | F83: =Master!FQ83 -> 0 | G83: =Master!HS83 -> 624.94431 | H83: =Master!IQ83 -> 3211.4225 | I83: =Master!JO83 -> 0 | J83: =SUM(B83:I83) -> 4440.5589
A84: DFZ=Rhizosphaera Needle Cast | B84: =Master!Y84 -> 0 | C84: =Master!BL84 -> 0 | D84: =Master!CL84 -> 0 | E84: =Master!DU84 -> 0 | F84: =Master!FQ84 -> 0 | G84: =Master!HS84 -> 0 | H84: =Master!IQ84 -> 0 | I84: =Master!JO84 -> 0 | J84: =SUM(B84:I84) -> 0
A85: DL=Unknown Dieback | B85: =Master!Y85 -> 0 | C85: =Master!BL85 -> 0 | D85: =Master!CL85 -> 0 | E85: =Master!DU85 -> 0 | F85: =Master!FQ85 -> 0 | G85: =Master!HS85 -> 0 | H85: =Master!IQ85 -> 0 | I85: =Master!JO85 -> 0 | J85: =SUM(B85:I85) -> 0
... A95: Total Diseases= | B95: =Master!Y95 -> 232.22939 | C95: =Master!BL95 -> 830.79878 | D95: =Master!CL95 -> 10.197602 | E95: =Master!DU95 -> 1410.1624 | F95: =Master!FQ95 -> 4809.6131 | G95: =Master!HS95 -> 10712.213 | H95: =Master!IQ95 -> 6001.1788 | I95: =Master!JO95 -> 1137.938 | J95: =SUM(B95:I95) -> 25144.331
A97: Animals
A98: A=Animals | B98: =Master!Y98 -> 0 | C98: =Master!BL98 -> 0 | D98: =Master!CL98 -> 0 | E98: =Master!DU98 -> 0 | F98: =Master!FQ98 -> 0 | G98: =Master!HS98 -> 0 | H98: =Master!IQ98 -> 0 | I98: =Master!JO98 -> 0 | J98: =SUM(B98:I98) -> 0
A99: AB=Bear | B99: =Master!Y99 -> 256.94826 | C99: =Master!BL99 -> 53.483675 | D99: =Master!CL99 -> 1211.9825 | E99: =Master!DU99 -> 237.08366 | F99: =Master!FQ99 -> 1742.857 | G99: =Master!HS99 -> 40.693631 | H99: =Master!IQ99 -> 131.1865 | I99: =Master!JO99 -> 5.5311159 | J99: =SUM(B99:I99) -> 3679.7663
A100: AD=Deer | B100: =Master!Y100 -> 0 | C100: =Master!BL100 -> 0 | D100: =Master!CL100 -> 0 | E100: =Master!DU100 -> 0 | F100: =Master!FQ100 -> 0 | G100: =Master!HS100 -> 0 | H100: =Master!IQ100 -> 0 | I100: =Master!JO100 -> 0 | J100: =SUM(B100:I100) -> 0
A101: AH=Hare | B101: =Master!Y101 -> 0 | C101: =Master!BL101 -> 0 | D101: =Master!CL101 -> 0 | E101: =Master!DU101 -> 0 | F101: =Master!FQ101 -> 0 | G101: =Master!HS101 -> 363.79551 | H101: =Master!IQ101 -> 0 | I101: =Master!JO101 -> 0 | J101: =SUM(B101:I101) -> 363.79551
A102: AP=Porcupine | B102: =Master!Y102 -> 0 | C102: =Master!BL102 -> 0 | D102: =Master!CL102 -> 0 | E102: =Master!DU102 -> 0 | F102: =Master!FQ102 -> 0 | G102: =Master!HS102 -> 0 | H102: =Master!IQ102 -> 0 | I102: =Master!JO102 -> 0 | J102: =SUM(B102:I102) -> 0
A103: Total Animals= | B103: =Master!Y103 -> 256.94826 | C103: =Master!BL103 -> 53.483675 | D103: =Master!CL103 -> 1211.9825 | E103: =Master!DU103 -> 237.08366 | F103: =Master!FQ103 -> 1742.857 | G103: =Master!HS103 -> 404.48914 | H103: =Master!IQ103 -> 131.1865 | I103: =Master!JO103 -> 5.5311159 | J103: =SUM(B103:I103) -> 4043.5618
A105: Total Other= | B105: =Master!Y105 -> 26017.879 | C105: =Master!BL105 -> 43545.253 | D105: =Master!CL105 -> 21648.861 | E105: =Master!DU105 -> 12854.601 | F105: =Master!FQ105 -> 22990.286 | G105: =Master!HS105 -> 136135.36 | H105: =Master!IQ105 -> 99599.76 | I105: =Master!JO105 -> 214346.7 | J105: =SUM(B105:I105) -> 577138.71
A107: Total = | B107: =Master!Y107 -> 54166.138 | C107: =Master!BL107 -> 71839.796 | D107: =Master!CL107 -> 413691.69 | E107: =Master!DU107 -> 267633.99 | F107: =Master!FQ107 -> 96574.926 | G107: =Master!HS107 -> 1317080 | H107: =Master!IQ107 -> 2252972.2 | I107: =Master!JO107 -> 665612.93 | J107: =Master!$JW$107 -> 5139571.7

Sheet Master
A1: 2015 Aerial Overview Summary for British Columbia by TSA's
A2: Regions | B2: South Coast Region | Z2: West Coast Region | BM2: Cariboo Region | CM2: Thompson Okanagan Region | DV2: Kootenay/Boundary Region | FR2: Skeena Region | HT2: Omineca Region | IR2: Northeast Region
A3: TSA's | B3: Fraser | C3: (TFR) | H3: Soo | I3: (TSO) | N3: Sunshine Coast | P3: (TSC) | T3: SOUTH COAST FOREST TOTAL | Z3: Arrowsmith | AB3: (TAS) | AF3: Kingcome | AG3: (TKC) | AM3: Mid Coast | AN3: (TMC) | AS3: Haida Gwaii | AU3: (THG) | AZ3: Strathcona | BA3: (TST) | BF3: WEST COAST REGION TOTAL | BM3: 100 Mile House | BO3: (TMH) | BS3: Quesnel | BT3: (TQU) | BY3: Williams Lake | BZ3: (TWL) | CF3: CARIBOO REGION TOTAL | CM3: Kamloops | CN3: (TKA) | CT3: Lillooet | CU3: (TLI) | DA3: Merritt | DB3: (TME) | DH3: Okanagan | DI3: (TOK) | DO3: THOMPSON/OKANAGAN REGION TOTAL | DV3: Arrow | DW3: (TAR) | EB3: Boundary | EC3: (TBO) | EH3: Cranbrook | EI3: (TCB) | EN3: Golden | EO3: (TGO) | ET3: Invermere | EU3: (TIN) | EZ3: Kootenay Lake | FA3: (TKL) | FF3: Revelstoke | FG3: (TRE) | FL3: KOOTENAY/BOUNDARY REGION | FR3: Bulkley | FS3: (TBU) | FX3: Cassiar | FY3: (TCA) | GD3: Kalum | GE3: (TKM) | GJ3: Kispiox | GK3: (TKI) | GP3: Lakes | GQ3: (TLA) | GV3: Morice | GW3: (TMO) | HB3: Nass | HC3: (TNA) | HH3: North Coast | HI3: (TNC) | HN3: SKEENA REGION | HT3: MacKenzie | HU3: (TMK) | HZ3: Robson Valley | IB3: (TRV) | IF3: Prince George | IH3: (TPG) | IL3: OMINECA REGION | IR3: Dawson Creek | IT3: (TDC) | IX3: Fort Nelson | IY3: (TFN) | JD3: Fort St. John | JF3: (TJO) | JJ3: NORTHEAST REGION | JQ3: GRAND TOTAL
B4: Trace | C4: Light | D4: Moderate | E4: Severe | F4: Very Sev | G4: Total | H4: Trace | I4: Light | J4: Moderate | K4: Severe | L4: Very Sev | M4: Total | N4: Trace | O4: Light | P4: Moderate | Q4: Severe | R4: Very Sev | S4: Total | T4: Trace | U4: Light | V4: Moderate | W4: Severe | X4: Ver Sev | Y4: Total | Z4: Trace | AA4: Light | AB4: Moderate | AC4: Severe | AD4: Very Sev | AE4: Total | AF4: Trace | AG4: Light | AH4: Moderate | AI4: Severe | AJ4: Very Sev | AK4: Grey | AL4: Total | AM4: Trace | AN4: Light | AO4: Moderate | AP4: Severe | AQ4: Very Sev | AR4: Total | AS4: Trace | AT4: Light | AU4: Moderate | AV4: Severe | AW4: Very Sev | AX4: Grey | AY4: Total | AZ4: Trace | BA4: Light | BB4: Moderate | BC4: Severe | BD4: Very Sev | BE4: Total | BF4: Trace | BG4: Light | BH4: Moderate | BI4: Severe | BJ4: Ver Sev | BK4: Grey | BL4: Total | BM4: Trace | BN4: Light | BO4: Moderate | BP4: Severe | BQ4: Very Sev | BR4: Total | BS4: Trace | BT4: Light | BU4: Moderate | BV4: Severe | BW4: Very Sev | BX4: Total | BY4: Trace | BZ4: Light | CA4: Moderate | CB4: Severe | CC4: Very Sev | CD4: Grey | CE4: Total | CF4: Trace | CG4: Light | CH4: Moderate | CI4: Severe | CJ4: Ver Sev | CK4: Grey | CL4: Total | CM4: Trace | CN4: Light | CO4: Moderate | CP4: Severe | CQ4: Very Sev | CR4: Grey | CS4: Total | CT4: Trace | CU4: Light | CV4: Moderate | CW4: Severe | CX4: Very Sev | CY4: Grey | CZ4: Total | DA4: Trace | DB4: Light | DC4: Moderate | DD4: Severe | DE4: Very Sev | DF4: Grey | DG4: Total | DH4: Trace | DI4: Light | DJ4: Moderate | DK4: Severe | DL4: Very Sev | DM4: Grey | DN4: Total | DO4: Trace | DP4: Light | DQ4: Moderate | DR4: Severe | DS4: Ver Sev | DT4: Grey | DU4: Total | DV4: Trace | DW4: Light | DX4: Moderate | DY4: Severe | DZ4: Very Sev | EA4: Total | EB4: Trace | EC4: Light | ED4: Moderate | EE4: Severe | EF4: Very Sev | EG4: Total | EH4: Trace | EI4: Light | EJ4: Moderate | EK4: Severe | EL4: Very Sev | EM4: Total | EN4: Trace | EO4: Light | EP4: Moderate | EQ4: Severe | ER4: Very Sev | ES4: Total | ET4: Trace | EU4: Light | EV4: Moderate | EW4: Severe | EX4: Very Sev | EY4: Total | EZ4: Trace | FA4: Light | FB4: Moderate | FC4: Severe | FD4: Very Sev | FE4: Total | FF4: Trace | FG4: Light | FH4: Moderate | FI4: Severe | FJ4: Very Sev | FK4: Total | FL4: Trace | FM4: Light | FN4: Moderate | FO4: Severe | FP4: Very Sev | FQ4: TOTAL | FR4: Trace | FS4: Light | FT4: Moderate | FU4: Severe | FV4: Very Sev | FW4: Total | FX4: Trace | FY4: Light | FZ4: Moderate | GA4: Severe | GB4: Very Sev | GC4: Total | GD4: Trace | GE4: Light | GF4: Moderate | GG4: Severe | GH4: Very Sev | GI4: Total | GJ4: Trace | GK4: Light | GL4: Moderate | GM4: Severe | GN4: Very Sev | GO4: Total | GP4: Trace | GQ4: Light | GR4: Moderate | GS4: Severe | GT4: Very Sev | GU4: Total | GV4: Trace | GW4: Light | GX4: Moderate | GY4: Severe | GZ4: Very Sev | HA4: Total | HB4: Trace | HC4: Light | HD4: Moderate | HE4: Severe | HF4: Very Sev | HG4: Total | HH4: Trace | HI4: Light | HJ4: Moderate | HK4: Severe | HL4: Very Sev | HM4: Total | HN4: Trace | HO4: Light | HP4: Moderate | HQ4: Severe | HR4: Very Sev | HS4: TOTAL | HT4: Trace | HU4: Light | HV4: Moderate | HW4: Severe | HX4: Very Sev | HY4: Total | HZ4: Trace | IA4: Light | IB4: Moderate | IC4: Severe | ID4: Very Sev | IE4: Total | IF4: Trace | IG4: Light | IH4: Moderate | II4: Severe | IJ4: Very Sev | IK4: Total | IL4: Trace | IM4: Light | IN4: Moderate | IO4: Severe | IP4: Very Sev | IQ4: TOTAL | IR4: Trace | IS4: Light | IT4: Moderate | IU4: Severe | IV4: Very Sev | IW4: Total | IX4: Trace | IY4: Light | IZ4: Moderate | JA4: Severe | JB4: Very Sev | JC4: Total | JD4: Trace | JE4: Light | JF4: Moderate | JG4: Severe | JH4: Very Sev | JI4: Total | JJ4: Trace | JK4: Light | JL4: Moderate | JM4: Severe | JN4: Very Sev | JO4: TOTAL | JQ4: Trace | JR4: Light | JS4: Moderate | JT4: Severe | JU4: Very Sev | JV4: Grey | JW4: TOTAL
A5: Bark Beetles
A6: IBM=Mountain Pine Beetle | E6: 0.25 | G6: =SUM(B6:F6) -> 0.25 | H6: 46.656733 | I6: 219.37339 | J6: 58.694051 | K6: 8.3172958 | M6: =SUM(H6:L6) -> 333.04147 | S6: =SUM(N6:R6) -> 0 | T6: =SUM(B6,H6,N6) -> 46.656733 | U6: =SUM(C6,I6,O6) -> 219.37339 | V6: =SUM(D6,J6,P6) -> 58.694051 | W6: =SUM(E6,K6,Q6) -> 8.5672958 | X6: =SUM(F6,L6,R6) -> 0 | Y6: =SUM(T6:X6) -> 333.29147 | AE6: =SUM(Z6:AD6) -> 0 | AL6: =SUM(AF6:AJ6) -> 0 | AM6: 19.949636 | AN6: 23.697626 | AP6: 0.75 | AR6: =SUM(AM6:AQ6) -> 44.397263 | AY6: =SUM(AS6:AX6) -> 0 | BE6: =SUM(AZ6:BD6) -> 0 | BF6: =SUM(Z6,AF6,AM6,AS6,AZ6) -> 19.949636 | BG6: =SUM(AA6,AG6,AN6,AT6,BA6) -> 23.697626 | BH6: =SUM(AB6,AH6,AO6,AU6,BB6) -> 0 | BI6: =SUM(AC6,AI6,AP6,AV6,BC6) -> 0.75 | BJ6: =SUM(AD6,AJ6,AQ6,AW6,BD6) -> 0 | BK6: =SUM(AX6) -> 0 | BL6: =SUM(BF6:BK6) -> 44.397263 | BR6: =SUM(BM6:BQ6) -> 0 | BX6: =SUM(BS6:BW6) -> 0 | BY6: 260.0887 | BZ6: 1333.3632 | CA6: 287.63932 | CB6: 18.25 | CE6: =SUM(BY6:CD6) -> 1899.3413 | CF6: =SUM(BM6,BS6,BY6) -> 260.0887 | CG6: =SUM(BN6,BT6,BZ6) -> 1333.3632 | CH6: =SUM(BO6,BU6,CA6) -> 287.63932 | CI6: =SUM(BP6,BV6,CB6) -> 18.25 | CJ6: =SUM(BQ6,BW6,CC6) -> 0 | CK6: =SUM(CD6) -> 0 | CL6: =SUM(CF6:CK6) -> 1899.3413 | CS6: =SUM(CM6:CR6) -> 0 | CT6: 420.6032 | CU6: 3182.3005 | CV6: 2075.4094 | CW6: 157.3433 | CX6: 15.507121 | CZ6: =SUM(CT6:CY6) -> 5851.1634 | DA6: 141.66792 | DB6: 475.62833 | DC6: 20.437368 | DD6: 8 | DG6: =SUM(DA6:DF6) -> 645.73362 | DH6: 560.63068 | DI6: 1296.9319 | DJ6: 145.61792 | DK6: 39.75 | DN6: =SUM(DH6:DM6) -> 2042.9306 | DO6: =SUM(CM6,CT6,DA6,DH6) -> 1122.9018 | DP6: =SUM(CN6,CU6,DB6,DI6) -> 4954.8607 | DQ6: =SUM(CO6,CV6,DC6,DJ6) -> 2241.4646 | DR6: =SUM(CP6,CW6,DD6,DK6) -> 205.0933 | DS6: =SUM(CQ6,CX6,DE6,DL6) -> 15.507121 | DT6: =SUM(CR6,CY6,DF6,DM6) -> 0 | DU6: =SUM(DO6:DT6) -> 8539.8276 | DV6: 662.21028 | DW6: 799.56491 | DX6: 23.680921 | DY6: 51 | EA6: =SUM(DV6:DZ6) -> 1536.4561 | EB6: 6712.9556 | EC6: 7705.9444 | ED6: 2696.7579 | EE6: 293.11933 | EF6: 27.073615 | EG6: =SUM(EB6:EF6) -> 17435.851 | EH6: 242.13755 | EI6: 521.18174 | EJ6: 131.54152 | EK6: 45.21269 | EM6: =SUM(EH6:EL6) -> 940.0735 | EN6: 410.921 | EO6: 878.84185 | EP6: 330.15524 | EQ6: 170.20434 | ER6: 57.902224 | ES6: =SUM(EN6:ER6) -> 1848.0246 | ET6: 1656.6138 | EU6: 1865.7427 | EV6: 1333.759 | EW6: 231.25167 | EY6: =SUM(ET6:EX6) -> 5087.3672 | EZ6: 505.6268 | FA6: 842.63915 | FB6: 766.79793 | FC6: 130.19324 | FE6: =SUM(EZ6:FD6) -> 2245.2571 | FF6: 98.824076 | FG6: 828.68136 | FI6: 6.25 | FK6: =SUM(FF6:FJ6) -> 933.75544 | FL6: =SUM(DV6,EB6,EH6,EN6,ET6,EZ6,FF6) -> 10289.289 | FM6: =SUM(DW6,EC6,EI6,EO6,EU6,FA6,FG6) -> 13442.596 | FN6: =SUM(DX6,ED6,EJ6,EP6,EV6,FB6,FH6) -> 5282.6926 | FO6: =SUM(DY6,EE6,EK6,EQ6,EW6,FC6,FI6) -> 927.23127 | FP6: =SUM(DZ6,EF6,EL6,ER6,EX6,FD6,FJ6) -> 84.975839 | FQ6: =SUM(FL6:FP6) -> 30026.785 | FR6: 1407.4333 | FS6: 4495.6996 | FT6: 2379.6319 | FU6: 126.18508 | FW6: =SUM(FR6:FV6) -> 8408.9498 | GC6: =SUM(FX6:GB6) -> 0 | GD6: 281.54246 | GF6: 20.784576 | GG6: 1.25 | GI6: =SUM(GD6:GH6) -> 303.57703 | GJ6: 305.78438 | GM6: 1.25 | GO6: =SUM(GJ6:GN6) -> 307.03438 | GP6: 470.87704 | GQ6: 227.6067 | GR6: 19.875041 | GS6: 6.5 | GU6: =SUM(GP6:GT6) -> 724.85878 | GV6: 531.18562 | GW6: 181.09041 | GX6: 109.56563 | GY6: 7.25 | HA6: =SUM(GV6:GZ6) -> 829.09166 | HG6: =SUM(HB6:HF6) -> 0 | HM6: =SUM(HH6:HL6) -> 0 | HN6: =SUM(FR6,FX6,GD6,GJ6,GP6,GV6,HB6,HH6) -> 2996.8228 | HO6: =SUM(FS6,FY6,GE6,GK6,GQ6,GW6,HC6,HI6) -> 4904.3967 | HP6: =SUM(HJ6,HD6,GX6,GR6,GL6,GF6,FZ6,FT6) -> 2529.8571 | HQ6: =SUM(HK6,HE6,GY6,GS6,GM6,GG6,GA6,FU6) -> 142.43508 | HR6: =SUM(HL6,HF6,GZ6,GT6,GN6,GH6,GB6,FV6) -> 0 | HS6: =SUM(HN6:HR6) -> 10573.512 | HT6: 28712.822 | HU6: 3215.0343 | HW6: 31.5 | HY6: =SUM(HT6:HX6) -> 31959.356 | HZ6: 7434.1295 | IA6: 21847.304 | IB6: 12887.348 | IC6: 5324.9293 | ID6: 854.88213 | IE6: =SUM(HZ6:ID6) -> 48348.594 | IF6: 10891.611 | IG6: 4412.9585 | IH6: 445.48254 | II6: 14.75 | IK6: =SUM(IF6:IJ6) -> 15764.802 | IL6: =SUM(HT6,HZ6,IF6) -> 47038.563 | IM6: =SUM(HU6,IA6,IG6) -> 29475.297 | IN6: =SUM(HV6,IB6,IH6) -> 13332.831 | IO6: =SUM(HW6,IC6,II6) -> 5371.1793 | IP6: =SUM(HX6,ID6,IJ6) -> 854.88213 | IQ6: =SUM(IL6:IP6) -> 96072.752 | IR6: 6167.8792 | IS6: 5272.9773 | IT6: 6052.4707 | IU6: 705.28557 | IW6: =SUM(IR6:IV6) -> 18198.613 | IX6: 21743.598 | IY6: 7721.0044 | IZ6: 231.55266 | JA6: 44.25 | JC6: =SUM(IX6:JB6) -> 29740.405 | JD6: 76375 | JE6: 52465.167 | JF6: 1926.9544 | JG6: 280.54183 | JI6: =SUM(JD6:JH6) -> 131047.66 | JJ6: =SUM(IR6,IX6,JD6) -> 104286.48 | JK6: =SUM(IS6,IY6,JE6) -> 65459.149 | JL6: =SUM(IT6,IZ6,JF6) -> 8210.9778 | JM6: =SUM(IU6,JA6,JG6) -> 1030.0774 | JN6: =SUM(IV6,JB6,JH6) -> 0 | JO6: =SUM(JJ6:JN6) -> 178986.68 | JQ6: =SUM(T6,BF6,CF6,DO6,FL6,HN6,IL6,JJ6) -> 166060.75 | JR6: =SUM(U6,BG6,CG6,DP6,FM6,HO6,IM6,JK6) -> 119812.73 | JS6: =SUM(V6,BH6,CH6,DQ6,FN6,HP6,IN6,JL6) -> 31944.156 | JT6: =SUM(W6,BI6,CI6,DR6,FO6,HQ6,IO6,JM6) -> 7703.5837 | JU6: =SUM(X6,BJ6,CJ6,DS6,FP6,HR6,IP6,JN6) -> 955.36509 | JV6: =SUM(DT6,BK6,CK6) -> 0 | JW6: =SUM(JQ6:JV6) -> 326476.59
A7: IBS=Spruce Beetle | D7: 119.0574 | E7: 0.6764011 | G7: =SUM(B7:F7) -> 119.7338 | H7: 74.270307 | I7: 5.0396915 | J7: 2.2750366 | K7: 1.25 | M7: =SUM(H7:L7) -> 82.835035 | S7: =SUM(N7:R7) -> 0 | T7: =SUM(B7,H7,N7) -> 74.270307 | U7: =SUM(C7,I7,O7) -> 5.0396915 | V7: =SUM(D7,J7,P7) -> 121.33244 | W7: =SUM(E7,K7,Q7) -> 1.9264011 | X7: =SUM(F7,L7,R7) -> 0 | Y7: =SUM(T7:X7) -> 202.56884 | Z7: 18.889621 | AC7: 0.25 | AE7: =SUM(Z7:AD7) -> 19.139621 | AF7: 34.673671 | AG7: 2.6531758 | AI7: 4.5 | AL7: =SUM(AF7:AJ7) -> 41.826846 | AM7: 47.431427 | AN7: 155.46162 | AO7: 8.9587843 | AP7: 17.841057 | AR7: =SUM(AM7:AQ7) -> 229.69289 | AS7: 1291.3469 | AY7: =SUM(AS7:AX7) -> 1291.3469 | AZ7: 64.282659 | BB7: 13.773036 | BC7: 3.25 | BE7: =SUM(AZ7:BD7) -> 81.305695 | BF7: =SUM(Z7,AF7,AM7,AS7,AZ7) -> 1456.6242 | BG7: =SUM(AA7,AG7,AN7,AT7,BA7) -> 158.1148 | BH7: =SUM(AB7,AH7,AO7,AU7,BB7) -> 22.73182 | BI7: =SUM(AC7,AI7,AP7,AV7,BC7) -> 25.841057 | BJ7: =SUM(AD7,AJ7,AQ7,AW7,BD7) -> 0 | BK7: =SUM(AX7) -> 0 | BL7: =SUM(BF7:BK7) -> 1663.3119 | BN7: 215.18591 | BP7: 0.75 | BR7: =SUM(BM7:BQ7) -> 215.93591 | BS7: 30.737964 | BT7: 22.992408 | BU7: 11.395442 | BV7: 45.780325 | BX7: =SUM(BS7:BW7) -> 110.90614 | BY7: 86.381225 | BZ7: 2088.1966 | CA7: 348.63792 | CB7: 50.014452 | CE7: =SUM(BY7:CD7) -> 2573.2302 | CF7: =SUM(BM7,BS7,BY7) -> 117.11919 | CG7: =SUM(BN7,BT7,BZ7) -> 2326.3749 | CH7: =SUM(BO7,BU7,CA7) -> 360.03337 | CI7: =SUM(BP7,BV7,CB7) -> 96.544777 | CJ7: =SUM(BQ7,BW7,CC7) -> 0 | CK7: =SUM(CD7) -> 0 | CL7: =SUM(CF7:CK7) -> 2900.0722 | CN7: 371.41062 | CO7: 900.18074 | CP7: 89.602805 | CQ7: 17.024025 | CS7: =SUM(CM7:CR7) -> 1378.2182 | CU7: 424.10741 | CV7: 2191.7841 | CW7: 513.32413 | CZ7: =SUM(CT7:CY7) -> 3129.2156 | DB7: 62.512722 | DC7: 591.25549 | DD7: 62.606302 | DE7: 7.5514633 | DG7: =SUM(DA7:DF7) -> 723.92597 | DI7: 21.937339 | DJ7: 41.924 | DN7: =SUM(DH7:DM7) -> 63.861339 | DO7: =SUM(CM7,CT7,DA7,DH7) -> 0 | DP7: =SUM(CN7,CU7,DB7,DI7) -> 879.9681 | DQ7: =SUM(CO7,CV7,DC7,DJ7) -> 3725.1443 | DR7: =SUM(CP7,CW7,DD7,DK7) -> 665.53324 | DS7: =SUM(CQ7,CX7,DE7,DL7) -> 24.575488 | DT7: =SUM(CR7,CY7,DF7,DM7) -> 0 | DU7: =SUM(DO7:DT7) -> 5295.2211 | DW7: 37.485764 | EA7: =SUM(DV7:DZ7) -> 37.485764 | EG7: =SUM(EB7:EF7) -> 0 | EI7: 61.09907 | EJ7: 124.58116 | EK7: 0.75 | EM7: =SUM(EH7:EL7) -> 186.43023 | EN7: 262.04445 | EO7: 423.83324 | EP7: 331.65884 | EQ7: 52.787083 | ES7: =SUM(EN7:ER7) -> 1070.3236 | ET7: 924.28943 | EU7: 558.3153 | EV7: 1294.4053 | EW7: 734.3019 | EX7: 233.99297 | EY7: =SUM(ET7:EX7) -> 3745.3049 | FB7: 44.131817 | FC7: 0.25 | FE7: =SUM(EZ7:FD7) -> 44.381817 | FG7: 36.449235 | FH7: 69.684707 | FI7: 0.25 | FK7: =SUM(FF7:FJ7) -> 106.38394 | FL7: =SUM(DV7,EB7,EH7,EN7,ET7,EZ7,FF7) -> 1186.3339 | FM7: =SUM(DW7,EC7,EI7,EO7,EU7,FA7,FG7) -> 1117.1826 | FN7: =SUM(DX7,ED7,EJ7,EP7,EV7,FB7,FH7) -> 1864.4618 | FO7: =SUM(DY7,EE7,EK7,EQ7,EW7,FC7,FI7) -> 788.33899 | FP7: =SUM(DZ7,EF7,EL7,ER7,EX7,FD7,FJ7) -> 233.99297 | FQ7: =SUM(FL7:FP7) -> 5190.3102 | FS7: 221.85864 | FT7: 528.01264 | FU7: 29.001238 | FW7: =SUM(FR7:FV7) -> 778.87252 | FX7: 136.75957 | FY7: 36.218406 | GC7: =SUM(FX7:GB7) -> 172.97797 | GE7: 2.9779968 | GG7: 9.5870214 | GI7: =SUM(GD7:GH7) -> 12.565018 | GJ7: 2295.7381 | GL7: 69.796791 | GM7: 2.75 | GO7: =SUM(GJ7:GN7) -> 2368.2849 | GP7: 80.569482 | GQ7: 779.80141 | GR7: 312.41522 | GS7: 112.08912 | GU7: =SUM(GP7:GT7) -> 1284.8752 | GV7: 1709.8309 | GW7: 833.41647 | GX7: 102.36602 | GY7: 3.25 | HA7: =SUM(GV7:GZ7) -> 2648.8634 | HC7: 1135.2257 | HE7: 4.5 | HG7: =SUM(HB7:HF7) -> 1139.7257 | HM7: =SUM(HH7:HL7) -> 0 | HN7: =SUM(FR7,FX7,GD7,GJ7,GP7,GV7,HB7,HH7) -> 4222.898 | HO7: =SUM(FS7,FY7,GE7,GK7,GQ7,GW7,HC7,HI7) -> 3009.4987 | HP7: =SUM(HJ7,HD7,GX7,GR7,GL7,GF7,FZ7,FT7) -> 1012.5907 | HQ7: =SUM(HK7,HE7,GY7,GS7,GM7,GG7,GA7,FU7) -> 161.17738 | HR7: =SUM(HL7,HF7,GZ7,GT7,GN7,GH7,GB7,FV7) -> 0 | HS7: =SUM(HN7:HR7) -> 8406.1648 | HT7: 11318.064 | HU7: 24534.407 | HV7: 24417.373 | HW7: 1906.7822 | HY7: =SUM(HT7:HX7) -> 62176.626 | IA7: 110.35103 | IC7: 2.5 | IE7: =SUM(HZ7:ID7) -> 112.85103 | IF7: 14718.256 | IG7: 43850.872 | IH7: 26328.358 | II7: 8870.4397 | IK7: =SUM(IF7:IJ7) -> 93767.926 | IL7: =SUM(HT7,HZ7,IF7) -> 26036.319 | IM7: =SUM(HU7,IA7,IG7) -> 68495.63 | IN7: =SUM(HV7,IB7,IH7) -> 50745.732 | IO7: =SUM(HW7,IC7,II7) -> 10779.722 | IP7: =SUM(HX7,ID7,IJ7) -> 0 | IQ7: =SUM(IL7:IP7) -> 156057.4 | IR7: 5179.2924 | IS7: 4094.5017 | IT7: 160.01493 | IU7: 5.75 | IW7: =SUM(IR7:IV7) -> 9439.5591 | IX7: 114.48611 | IY7: 1620.564 | JA7: 6 | JC7: =SUM(IX7:JB7) -> 1741.0501 | JD7: 673.77228 | JE7: 2008.7765 | JG7: 471.94133 | JI7: =SUM(JD7:JH7) -> 3154.4902 | JJ7: =SUM(IR7,IX7,JD7) -> 5967.5508 | JK7: =SUM(IS7,IY7,JE7) -> 7723.8423 | JL7: =SUM(IT7,IZ7,JF7) -> 160.01493 | JM7: =SUM(IU7,JA7,JG7) -> 483.69133 | JN7: =SUM(IV7,JB7,JH7) -> 0 | JO7: =SUM(JJ7:JN7) -> 14335.099 | JQ7: =SUM(T7,BF7,CF7,DO7,FL7,HN7,IL7,JJ7) -> 39061.116 | JR7: =SUM(U7,BG7,CG7,DP7,FM7,HO7,IM7,JK7) -> 83715.652 | JS7: =SUM(V7,BH7,CH7,DQ7,FN7,HP7,IN7,JL7) -> 58012.041 | JT7: =SUM(W7,BI7,CI7,DR7,FO7,HQ7,IO7,JM7) -> 13002.775 | JU7: =SUM(X7,BJ7,CJ7,DS7,FP7,HR7,IP7,JN7) -> 258.56846 | JV7: =SUM(DT7,BK7,CK7) -> 0 | JW7: =SUM(JQ7:JV7) -> 194050.15
A8: IBB=Western Balsam Bark Beetle | B8: 4239.4238 | C8: 285.78454 | D8: 70.626098 | E8: 4.25 | G8: =SUM(B8:F8) -> 4600.0844 | H8: 12063.843 | I8: 2857.7428 | J8: 74.440249 | K8: 13.812624 | M8: =SUM(H8:L8) -> 15009.839 | N8: 737.18117 | O8: 915.46048 | P8: 802.25533 | Q8: 7.5 | S8: =SUM(N8:R8) -> 2462.397 | T8: =SUM(B8,H8,N8) -> 17040.448 | U8: =SUM(C8,I8,O8) -> 4058.9878 | V8: =SUM(D8,J8,P8) -> 947.32168 | W8: =SUM(E8,K8,Q8) -> 25.562624 | X8: =SUM(F8,L8,R8) -> 0 | Y8: =SUM(T8:X8) -> 22072.32 | AC8: 0.75 | AE8: =SUM(Z8:AD8) -> 0.75 | AF8: 1324.3259 | AG8: 945.20938 | AH8: 35.430552 | AI8: 12.954286 | AL8: =SUM(AF8:AJ8) -> 2317.9201 | AM8: 11864.421 | AN8: 2882.6453 | AO8: 33.637869 | AP8: 8 | AR8: =SUM(AM8:AQ8) -> 14788.704 | AY8: =SUM(AS8:AX8) -> 0 | AZ8: 78.282193 | BA8: 22.67937 | BC8: 3.25 | BE8: =SUM(AZ8:BD8) -> 104.21156 | BF8: =SUM(Z8,AF8,AM8,AS8,AZ8) -> 13267.029 | BG8: =SUM(AA8,AG8,AN8,AT8,BA8) -> 3850.5341 | BH8: =SUM(AB8,AH8,AO8,AU8,BB8) -> 69.068421 | BI8: =SUM(AC8,AI8,AP8,AV8,BC8) -> 24.954286 | BJ8: =SUM(AD8,AJ8,AQ8,AW8,BD8) -> 0 | BK8: =SUM(AX8) -> 0 | BL8: =SUM(BF8:BK8) -> 17211.586 | BM8: 2978.1233 | BN8: 714.89979 | BR8: =SUM(BM8:BQ8) -> 3693.0231 | BS8: 1825.3136 | BT8: 4993.4712 | BU8: 16.671405 | BV8: 2.5 | BX8: =SUM(BS8:BW8) -> 6837.9562 | BY8: 10724.71 | BZ8: 16677.303 | CA8: 836.88969 | CB8: 6 | CE8: =SUM(BY8:CD8) -> 28244.903 | CF8: =SUM(BM8,BS8,BY8) -> 15528.147 | CG8: =SUM(BN8,BT8,BZ8) -> 22385.674 | CH8: =SUM(BO8,BU8,CA8) -> 853.5611 | CI8: =SUM(BP8,BV8,CB8) -> 8.5 | CJ8: =SUM(BQ8,BW8,CC8) -> 0 | CK8: =SUM(CD8) -> 0 | CL8: =SUM(CF8:CK8) -> 38775.882 | CM8: 98712.306 | CN8: 3667.3197 | CS8: =SUM(CM8:CR8) -> 102379.63 | CT8: 12835.968 | CU8: 344.48639 | CV8: 30.91136 | CW8: 0.5 | CZ8: =SUM(CT8:CY8) -> 13211.865 | DA8: 15778.401 | DB8: 92.947051 | DG8: =SUM(DA8:DF8) -> 15871.348 | DH8: 55686.679 | DI8: 224.68941 | DN8: =SUM(DH8:DM8) -> 55911.368 | DO8: =SUM(CM8,CT8,DA8,DH8) -> 183013.35 | DP8: =SUM(CN8,CU8,DB8,DI8) -> 4329.4426 | DQ8: =SUM(CO8,CV8,DC8,DJ8) -> 30.91136 | DR8: =SUM(CP8,CW8,DD8,DK8) -> 0.5 | DS8: =SUM(CQ8,CX8,DE8,DL8) -> 0 | DT8: =SUM(CR8,CY8,DF8,DM8) -> 0 | DU8: =SUM(DO8:DT8) -> 187374.21 | DV8: 2529.5605 | DW8: 654.12356 | DY8: 7.75 | EA8: =SUM(DV8:DZ8) -> 3191.4341 | EB8: 1670.6262 | EC8: 7.8055317 | EE8: 0.75 | EG8: =SUM(EB8:EF8) -> 1679.1817 | EH8: 1491.9268 | EI8: 521.80609 | EJ8: 96.858612 | EK8: 3.75 | EM8: =SUM(EH8:EL8) -> 2114.3415 | EN8: 3598.9409 | EO8: 2134.8108 | EP8: 494.68464 | EQ8: 3.5 | ES8: =SUM(EN8:ER8) -> 6231.9364 | ET8: 4271.9963 | EU8: 1194.4984 | EV8: 277.40753 | EW8: 9.5 | EY8: =SUM(ET8:EX8) -> 5753.4023 | EZ8: 1138.9427 | FA8: 215.02069 | FB8: 20.661036 | FC8: 3 | FE8: =SUM(EZ8:FD8) -> 1377.6245 | FF8: 641.91028 | FG8: 54.92886 | FI8: 1.5 | FK8: =SUM(FF8:FJ8) -> 698.33915 | FL8: =SUM(DV8,EB8,EH8,EN8,ET8,EZ8,FF8) -> 15343.904 | FM8: =SUM(DW8,EC8,EI8,EO8,EU8,FA8,FG8) -> 4782.994 | FN8: =SUM(DX8,ED8,EJ8,EP8,EV8,FB8,FH8) -> 889.61182 | FO8: =SUM(DY8,EE8,EK8,EQ8,EW8,FC8,FI8) -> 29.75 | FP8: =SUM(DZ8,EF8,EL8,ER8,EX8,FD8,FJ8) -> 0 | FQ8: =SUM(FL8:FP8) -> 21046.26 | FR8: 202295.36 | FS8: 9142.0133 | FT8: 264.98109 | FU8: 6.25 | FW8: =SUM(FR8:FV8) -> 211708.6 | FX8: 8302.2964 | FY8: 1847.4863 | GA8: 14.75 | GC8: =SUM(FX8:GB8) -> 10164.533 | GD8: 3966.5177 | GG8: 4.25 | GI8: =SUM(GD8:GH8) -> 3970.7677 | GJ8: 214551.73 | GK8: 3477.8489 | GM8: 8.25 | GO8: =SUM(GJ8:GN8) -> 218037.83 | GP8: 77395.786 | GQ8: 14225.074 | GR8: 253.46665 | GS8: 29.75 | GU8: =SUM(GP8:GT8) -> 91904.077 | GV8: 168990.44 | GW8: 29741.103 | GX8: 3093.9526 | GY8: 1100.1743 | HA8: =SUM(GV8:GZ8) -> 202925.67 | HB8: 75096.696 | HC8: 877.838 | HE8: 11 | HG8: =SUM(HB8:HF8) -> 75985.534 | HK8: 2.5 | HM8: =SUM(HH8:HL8) -> 2.5 | HN8: =SUM(FR8,FX8,GD8,GJ8,GP8,GV8,HB8,HH8) -> 750598.83 | HO8: =SUM(FS8,FY8,GE8,GK8,GQ8,GW8,HC8,HI8) -> 59311.363 | HP8: =SUM(HJ8,HD8,GX8,GR8,GL8,GF8,FZ8,FT8) -> 3612.4003 | HQ8: =SUM(HK8,HE8,GY8,GS8,GM8,GG8,GA8,FU8) -> 1176.9243 | HR8: =SUM(HL8,HF8,GZ8,GT8,GN8,GH8,GB8,FV8) -> 0 | HS8: =SUM(HN8:HR8) -> 814699.52 | HT8: 227401.32 | HU8: 156037.33 | HV8: 6749.1301 | HW8: 57 | HY8: =SUM(HT8:HX8) -> 390244.78 | HZ8: 11567.631 | IA8: 5024.5477 | IC8: 6.25 | IE8: =SUM(HZ8:ID8) -> 16598.428 | IF8: 439336.95 | IG8: 151426.48 | IH8: 37299.537 | II8: 1148.4619 | IK8: =SUM(IF8:IJ8) -> 629211.43 | IL8: =SUM(HT8,HZ8,IF8) -> 678305.9 | IM8: =SUM(HU8,IA8,IG8) -> 312488.35 | IN8: =SUM(HV8,IB8,IH8) -> 44048.667 | IO8: =SUM(HW8,IC8,II8) -> 1211.7119 | IP8: =SUM(HX8,ID8,IJ8) -> 0 | IQ8: =SUM(IL8:IP8) -> 1036054.6 | IR8: 114584.28 | IS8: 12565.408 | IU8: 85.75 | IW8: =SUM(IR8:IV8) -> 127235.43 | IX8: 39562.488 | IY8: 3902.4767 | JA8: 58.5 | JC8: =SUM(IX8:JB8) -> 43523.465 | JD8: 34015.896 | JE8: 7447.378 | JG8: 13.25 | JI8: =SUM(JD8:JH8) -> 41476.524 | JJ8: =SUM(IR8,IX8,JD8) -> 188162.66 | JK8: =SUM(IS8,IY8,JE8) -> 23915.263 | JL8: =SUM(IT8,IZ8,JF8) -> 0 | JM8: =SUM(IU8,JA8,JG8) -> 157.5 | JN8: =SUM(IV8,JB8,JH8) -> 0 | JO8: =SUM(JJ8:JN8) -> 212235.42 | JQ8: =SUM(T8,BF8,CF8,DO8,FL8,HN8,IL8,JJ8) -> 1861260.3 | JR8: =SUM(U8,BG8,CG8,DP8,FM8,HO8,IM8,JK8) -> 435122.61 | JS8: =SUM(V8,BH8,CH8,DQ8,FN8,HP8,IN8,JL8) -> 50451.542 | JT8: =SUM(W8,BI8,CI8,DR8,FO8,HQ8,IO8,JM8) -> 2635.4031 | JU8: =SUM(X8,BJ8,CJ8,DS8,FP8,HR8,IP8,JN8) -> 0 | JV8: =SUM(DT8,BK8,CK8) -> 0 | JW8: =SUM(JQ8:JV8) -> 2349469.8
A9: IBD=Douglas-fir Beetle | B9: 3351.1816 | C9: 214.69413 | D9: 622.61502 | E9: 83.230598 | G9: =SUM(B9:F9) -> 4271.7214 | H9: 303.03585 | I9: 44.732893 | J9: 47.000212 | K9: 68.725915 | M9: =SUM(H9:L9) -> 463.49487 | O9: 112.10951 | P9: 47.013167 | Q9: 14.5 | S9: =SUM(N9:R9) -> 173.62267 | T9: =SUM(B9,H9,N9) -> 3654.2175 | U9: =SUM(C9,I9,O9) -> 371.53653 | V9: =SUM(D9,J9,P9) -> 716.6284 | W9: =SUM(E9,K9,Q9) -> 166.45651 | X9: =SUM(F9,L9,R9) -> 0 | Y9: =SUM(T9:X9) -> 4908.8389 | Z9: 65.338625 | AA9: 169.42295 | AB9: 6.0934959 | AC9: 25.75 | AE9: =SUM(Z9:AD9) -> 266.60507 | AF9: 194.4685 | AG9: 25.396588 | AH9: 5.7560607 | AI9: 24 | AL9: =SUM(AF9:AJ9) -> 249.62115 | AN9: 246.40513 | AO9: 38.364996 | AP9: 23 | AR9: =SUM(AM9:AQ9) -> 307.77013 | AY9: =SUM(AS9:AX9) -> 0 | AZ9: 141.89569 | BA9: 143.71169 | BB9: 47.430458 | BC9: 155.71938 | BE9: =SUM(AZ9:BD9) -> 488.75722 | BF9: =SUM(Z9,AF9,AM9,AS9,AZ9) -> 401.70282 | BG9: =SUM(AA9,AG9,AN9,AT9,BA9) -> 584.93636 | BH9: =SUM(AB9,AH9,AO9,AU9,BB9) -> 97.64501 | BI9: =SUM(AC9,AI9,AP9,AV9,BC9) -> 228.46938 | BJ9: =SUM(AD9,AJ9,AQ9,AW9,BD9) -> 0 | BK9: =SUM(AX9) -> 0 | BL9: =SUM(BF9:BK9) -> 1312.7536 | BM9: 913.57038 | BN9: 4005.3119 | BO9: 183.39506 | BP9: 444.83639 | BR9: =SUM(BM9:BQ9) -> 5547.1137 | BS9: 6.3548515 | BT9: 182.59663 | BU9: 55.631471 | BV9: 56.75 | BX9: =SUM(BS9:BW9) -> 301.33295 | BY9: 638.87525 | BZ9: 23242.987 | CA9: 2891.8636 | CB9: 629.66588 | CE9: =SUM(BY9:CD9) -> 27403.392 | CF9: =SUM(BM9,BS9,BY9) -> 1558.8005 | CG9: =SUM(BN9,BT9,BZ9) -> 27430.896 | CH9: =SUM(BO9,BU9,CA9) -> 3130.8901 | CI9: =SUM(BP9,BV9,CB9) -> 1131.2523 | CJ9: =SUM(BQ9,BW9,CC9) -> 0 | CK9: =SUM(CD9) -> 0 | CL9: =SUM(CF9:CK9) -> 33251.838 | CN9: 293.86844 | CO9: 438.6589 | CP9: 274.6862 | CQ9: 2.8603068 | CS9: =SUM(CM9:CR9) -> 1010.0738 | CU9: 985.20806 | CV9: 932.59808 | CW9: 272.13828 | CX9: 57.688417 | CZ9: =SUM(CT9:CY9) -> 2247.6328 | DB9: 153.74412 | DC9: 164.24378 | DD9: 170.28614 | DE9: 11.266091 | DG9: =SUM(DA9:DF9) -> 499.54013 | DI9: 543.25353 | DJ9: 463.89727 | DK9: 396.25011 | DL9: 46.713154 | DN9: =SUM(DH9:DM9) -> 1450.1141 | DO9: =SUM(CM9,CT9,DA9,DH9) -> 0 | DP9: =SUM(CN9,CU9,DB9,DI9) -> 1976.0741 | DQ9: =SUM(CO9,CV9,DC9,DJ9) -> 1999.398 | DR9: =SUM(CP9,CW9,DD9,DK9) -> 1113.3607 | DS9: =SUM(CQ9,CX9,DE9,DL9) -> 118.52797 | DT9: =SUM(CR9,CY9,DF9,DM9) -> 0 | DU9: =SUM(DO9:DT9) -> 5207.3609 | DW9: 191.47927 | DX9: 41.012082 | DY9: 31.5 | EA9: =SUM(DV9:DZ9) -> 263.99136 | EB9: 172.91887 | EC9: 86.922289 | EE9: 13.5 | EG9: =SUM(EB9:EF9) -> 273.34116 | EH9: 17.676721 | EI9: 127.16613 | EK9: 34 | EM9: =SUM(EH9:EL9) -> 178.84285 | EN9: 54.896576 | EO9: 11.180088 | EP9: 20.023562 | EQ9: 16.920225 | ES9: =SUM(EN9:ER9) -> 103.02045 | EU9: 314.48903 | EV9: 215.71467 | EW9: 80.432149 | EY9: =SUM(ET9:EX9) -> 610.63585 | FA9: 54.27552 | FB9: 16.68761 | FC9: 19.25 | FE9: =SUM(EZ9:FD9) -> 90.213131 | FF9: 48.642795 | FG9: 64.639497 | FI9: 7.5 | FK9: =SUM(FF9:FJ9) -> 120.78229 | FL9: =SUM(DV9,EB9,EH9,EN9,ET9,EZ9,FF9) -> 294.13496 | FM9: =SUM(DW9,EC9,EI9,EO9,EU9,FA9,FG9) -> 850.15182 | FN9: =SUM(DX9,ED9,EJ9,EP9,EV9,FB9,FH9) -> 293.43793 | FO9: =SUM(DY9,EE9,EK9,EQ9,EW9,FC9,FI9) -> 203.10237 | FP9: =SUM(DZ9,EF9,EL9,ER9,EX9,FD9,FJ9) -> 0 | FQ9: =SUM(FL9:FP9) -> 1640.8271 | FW9: =SUM(FR9:FV9) -> 0 | GC9: =SUM(FX9:GB9) -> 0 | GI9: =SUM(GD9:GH9) -> 0 | GO9: =SUM(GJ9:GN9) -> 0 | GS9: 1.25 | GU9: =SUM(GP9:GT9) -> 1.25 | HA9: =SUM(GV9:GZ9) -> 0 | HG9: =SUM(HB9:HF9) -> 0 | HM9: =SUM(HH9:HL9) -> 0 | HN9: =SUM(FR9,FX9,GD9,GJ9,GP9,GV9,HB9,HH9) -> 0 | HO9: =SUM(FS9,FY9,GE9,GK9,GQ9,GW9,HC9,HI9) -> 0 | HP9: =SUM(HJ9,HD9,GX9,GR9,GL9,GF9,FZ9,FT9) -> 0 | HQ9: =SUM(HK9,HE9,GY9,GS9,GM9,GG9,GA9,FU9) -> 1.25 | HR9: =SUM(HL9,HF9,GZ9,GT9,GN9,GH9,GB9,FV9) -> 0 | HS9: =SUM(HN9:HR9) -> 1.25 | HW9: 0.25 | HY9: =SUM(HT9:HX9) -> 0.25 | IE9: =SUM(HZ9:ID9) -> 0 | IF9: 132.22809 | IG9: 630.88053 | IH9: 485.44541 | II9: 55.845333 | IK9: =SUM(IF9:IJ9) -> 1304.3994 | IL9: =SUM(HT9,HZ9,IF9) -> 132.22809 | IM9: =SUM(HU9,IA9,IG9) -> 630.88053 | IN9: =SUM(HV9,IB9,IH9) -> 485.44541 | IO9: =SUM(HW9,IC9,II9) -> 56.095333 | IP9: =SUM(HX9,ID9,IJ9) -> 0 | IQ9: =SUM(IL9:IP9) -> 1304.6494 | IW9: =SUM(IR9:IV9) -> 0 | JC9: =SUM(IX9:JB9) -> 0 | JI9: =SUM(JD9:JH9) -> 0 | JJ9: =SUM(IR9,IX9,JD9) -> 0 | JK9: =SUM(IS9,IY9,JE9) -> 0 | JL9: =SUM(IT9,IZ9,JF9) -> 0 | JM9: =SUM(IU9,JA9,JG9) -> 0 | JN9: =SUM(IV9,JB9,JH9) -> 0 | JO9: =SUM(JJ9:JN9) -> 0 | JQ9: =SUM(T9,BF9,CF9,DO9,FL9,HN9,IL9,JJ9) -> 6041.0838 | JR9: =SUM(U9,BG9,CG9,DP9,FM9,HO9,IM9,JK9) -> 31844.475 | JS9: =SUM(V9,BH9,CH9,DQ9,FN9,HP9,IN9,JL9) -> 6723.4449 | JT9: =SUM(W9,BI9,CI9,DR9,FO9,HQ9,IO9,JM9) -> 2899.9866 | JU9: =SUM(X9,BJ9,CJ9,DS9,FP9,HR9,IP9,JN9) -> 118.52797 | JV9: =SUM(DT9,BK9,CK9) -> 0 | JW9: =SUM(JQ9:JV9) -> 47627.518
A10: IBF = Fir engraver Beetle | G10: =SUM(B10:F10) -> 0 | M10: =SUM(H10:L10) -> 0 | S10: =SUM(N10:R10) -> 0 | T10: =SUM(B10,H10,N10) -> 0 | U10: =SUM(C10,I10,O10) -> 0 | V10: =SUM(D10,J10,P10) -> 0 | W10: =SUM(E10,K10,Q10) -> 0 | X10: =SUM(F10,L10,R10) -> 0 | Y10: =SUM(T10:X10) -> 0 | AE10: =SUM(Z10:AD10) -> 0 | AL10: =SUM(AF10:AJ10) -> 0 | AR10: =SUM(AM10:AQ10) -> 0 | AY10: =SUM(AS10:AX10) -> 0 | BE10: =SUM(AZ10:BD10) -> 0 | BF10: =SUM(Z10,AF10,AM10,AS10,AZ10) -> 0 | BG10: =SUM(AA10,AG10,AN10,AT10,BA10) -> 0 | BH10: =SUM(AB10,AH10,AO10,AU10,BB10) -> 0 | BI10: =SUM(AC10,AI10,AP10,AV10,BC10) -> 0 | BJ10: =SUM(AD10,AJ10,AQ10,AW10,BD10) -> 0 | BK10: =SUM(AX10) -> 0 | BL10: =SUM(BF10:BK10) -> 0 | BR10: =SUM(BM10:BQ10) -> 0 | BX10: =SUM(BS10:BW10) -> 0 | CE10: =SUM(BY10:CD10) -> 0 | CF10: =SUM(BM10,BS10,BY10) -> 0 | CG10: =SUM(BN10,BT10,BZ10) -> 0 | CH10: =SUM(BO10,BU10,CA10) -> 0 | CI10: =SUM(BP10,BV10,CB10) -> 0 | CJ10: =SUM(BQ10,BW10,CC10) -> 0 | CK10: =SUM(CD10) -> 0 | CL10: =SUM(CF10:CK10) -> 0 | CS10: =SUM(CM10:CR10) -> 0 | CZ10: =SUM(CT10:CY10) -> 0 | DG10: =SUM(DA10:DF10) -> 0 | DN10: =SUM(DH10:DM10) -> 0 | DO10: =SUM(CM10,CT10,DA10,DH10) -> 0 | DP10: =SUM(CN10,CU10,DB10,DI10) -> 0 | DQ10: =SUM(CO10,CV10,DC10,DJ10) -> 0 | DR10: =SUM(CP10,CW10,DD10,DK10) -> 0 | DS10: =SUM(CQ10,CX10,DE10,DL10) -> 0 | DT10: =SUM(CR10,CY10,DF10,DM10) -> 0 | DU10: =SUM(DO10:DT10) -> 0 | EA10: =SUM(DV10:DZ10) -> 0 | EG10: =SUM(EB10:EF10) -> 0 | EM10: =SUM(EH10:EL10) -> 0 | ES10: =SUM(EN10:ER10) -> 0 | EY10: =SUM(ET10:EX10) -> 0 | FE10: =SUM(EZ10:FD10) -> 0 | FK10: =SUM(FF10:FJ10) -> 0 | FL10: =SUM(DV10,EB10,EH10,EN10,ET10,EZ10,FF10) -> 0 | FM10: =SUM(DW10,EC10,EI10,EO10,EU10,FA10,FG10) -> 0 | FN10: =SUM(DX10,ED10,EJ10,EP10,EV10,FB10,FH10) -> 0 | FO10: =SUM(DY10,EE10,EK10,EQ10,EW10,FC10,FI10) -> 0 | FP10: =SUM(DZ10,EF10,EL10,ER10,EX10,FD10,FJ10) -> 0 | FQ10: =SUM(FL10:FP10) -> 0 | FW10: =SUM(FR10:FV10) -> 0 | GC10: =SUM(FX10:GB10) -> 0 | GI10: =SUM(GD10:GH10) -> 0 | GO10: =SUM(GJ10:GN10) -> 0 | GU10: =SUM(GP10:GT10) -> 0 | HA10: =SUM(GV10:GZ10) -> 0 | HG10: =SUM(HB10:HF10) -> 0 | HM10: =SUM(HH10:HL10) -> 0 | HN10: =SUM(FR10,FX10,GD10,GJ10,GP10,GV10,HB10,HH10) -> 0 | HO10: =SUM(FS10,FY10,GE10,GK10,GQ10,GW10,HC10,HI10) -> 0 | HP10: =SUM(HJ10,HD10,GX10,GR10,GL10,GF10,FZ10,FT10) -> 0 | HQ10: =SUM(HK10,HE10,GY10,GS10,GM10,GG10,GA10,FU10) -> 0 | HR10: =SUM(HL10,HF10,GZ10,GT10,GN10,GH10,GB10,FV10) -> 0 | HS10: =SUM(HN10:HR10) -> 0 | HY10: =SUM(HT10:HX10) -> 0 | IE10: =SUM(HZ10:ID10) -> 0 | IK10: =SUM(IF10:IJ10) -> 0 | IL10: =SUM(HT10,HZ10,IF10) -> 0 | IM10: =SUM(HU10,IA10,IG10) -> 0 | IN10: =SUM(HV10,IB10,IH10) -> 0 | IO10: =SUM(HW10,IC10,II10) -> 0 | IP10: =SUM(HX10,ID10,IJ10) -> 0 | IQ10: =SUM(IL10:IP10) -> 0 | IW10: =SUM(IR10:IV10) -> 0 | JC10: =SUM(IX10:JB10) -> 0 | JI10: =SUM(JD10:JH10) -> 0 | JJ10: =SUM(IR10,IX10,JD10) -> 0 | JK10: =SUM(IS10,IY10,JE10) -> 0 | JL10: =SUM(IT10,IZ10,JF10) -> 0 | JM10: =SUM(IU10,JA10,JG10) -> 0 | JN10: =SUM(IV10,JB10,JH10) -> 0 | JO10: =SUM(JJ10:JN10) -> 0 | JQ10: =SUM(T10,BF10,CF10,DO10,FL10,HN10,IL10,JJ10) -> 0 | JR10: =SUM(U10,BG10,CG10,DP10,FM10,HO10,IM10,JK10) -> 0 | JS10: =SUM(V10,BH10,CH10,DQ10,FN10,HP10,IN10,JL10) -> 0 | JT10: =SUM(W10,BI10,CI10,DR10,FO10,HQ10,IO10,JM10) -> 0 | JU10: =SUM(X10,BJ10,CJ10,DS10,FP10,HR10,IP10,JN10) -> 0 | JV10: =SUM(DT10,BK10,CK10) -> 0 | JW10: =SUM(JQ10:JV10) -> 0
A11: IBP = Twig Beetle | G11: =SUM(B11:F11) -> 0 | M11: =SUM(H11:L11) -> 0 | S11: =SUM(N11:R11) -> 0 | T11: =SUM(B11,H11,N11) -> 0 | U11: =SUM(C11,I11,O11) -> 0 | V11: =SUM(D11,J11,P11) -> 0 | W11: =SUM(E11,K11,Q11) -> 0 | X11: =SUM(F11,L11,R11) -> 0 | Y11: =SUM(T11:X11) -> 0 | AE11: =SUM(Z11:AD11) -> 0 | AL11: =SUM(AF11:AJ11) -> 0 | AR11: =SUM(AM11:AQ11) -> 0 | AY11: =SUM(AS11:AX11) -> 0 | BE11: =SUM(AZ11:BD11) -> 0 | BF11: =SUM(Z11,AF11,AM11,AS11,AZ11) -> 0 | BG11: =SUM(AA11,AG11,AN11,AT11,BA11) -> 0 | BH11: =SUM(AB11,AH11,AO11,AU11,BB11) -> 0 | BI11: =SUM(AC11,AI11,AP11,AV11,BC11) -> 0 | BJ11: =SUM(AD11,AJ11,AQ11,AW11,BD11) -> 0 | BK11: =SUM(AX11) -> 0 | BL11: =SUM(BF11:BK11) -> 0 | BR11: =SUM(BM11:BQ11) -> 0 | BX11: =SUM(BS11:BW11) -> 0 | CE11: =SUM(BY11:CD11) -> 0 | CF11: =SUM(BM11,BS11,BY11) -> 0 | CG11: =SUM(BN11,BT11,BZ11) -> 0 | CH11: =SUM(BO11,BU11,CA11) -> 0 | CI11: =SUM(BP11,BV11,CB11) -> 0 | CJ11: =SUM(BQ11,BW11,CC11) -> 0 | CK11: =SUM(CD11) -> 0 | CL11: =SUM(CF11:CK11) -> 0 | CS11: =SUM(CM11:CR11) -> 0 | CZ11: =SUM(CT11:CY11) -> 0 | DG11: =SUM(DA11:DF11) -> 0 | DN11: =SUM(DH11:DM11) -> 0 | DO11: =SUM(CM11,CT11,DA11,DH11) -> 0 | DP11: =SUM(CN11,CU11,DB11,DI11) -> 0 | DQ11: =SUM(CO11,CV11,DC11,DJ11) -> 0 | DR11: =SUM(CP11,CW11,DD11,DK11) -> 0 | DS11: =SUM(CQ11,CX11,DE11,DL11) -> 0 | DT11: =SUM(CR11,CY11,DF11,DM11) -> 0 | DU11: =SUM(DO11:DT11) -> 0 | EA11: =SUM(DV11:DZ11) -> 0 | EG11: =SUM(EB11:EF11) -> 0 | EM11: =SUM(EH11:EL11) -> 0 | ES11: =SUM(EN11:ER11) -> 0 | EY11: =SUM(ET11:EX11) -> 0 | FE11: =SUM(EZ11:FD11) -> 0 | FK11: =SUM(FF11:FJ11) -> 0 | FL11: =SUM(DV11,EB11,EH11,EN11,ET11,EZ11,FF11) -> 0 | FM11: =SUM(DW11,EC11,EI11,EO11,EU11,FA11,FG11) -> 0 | FN11: =SUM(DX11,ED11,EJ11,EP11,EV11,FB11,FH11) -> 0 | FO11: =SUM(DY11,EE11,EK11,EQ11,EW11,FC11,FI11) -> 0 | FP11: =SUM(DZ11,EF11,EL11,ER11,EX11,FD11,FJ11) -> 0 | FQ11: =SUM(FL11:FP11) -> 0 | FW11: =SUM(FR11:FV11) -> 0 | GC11: =SUM(FX11:GB11) -> 0 | GI11: =SUM(GD11:GH11) -> 0 | GO11: =SUM(GJ11:GN11) -> 0 | GU11: =SUM(GP11:GT11) -> 0 | HA11: =SUM(GV11:GZ11) -> 0 | HG11: =SUM(HB11:HF11) -> 0 | HM11: =SUM(HH11:HL11) -> 0 | HN11: =SUM(FR11,FX11,GD11,GJ11,GP11,GV11,HB11,HH11) -> 0 | HO11: =SUM(FS11,FY11,GE11,GK11,GQ11,GW11,HC11,HI11) -> 0 | HP11: =SUM(HJ11,HD11,GX11,GR11,GL11,GF11,FZ11,FT11) -> 0 | HQ11: =SUM(HK11,HE11,GY11,GS11,GM11,GG11,GA11,FU11) -> 0 | HR11: =SUM(HL11,HF11,GZ11,GT11,GN11,GH11,GB11,FV11) -> 0 | HS11: =SUM(HN11:HR11) -> 0 | HY11: =SUM(HT11:HX11) -> 0 | IE11: =SUM(HZ11:ID11) -> 0 | IK11: =SUM(IF11:IJ11) -> 0 | IL11: =SUM(HT11,HZ11,IF11) -> 0 | IM11: =SUM(HU11,IA11,IG11) -> 0 | IN11: =SUM(HV11,IB11,IH11) -> 0 | IO11: =SUM(HW11,IC11,II11) -> 0 | IP11: =SUM(HX11,ID11,IJ11) -> 0 | IQ11: =SUM(IL11:IP11) -> 0 | IW11: =SUM(IR11:IV11) -> 0 | JC11: =SUM(IX11:JB11) -> 0 | JI11: =SUM(JD11:JH11) -> 0 | JJ11: =SUM(IR11,IX11,JD11) -> 0 | JK11: =SUM(IS11,IY11,JE11) -> 0 | JL11: =SUM(IT11,IZ11,JF11) -> 0 | JM11: =SUM(IU11,JA11,JG11) -> 0 | JN11: =SUM(IV11,JB11,JH11) -> 0 | JO11: =SUM(JJ11:JN11) -> 0 | JQ11: =SUM(T11,BF11,CF11,DO11,FL11,HN11,IL11,JJ11) -> 0 | JR11: =SUM(U11,BG11,CG11,DP11,FM11,HO11,IM11,JK11) -> 0 | JS11: =SUM(V11,BH11,CH11,DQ11,FN11,HP11,IN11,JL11) -> 0 | JT11: =SUM(W11,BI11,CI11,DR11,FO11,HQ11,IO11,JM11) -> 0 | JU11: =SUM(X11,BJ11,CJ11,DS11,FP11,HR11,IP11,JN11) -> 0 | JV11: =SUM(DT11,BK11,CK11) -> 0 | JW11: =SUM(JQ11:JV11) -> 0
A12: IBI=Engraver Beetle (Ips species) | G12: =SUM(B12:F12) -> 0 | M12: =SUM(H12:L12) -> 0 | S12: =SUM(N12:R12) -> 0 | T12: =SUM(B12,H12,N12) -> 0 | U12: =SUM(C12,I12,O12) -> 0 | V12: =SUM(D12,J12,P12) -> 0 | W12: =SUM(E12,K12,Q12) -> 0 | X12: =SUM(F12,L12,R12) -> 0 | Y12: =SUM(T12:X12) -> 0 | AE12: =SUM(Z12:AD12) -> 0 | AL12: =SUM(AF12:AJ12) -> 0 | AR12: =SUM(AM12:AQ12) -> 0 | AY12: =SUM(AS12:AX12) -> 0 | BE12: =SUM(AZ12:BD12) -> 0 | BF12: =SUM(Z12,AF12,AM12,AS12,AZ12) -> 0 | BG12: =SUM(AA12,AG12,AN12,AT12,BA12) -> 0 | BH12: =SUM(AB12,AH12,AO12,AU12,BB12) -> 0 | BI12: =SUM(AC12,AI12,AP12,AV12,BC12) -> 0 | BJ12: =SUM(AD12,AJ12,AQ12,AW12,BD12) -> 0 | BK12: =SUM(AX12) -> 0 | BL12: =SUM(BF12:BK12) -> 0 | BR12: =SUM(BM12:BQ12) -> 0 | BX12: =SUM(BS12:BW12) -> 0 | CE12: =SUM(BY12:CD12) -> 0 | CF12: =SUM(BM12,BS12,BY12) -> 0 | CG12: =SUM(BN12,BT12,BZ12) -> 0 | CH12: =SUM(BO12,BU12,CA12) -> 0 | CI12: =SUM(BP12,BV12,CB12) -> 0 | CJ12: =SUM(BQ12,BW12,CC12) -> 0 | CK12: =SUM(CD12) -> 0 | CL12: =SUM(CF12:CK12) -> 0 | CS12: =SUM(CM12:CR12) -> 0 | CZ12: =SUM(CT12:CY12) -> 0 | DG12: =SUM(DA12:DF12) -> 0 | DN12: =SUM(DH12:DM12) -> 0 | DO12: =SUM(CM12,CT12,DA12,DH12) -> 0 | DP12: =SUM(CN12,CU12,DB12,DI12) -> 0 | DQ12: =SUM(CO12,CV12,DC12,DJ12) -> 0 | DR12: =SUM(CP12,CW12,DD12,DK12) -> 0 | DS12: =SUM(CQ12,CX12,DE12,DL12) -> 0 | DT12: =SUM(CR12,CY12,DF12,DM12) -> 0 | DU12: =SUM(DO12:DT12) -> 0 | EA12: =SUM(DV12:DZ12) -> 0 | EG12: =SUM(EB12:EF12) -> 0 | EM12: =SUM(EH12:EL12) -> 0 | ES12: =SUM(EN12:ER12) -> 0 | EY12: =SUM(ET12:EX12) -> 0 | FE12: =SUM(EZ12:FD12) -> 0 | FK12: =SUM(FF12:FJ12) -> 0 | FL12: =SUM(DV12,EB12,EH12,EN12,ET12,EZ12,FF12) -> 0 | FM12: =SUM(DW12,EC12,EI12,EO12,EU12,FA12,FG12) -> 0 | FN12: =SUM(DX12,ED12,EJ12,EP12,EV12,FB12,FH12) -> 0 | FO12: =SUM(DY12,EE12,EK12,EQ12,EW12,FC12,FI12) -> 0 | FP12: =SUM(DZ12,EF12,EL12,ER12,EX12,FD12,FJ12) -> 0 | FQ12: =SUM(FL12:FP12) -> 0 | FW12: =SUM(FR12:FV12) -> 0 | GC12: =SUM(FX12:GB12) -> 0 | GI12: =SUM(GD12:GH12) -> 0 | GO12: =SUM(GJ12:GN12) -> 0 | GU12: =SUM(GP12:GT12) -> 0 | HA12: =SUM(GV12:GZ12) -> 0 | HG12: =SUM(HB12:HF12) -> 0 | HM12: =SUM(HH12:HL12) -> 0 | HN12: =SUM(FR12,FX12,GD12,GJ12,GP12,GV12,HB12,HH12) -> 0 | HO12: =SUM(FS12,FY12,GE12,GK12,GQ12,GW12,HC12,HI12) -> 0 | HP12: =SUM(HJ12,HD12,GX12,GR12,GL12,GF12,FZ12,FT12) -> 0 | HQ12: =SUM(HK12,HE12,GY12,GS12,GM12,GG12,GA12,FU12) -> 0 | HR12: =SUM(HL12,HF12,GZ12,GT12,GN12,GH12,GB12,FV12) -> 0 | HS12: =SUM(HN12:HR12) -> 0 | HY12: =SUM(HT12:HX12) -> 0 | IE12: =SUM(HZ12:ID12) -> 0 | IK12: =SUM(IF12:IJ12) -> 0 | IL12: =SUM(HT12,HZ12,IF12) -> 0 | IM12: =SUM(HU12,IA12,IG12) -> 0 | IN12: =SUM(HV12,IB12,IH12) -> 0 | IO12: =SUM(HW12,IC12,II12) -> 0 | IP12: =SUM(HX12,ID12,IJ12) -> 0 | IQ12: =SUM(IL12:IP12) -> 0 | IW12: =SUM(IR12:IV12) -> 0 | JC12: =SUM(IX12:JB12) -> 0 | JI12: =SUM(JD12:JH12) -> 0 | JJ12: =SUM(IR12,IX12,JD12) -> 0 | JK12: =SUM(IS12,IY12,JE12) -> 0 | JL12: =SUM(IT12,IZ12,JF12) -> 0 | JM12: =SUM(IU12,JA12,JG12) -> 0 | JN12: =SUM(IV12,JB12,JH12) -> 0 | JO12: =SUM(JJ12:JN12) -> 0 | JQ12: =SUM(T12,BF12,CF12,DO12,FL12,HN12,IL12,JJ12) -> 0 | JR12: =SUM(U12,BG12,CG12,DP12,FM12,HO12,IM12,JK12) -> 0 | JS12: =SUM(V12,BH12,CH12,DQ12,FN12,HP12,IN12,JL12) -> 0 | JT12: =SUM(W12,BI12,CI12,DR12,FO12,HQ12,IO12,JM12) -> 0 | JU12: =SUM(X12,BJ12,CJ12,DS12,FP12,HR12,IP12,JN12) -> 0 | JV12: =SUM(DT12,BK12,CK12) -> 0 | JW12: =SUM(JQ12:JV12) -> 0
A13: IBW=Western Pine Beetle | G13: =SUM(B13:F13) -> 0 | M13: =SUM(H13:L13) -> 0 | S13: =SUM(N13:R13) -> 0 | T13: =SUM(B13,H13,N13) -> 0 | U13: =SUM(C13,I13,O13) -> 0 | V13: =SUM(D13,J13,P13) -> 0 | W13: =SUM(E13,K13,Q13) -> 0 | X13: =SUM(F13,L13,R13) -> 0 | Y13: =SUM(T13:X13) -> 0 | AE13: =SUM(Z13:AD13) -> 0 | AL13: =SUM(AF13:AJ13) -> 0 | AR13: =SUM(AM13:AQ13) -> 0 | AY13: =SUM(AS13:AX13) -> 0 | BE13: =SUM(AZ13:BD13) -> 0 | BF13: =SUM(Z13,AF13,AM13,AS13,AZ13) -> 0 | BG13: =SUM(AA13,AG13,AN13,AT13,BA13) -> 0 | BH13: =SUM(AB13,AH13,AO13,AU13,BB13) -> 0 | BI13: =SUM(AC13,AI13,AP13,AV13,BC13) -> 0 | BJ13: =SUM(AD13,AJ13,AQ13,AW13,BD13) -> 0 | BK13: =SUM(AX13) -> 0 | BL13: =SUM(BF13:BK13) -> 0 | BR13: =SUM(BM13:BQ13) -> 0 | BX13: =SUM(BS13:BW13) -> 0 | CE13: =SUM(BY13:CD13) -> 0 | CF13: =SUM(BM13,BS13,BY13) -> 0 | CG13: =SUM(BN13,BT13,BZ13) -> 0 | CH13: =SUM(BO13,BU13,CA13) -> 0 | CI13: =SUM(BP13,BV13,CB13) -> 0 | CJ13: =SUM(BQ13,BW13,CC13) -> 0 | CK13: =SUM(CD13) -> 0 | CL13: =SUM(CF13:CK13) -> 0 | CS13: =SUM(CM13:CR13) -> 0 | CZ13: =SUM(CT13:CY13) -> 0 | DG13: =SUM(DA13:DF13) -> 0 | DN13: =SUM(DH13:DM13) -> 0 | DO13: =SUM(CM13,CT13,DA13,DH13) -> 0 | DP13: =SUM(CN13,CU13,DB13,DI13) -> 0 | DQ13: =SUM(CO13,CV13,DC13,DJ13) -> 0 | DR13: =SUM(CP13,CW13,DD13,DK13) -> 0 | DS13: =SUM(CQ13,CX13,DE13,DL13) -> 0 | DT13: =SUM(CR13,CY13,DF13,DM13) -> 0 | DU13: =SUM(DO13:DT13) -> 0 | EA13: =SUM(DV13:DZ13) -> 0 | EG13: =SUM(EB13:EF13) -> 0 | EM13: =SUM(EH13:EL13) -> 0 | ES13: =SUM(EN13:ER13) -> 0 | EY13: =SUM(ET13:EX13) -> 0 | FE13: =SUM(EZ13:FD13) -> 0 | FK13: =SUM(FF13:FJ13) -> 0 | FL13: =SUM(DV13,EB13,EH13,EN13,ET13,EZ13,FF13) -> 0 | FM13: =SUM(DW13,EC13,EI13,EO13,EU13,FA13,FG13) -> 0 | FN13: =SUM(DX13,ED13,EJ13,EP13,EV13,FB13,FH13) -> 0 | FO13: =SUM(DY13,EE13,EK13,EQ13,EW13,FC13,FI13) -> 0 | FP13: =SUM(DZ13,EF13,EL13,ER13,EX13,FD13,FJ13) -> 0 | FQ13: =SUM(FL13:FP13) -> 0 | FW13: =SUM(FR13:FV13) -> 0 | GC13: =SUM(FX13:GB13) -> 0 | GI13: =SUM(GD13:GH13) -> 0 | GO13: =SUM(GJ13:GN13) -> 0 | GU13: =SUM(GP13:GT13) -> 0 | HA13: =SUM(GV13:GZ13) -> 0 | HG13: =SUM(HB13:HF13) -> 0 | HM13: =SUM(HH13:HL13) -> 0 | HN13: =SUM(FR13,FX13,GD13,GJ13,GP13,GV13,HB13,HH13) -> 0 | HO13: =SUM(FS13,FY13,GE13,GK13,GQ13,GW13,HC13,HI13) -> 0 | HP13: =SUM(HJ13,HD13,GX13,GR13,GL13,GF13,FZ13,FT13) -> 0 | HQ13: =SUM(HK13,HE13,GY13,GS13,GM13,GG13,GA13,FU13) -> 0 | HR13: =SUM(HL13,HF13,GZ13,GT13,GN13,GH13,GB13,FV13) -> 0 | HS13: =SUM(HN13:HR13) -> 0 | HY13: =SUM(HT13:HX13) -> 0 | IE13: =SUM(HZ13:ID13) -> 0 | IK13: =SUM(IF13:IJ13) -> 0 | IL13: =SUM(HT13,HZ13,IF13) -> 0 | IM13: =SUM(HU13,IA13,IG13) -> 0 | IN13: =SUM(HV13,IB13,IH13) -> 0 | IO13: =SUM(HW13,IC13,II13) -> 0 | IP13: =SUM(HX13,ID13,IJ13) -> 0 | IQ13: =SUM(IL13:IP13) -> 0 | IW13: =SUM(IR13:IV13) -> 0 | JC13: =SUM(IX13:JB13) -> 0 | JI13: =SUM(JD13:JH13) -> 0 | JJ13: =SUM(IR13,IX13,JD13) -> 0 | JK13: =SUM(IS13,IY13,JE13) -> 0 | JL13: =SUM(IT13,IZ13,JF13) -> 0 | JM13: =SUM(IU13,JA13,JG13) -> 0 | JN13: =SUM(IV13,JB13,JH13) -> 0 | JO13: =SUM(JJ13:JN13) -> 0 | JQ13: =SUM(T13,BF13,CF13,DO13,FL13,HN13,IL13,JJ13) -> 0 | JR13: =SUM(U13,BG13,CG13,DP13,FM13,HO13,IM13,JK13) -> 0 | JS13: =SUM(V13,BH13,CH13,DQ13,FN13,HP13,IN13,JL13) -> 0 | JT13: =SUM(W13,BI13,CI13,DR13,FO13,HQ13,IO13,JM13) -> 0 | JU13: =SUM(X13,BJ13,CJ13,DS13,FP13,HR13,IP13,JN13) -> 0 | JV13: =SUM(DT13,BK13,CK13) -> 0 | JW13: =SUM(JQ13:JV13) -> 0
A14: IBL=Lodgepole Pine Beetle | G14: =SUM(B14:F14) -> 0 | M14: =SUM(H14:L14) -> 0 | S14: =SUM(N14:R14) -> 0 | T14: =SUM(B14,H14,N14) -> 0 | U14: =SUM(C14,I14,O14) -> 0 | V14: =SUM(D14,J14,P14) -> 0 | W14: =SUM(E14,K14,Q14) -> 0 | X14: =SUM(F14,L14,R14) -> 0 | Y14: =SUM(T14:X14) -> 0 | AE14: =SUM(Z14:AD14) -> 0 | AL14: =SUM(AF14:AK14) -> 0 | AR14: =SUM(AM14:AQ14) -> 0 | AY14: =SUM(AS14:AX14) -> 0 | BE14: =SUM(AZ14:BD14) -> 0 | BF14: =SUM(Z14,AF14,AM14,AS14,AZ14) -> 0 | BG14: =SUM(AA14,AG14,AN14,AT14,BA14) -> 0 | BH14: =SUM(AB14,AH14,AO14,AU14,BB14) -> 0 | BI14: =SUM(AC14,AI14,AP14,AV14,BC14) -> 0 | BJ14: =SUM(AD14,AJ14,AQ14,AW14,BD14) -> 0 | BK14: =SUM(AX14) -> 0 | BL14: =SUM(BF14:BK14) -> 0 | BR14: =SUM(BM14:BQ14) -> 0 | BX14: =SUM(BS14:BW14) -> 0 | CE14: =SUM(BY14:CD14) -> 0 | CF14: =SUM(BM14,BS14,BY14) -> 0 | CG14: =SUM(BN14,BT14,BZ14) -> 0 | CH14: =SUM(BO14,BU14,CA14) -> 0 | CI14: =SUM(BP14,BV14,CB14) -> 0 | CJ14: =SUM(BQ14,BW14,CC14) -> 0 | CK14: =SUM(CD14) -> 0 | CL14: =SUM(CF14:CK14) -> 0 | CS14: =SUM(CM14:CR14) -> 0 | CZ14: =SUM(CT14:CY14) -> 0 | DG14: =SUM(DA14:DF14) -> 0 | DN14: =SUM(DH14:DM14) -> 0 | DO14: =SUM(CM14,CT14,DA14,DH14) -> 0 | DP14: =SUM(CN14,CU14,DB14,DI14) -> 0 | DQ14: =SUM(CO14,CV14,DC14,DJ14) -> 0 | DR14: =SUM(CP14,CW14,DD14,DK14) -> 0 | DS14: =SUM(CQ14,CX14,DE14,DL14) -> 0 | DT14: =SUM(CR14,CY14,DF14,DM14) -> 0 | DU14: =SUM(DO14:DT14) -> 0 | EA14: =SUM(DV14:DZ14) -> 0 | EG14: =SUM(EB14:EF14) -> 0 | EM14: =SUM(EH14:EL14) -> 0 | ES14: =SUM(EN14:ER14) -> 0 | EY14: =SUM(ET14:EX14) -> 0 | FE14: =SUM(EZ14:FD14) -> 0 | FK14: =SUM(FF14:FJ14) -> 0 | FL14: =SUM(DV14,EB14,EH14,EN14,ET14,EZ14,FF14) -> 0 | FM14: =SUM(DW14,EC14,EI14,EO14,EU14,FA14,FG14) -> 0 | FN14: =SUM(DX14,ED14,EJ14,EP14,EV14,FB14,FH14) -> 0 | FO14: =SUM(DY14,EE14,EK14,EQ14,EW14,FC14,FI14) -> 0 | FP14: =SUM(DZ14,EF14,EL14,ER14,EX14,FD14,FJ14) -> 0 | FQ14: =SUM(FL14:FP14) -> 0 | FW14: =SUM(FR14:FV14) -> 0 | GC14: =SUM(FX14:GB14) -> 0 | GI14: =SUM(GD14:GH14) -> 0 | GO14: =SUM(GJ14:GN14) -> 0 | GU14: =SUM(GP14:GT14) -> 0 | HA14: =SUM(GV14:GZ14) -> 0 | HG14: =SUM(HB14:HF14) -> 0 | HM14: =SUM(HH14:HL14) -> 0 | HN14: =SUM(FR14,FX14,GD14,GJ14,GP14,GV14,HB14,HH14) -> 0 | HO14: =SUM(FS14,FY14,GE14,GK14,GQ14,GW14,HC14,HI14) -> 0 | HP14: =SUM(HJ14,HD14,GX14,GR14,GL14,GF14,FZ14,FT14) -> 0 | HQ14: =SUM(HK14,HE14,GY14,GS14,GM14,GG14,GA14,FU14) -> 0 | HR14: =SUM(HL14,HF14,GZ14,GT14,GN14,GH14,GB14,FV14) -> 0 | HS14: =SUM(HN14:HR14) -> 0 | HY14: =SUM(HT14:HX14) -> 0 | IE14: =SUM(HZ14:ID14) -> 0 | IK14: =SUM(IF14:IJ14) -> 0 | IL14: =SUM(HT14,HZ14,IF14) -> 0 | IM14: =SUM(HU14,IA14,IG14) -> 0 | IN14: =SUM(HV14,IB14,IH14) -> 0 | IO14: =SUM(HW14,IC14,II14) -> 0 | IP14: =SUM(HX14,ID14,IJ14) -> 0 | IQ14: =SUM(IL14:IP14) -> 0 | IW14: =SUM(IR14:IV14) -> 0 | JC14: =SUM(IX14:JB14) -> 0 | JI14: =SUM(JD14:JH14) -> 0 | JJ14: =SUM(IR14,IX14,JD14) -> 0 | JK14: =SUM(IS14,IY14,JE14) -> 0 | JL14: =SUM(IT14,IZ14,JF14) -> 0 | JM14: =SUM(IU14,JA14,JG14) -> 0 | JN14: =SUM(IV14,JB14,JH14) -> 0 | JO14: =SUM(JJ14:JN14) -> 0 | JQ14: =SUM(T14,BF14,CF14,DO14,FL14,HN14,IL14,JJ14) -> 0 | JR14: =SUM(U14,BG14,CG14,DP14,FM14,HO14,IM14,JK14) -> 0 | JS14: =SUM(V14,BH14,CH14,DQ14,FN14,HP14,IN14,JL14) -> 0 | JT14: =SUM(W14,BI14,CI14,DR14,FO14,HQ14,IO14,JM14) -> 0 | JU14: =SUM(X14,BJ14,CJ14,DS14,FP14,HR14,IP14,JN14) -> 0 | JV14: =SUM(DT14,BK14,CK14) -> 0 | JW14: =SUM(JQ14:JV14) -> 0
A15: IBT=Red Turpentine Beetle | G15: =SUM(B15:F15) -> 0 | M15: =SUM(H15:L15) -> 0 | S15: =SUM(N15:R15) -> 0 | T15: =SUM(B15,H15,N15) -> 0 | U15: =SUM(C15,I15,O15) -> 0 | V15: =SUM(D15,J15,P15) -> 0 | W15: =SUM(E15,K15,Q15) -> 0 | X15: =SUM(F15,L15,R15) -> 0 | Y15: =SUM(T15:X15) -> 0 | AE15: =SUM(Z15:AD15) -> 0 | AL15: =SUM(AF15:AK15) -> 0 | AR15: =SUM(AM15:AQ15) -> 0 | AY15: =SUM(AS15:AX15) -> 0 | BE15: =SUM(AZ15:BD15) -> 0 | BF15: =SUM(Z15,AF15,AM15,AS15,AZ15) -> 0 | BG15: =SUM(AA15,AG15,AN15,AT15,BA15) -> 0 | BH15: =SUM(AB15,AH15,AO15,AU15,BB15) -> 0 | BI15: =SUM(AC15,AI15,AP15,AV15,BC15) -> 0 | BJ15: =SUM(AD15,AJ15,AQ15,AW15,BD15) -> 0 | BK15: =SUM(AX15) -> 0 | BL15: =SUM(BF15:BK15) -> 0 | BR15: =SUM(BM15:BQ15) -> 0 | BX15: =SUM(BS15:BW15) -> 0 | CE15: =SUM(BY15:CD15) -> 0 | CF15: =SUM(BM15,BS15,BY15) -> 0 | CG15: =SUM(BN15,BT15,BZ15) -> 0 | CH15: =SUM(BO15,BU15,CA15) -> 0 | CI15: =SUM(BP15,BV15,CB15) -> 0 | CJ15: =SUM(BQ15,BW15,CC15) -> 0 | CK15: =SUM(CD15) -> 0 | CL15: =SUM(CF15:CK15) -> 0 | CS15: =SUM(CM15:CR15) -> 0 | CZ15: =SUM(CT15:CY15) -> 0 | DG15: =SUM(DA15:DF15) -> 0 | DN15: =SUM(DH15:DM15) -> 0 | DO15: =SUM(CM15,CT15,DA15,DH15) -> 0 | DP15: =SUM(CN15,CU15,DB15,DI15) -> 0 | DQ15: =SUM(CO15,CV15,DC15,DJ15) -> 0 | DR15: =SUM(CP15,CW15,DD15,DK15) -> 0 | DS15: =SUM(CQ15,CX15,DE15,DL15) -> 0 | DT15: =SUM(CR15,CY15,DF15,DM15) -> 0 | DU15: =SUM(DO15:DT15) -> 0 | EA15: =SUM(DV15:DZ15) -> 0 | EG15: =SUM(EB15:EF15) -> 0 | EM15: =SUM(EH15:EL15) -> 0 | ES15: =SUM(EN15:ER15) -> 0 | EY15: =SUM(ET15:EX15) -> 0 | FE15: =SUM(EZ15:FD15) -> 0 | FK15: =SUM(FF15:FJ15) -> 0 | FL15: =SUM(DV15,EB15,EH15,EN15,ET15,EZ15,FF15) -> 0 | FM15: =SUM(DW15,EC15,EI15,EO15,EU15,FA15,FG15) -> 0 | FN15: =SUM(DX15,ED15,EJ15,EP15,EV15,FB15,FH15) -> 0 | FO15: =SUM(DY15,EE15,EK15,EQ15,EW15,FC15,FI15) -> 0 | FP15: =SUM(DZ15,EF15,EL15,ER15,EX15,FD15,FJ15) -> 0 | FQ15: =SUM(FL15:FP15) -> 0 | FW15: =SUM(FR15:FV15) -> 0 | GC15: =SUM(FX15:GB15) -> 0 | GI15: =SUM(GD15:GH15) -> 0 | GO15: =SUM(GJ15:GN15) -> 0 | GU15: =SUM(GP15:GT15) -> 0 | HA15: =SUM(GV15:GZ15) -> 0 | HG15: =SUM(HB15:HF15) -> 0 | HM15: =SUM(HH15:HL15) -> 0 | HN15: =SUM(FR15,FX15,GD15,GJ15,GP15,GV15,HB15,HH15) -> 0 | HO15: =SUM(FS15,FY15,GE15,GK15,GQ15,GW15,HC15,HI15) -> 0 | HP15: =SUM(HJ15,HD15,GX15,GR15,GL15,GF15,FZ15,FT15) -> 0 | HQ15: =SUM(HK15,HE15,GY15,GS15,GM15,GG15,GA15,FU15) -> 0 | HR15: =SUM(HL15,HF15,GZ15,GT15,GN15,GH15,GB15,FV15) -> 0 | HS15: =SUM(HN15:HR15) -> 0 | HY15: =SUM(HT15:HX15) -> 0 | IE15: =SUM(HZ15:ID15) -> 0 | IK15: =SUM(IF15:IJ15) -> 0 | IL15: =SUM(HT15,HZ15,IF15) -> 0 | IM15: =SUM(HU15,IA15,IG15) -> 0 | IN15: =SUM(HV15,IB15,IH15) -> 0 | IO15: =SUM(HW15,IC15,II15) -> 0 | IP15: =SUM(HX15,ID15,IJ15) -> 0 | IQ15: =SUM(IL15:IP15) -> 0 | IW15: =SUM(IR15:IV15) -> 0 | JC15: =SUM(IX15:JB15) -> 0 | JI15: =SUM(JD15:JH15) -> 0 | JJ15: =SUM(IR15,IX15,JD15) -> 0 | JK15: =SUM(IS15,IY15,JE15) -> 0 | JL15: =SUM(IT15,IZ15,JF15) -> 0 | JM15: =SUM(IU15,JA15,JG15) -> 0 | JN15: =SUM(IV15,JB15,JH15) -> 0 | JO15: =SUM(JJ15:JN15) -> 0 | JQ15: =SUM(T15,BF15,CF15,DO15,FL15,HN15,IL15,JJ15) -> 0 | JR15: =SUM(U15,BG15,CG15,DP15,FM15,HO15,IM15,JK15) -> 0 | JS15: =SUM(V15,BH15,CH15,DQ15,FN15,HP15,IN15,JL15) -> 0 | JT15: =SUM(W15,BI15,CI15,DR15,FO15,HQ15,IO15,JM15) -> 0 | JU15: =SUM(X15,BJ15,CJ15,DS15,FP15,HR15,IP15,JN15) -> 0 | JV15: =SUM(DT15,BK15,CK15) -> 0 | JW15: =SUM(JQ15:JV15) -> 0
A16: IB=Young pine mortality unknown | G16: =SUM(B16:F16) -> 0 | M16: =SUM(H16:L16) -> 0 | S16: =SUM(N16:R16) -> 0 | T16: =SUM(B16,H16,N16) -> 0 | U16: =SUM(C16,I16,O16) -> 0 | V16: =SUM(D16,J16,P16) -> 0 | W16: =SUM(E16,K16,Q16) -> 0 | X16: =SUM(F16,L16,R16) -> 0 | Y16: =SUM(T16:X16) -> 0 | AE16: =SUM(Z16:AD16) -> 0 | AL16: =SUM(AF16:AK16) -> 0 | AR16: =SUM(AM16:AQ16) -> 0 | AY16: =SUM(AS16:AX16) -> 0 | BE16: =SUM(AZ16:BD16) -> 0 | BF16: =SUM(Z16,AF16,AM16,AS16,AZ16) -> 0 | BG16: =SUM(AA16,AG16,AN16,AT16,BA16) -> 0 | BH16: =SUM(AB16,AH16,AO16,AU16,BB16) -> 0 | BI16: =SUM(AC16,AI16,AP16,AV16,BC16) -> 0 | BJ16: =SUM(AD16,AJ16,AQ16,AW16,BD16) -> 0 | BK16: =SUM(AX16) -> 0 | BL16: =SUM(BF16:BK16) -> 0 | BR16: =SUM(BM16:BQ16) -> 0 | BX16: =SUM(BS16:BW16) -> 0 | CE16: =SUM(BY16:CD16) -> 0 | CF16: =SUM(BM16,BS16,BY16) -> 0 | CG16: =SUM(BN16,BT16,BZ16) -> 0 | CH16: =SUM(BO16,BU16,CA16) -> 0 | CI16: =SUM(BP16,BV16,CB16) -> 0 | CJ16: =SUM(BQ16,BW16,CC16) -> 0 | CK16: =SUM(CD16) -> 0 | CL16: =SUM(CF16:CK16) -> 0 | CS16: =SUM(CM16:CR16) -> 0 | CZ16: =SUM(CT16:CY16) -> 0 | DG16: =SUM(DA16:DF16) -> 0 | DN16: =SUM(DH16:DM16) -> 0 | DO16: =SUM(CM16,CT16,DA16,DH16) -> 0 | DP16: =SUM(CN16,CU16,DB16,DI16) -> 0 | DQ16: =SUM(CO16,CV16,DC16,DJ16) -> 0 | DR16: =SUM(CP16,CW16,DD16,DK16) -> 0 | DS16: =SUM(CQ16,CX16,DE16,DL16) -> 0 | DT16: =SUM(CR16,CY16,DF16,DM16) -> 0 | DU16: =SUM(DO16:DT16) -> 0 | EA16: =SUM(DV16:DZ16) -> 0 | EG16: =SUM(EB16:EF16) -> 0 | EM16: =SUM(EH16:EL16) -> 0 | ES16: =SUM(EN16:ER16) -> 0 | EY16: =SUM(ET16:EX16) -> 0 | FE16: =SUM(EZ16:FD16) -> 0 | FK16: =SUM(FF16:FJ16) -> 0 | FL16: =SUM(DV16,EB16,EH16,EN16,ET16,EZ16,FF16) -> 0 | FM16: =SUM(DW16,EC16,EI16,EO16,EU16,FA16,FG16) -> 0 | FN16: =SUM(DX16,ED16,EJ16,EP16,EV16,FB16,FH16) -> 0 | FO16: =SUM(DY16,EE16,EK16,EQ16,EW16,FC16,FI16) -> 0 | FP16: =SUM(DZ16,EF16,EL16,ER16,EX16,FD16,FJ16) -> 0 | FQ16: =SUM(FL16:FP16) -> 0 | FW16: =SUM(FR16:FV16) -> 0 | GC16: =SUM(FX16:GB16) -> 0 | GI16: =SUM(GD16:GH16) -> 0 | GO16: =SUM(GJ16:GN16) -> 0 | GS16: 0.75 | GU16: =SUM(GP16:GT16) -> 0.75 | HA16: =SUM(GV16:GZ16) -> 0 | HG16: =SUM(HB16:HF16) -> 0 | HM16: =SUM(HH16:HL16) -> 0 | HN16: =SUM(FR16,FX16,GD16,GJ16,GP16,GV16,HB16,HH16) -> 0 | HO16: =SUM(FS16,FY16,GE16,GK16,GQ16,GW16,HC16,HI16) -> 0 | HP16: =SUM(HJ16,HD16,GX16,GR16,GL16,GF16,FZ16,FT16) -> 0 | HQ16: =SUM(HK16,HE16,GY16,GS16,GM16,GG16,GA16,FU16) -> 0.75 | HR16: =SUM(HL16,HF16,GZ16,GT16,GN16,GH16,GB16,FV16) -> 0 | HS16: =SUM(HN16:HR16) -> 0.75 | HY16: =SUM(HT16:HX16) -> 0 | IE16: =SUM(HZ16:ID16) -> 0 | IF16: 756.16084 | II16: 0.75 | IK16: =SUM(IF16:IJ16) -> 756.91084 | IL16: =SUM(HT16,HZ16,IF16) -> 756.16084 | IM16: =SUM(HU16,IA16,IG16) -> 0 | IN16: =SUM(HV16,IB16,IH16) -> 0 | IO16: =SUM(HW16,IC16,II16) -> 0.75 | IP16: =SUM(HX16,ID16,IJ16) -> 0 | IQ16: =SUM(IL16:IP16) -> 756.91084 | IW16: =SUM(IR16:IV16) -> 0 | JC16: =SUM(IX16:JB16) -> 0 | JI16: =SUM(JD16:JH16) -> 0 | JJ16: =SUM(IR16,IX16,JD16) -> 0 | JK16: =SUM(IS16,IY16,JE16) -> 0 | JL16: =SUM(IT16,IZ16,JF16) -> 0 | JM16: =SUM(IU16,JA16,JG16) -> 0 | JN16: =SUM(IV16,JB16,JH16) -> 0 | JO16: =SUM(JJ16:JN16) -> 0 | JQ16: =SUM(T16,BF16,CF16,DO16,FL16,HN16,IL16,JJ16) -> 756.16084 | JR16: =SUM(U16,BG16,CG16,DP16,FM16,HO16,IM16,JK16) -> 0 | JS16: =SUM(V16,BH16,CH16,DQ16,FN16,HP16,IN16,JL16) -> 0 | JT16: =SUM(W16,BI16,CI16,DR16,FO16,HQ16,IO16,JM16) -> 1.5 | JU16: =SUM(X16,BJ16,CJ16,DS16,FP16,HR16,IP16,JN16) -> 0 | JV16: =SUM(DT16,BK16,CK16) -> 0 | JW16: =SUM(JQ16:JV16) -> 757.66084
A17: IWW=Warrens Root Collar Weevil | G17: =SUM(B17:F17) -> 0 | M17: =SUM(H17:L17) -> 0 | S17: =SUM(N17:R17) -> 0 | T17: =SUM(B17,H17,N17) -> 0 | U17: =SUM(C17,I17,O17) -> 0 | V17: =SUM(D17,J17,P17) -> 0 | W17: =SUM(E17,K17,Q17) -> 0 | X17: =SUM(F17,L17,R17) -> 0 | Y17: =SUM(T17:X17) -> 0 | AE17: =SUM(Z17:AD17) -> 0 | AL17: =SUM(AF17:AK17) -> 0 | AR17: =SUM(AM17:AQ17) -> 0 | AY17: =SUM(AS17:AX17) -> 0 | BE17: =SUM(AZ17:BD17) -> 0 | BF17: =SUM(Z17,AF17,AM17,AS17,AZ17) -> 0 | BG17: =SUM(AA17,AG17,AN17,AT17,BA17) -> 0 | BH17: =SUM(AB17,AH17,AO17,AU17,BB17) -> 0 | BI17: =SUM(AC17,AI17,AP17,AV17,BC17) -> 0 | BJ17: =SUM(AD17,AJ17,AQ17,AW17,BD17) -> 0 | BK17: =SUM(AX17) -> 0 | BL17: =SUM(BF17:BK17) -> 0 | BR17: =SUM(BM17:BQ17) -> 0 | BX17: =SUM(BS17:BW17) -> 0 | CE17: =SUM(BY17:CD17) -> 0 | CF17: =SUM(BM17,BS17,BY17) -> 0 | CG17: =SUM(BN17,BT17,BZ17) -> 0 | CH17: =SUM(BO17,BU17,CA17) -> 0 | CI17: =SUM(BP17,BV17,CB17) -> 0 | CJ17: =SUM(BQ17,BW17,CC17) -> 0 | CK17: =SUM(CD17) -> 0 | CL17: =SUM(CF17:CK17) -> 0 | CS17: =SUM(CM17:CR17) -> 0 | CZ17: =SUM(CT17:CY17) -> 0 | DG17: =SUM(DA17:DF17) -> 0 | DN17: =SUM(DH17:DM17) -> 0 | DO17: =SUM(CM17,CT17,DA17,DH17) -> 0 | DP17: =SUM(CN17,CU17,DB17,DI17) -> 0 | DQ17: =SUM(CO17,CV17,DC17,DJ17) -> 0 | DR17: =SUM(CP17,CW17,DD17,DK17) -> 0 | DS17: =SUM(CQ17,CX17,DE17,DL17) -> 0 | DT17: =SUM(CR17,CY17,DF17,DM17) -> 0 | DU17: =SUM(DO17:DT17) -> 0 | EA17: =SUM(DV17:DZ17) -> 0 | EG17: =SUM(EB17:EF17) -> 0 | EM17: =SUM(EH17:EL17) -> 0 | ES17: =SUM(EN17:ER17) -> 0 | EY17: =SUM(ET17:EX17) -> 0 | FE17: =SUM(EZ17:FD17) -> 0 | FK17: =SUM(FF17:FJ17) -> 0 | FL17: =SUM(DV17,EB17,EH17,EN17,ET17,EZ17,FF17) -> 0 | FM17: =SUM(DW17,EC17,EI17,EO17,EU17,FA17,FG17) -> 0 | FN17: =SUM(DX17,ED17,EJ17,EP17,EV17,FB17,FH17) -> 0 | FO17: =SUM(DY17,EE17,EK17,EQ17,EW17,FC17,FI17) -> 0 | FP17: =SUM(DZ17,EF17,EL17,ER17,EX17,FD17,FJ17) -> 0 | FQ17: =SUM(FL17:FP17) -> 0 | FW17: =SUM(FR17:FV17) -> 0 | GC17: =SUM(FX17:GB17) -> 0 | GI17: =SUM(GD17:GH17) -> 0 | GO17: =SUM(GJ17:GN17) -> 0 | GU17: =SUM(GP17:GT17) -> 0 | HA17: =SUM(GV17:GZ17) -> 0 | HG17: =SUM(HB17:HF17) -> 0 | HM17: =SUM(HH17:HL17) -> 0 | HN17: =SUM(FR17,FX17,GD17,GJ17,GP17,GV17,HB17,HH17) -> 0 | HO17: =SUM(FS17,FY17,GE17,GK17,GQ17,GW17,HC17,HI17) -> 0 | HP17: =SUM(HJ17,HD17,GX17,GR17,GL17,GF17,FZ17,FT17) -> 0 | HQ17: =SUM(HK17,HE17,GY17,GS17,GM17,GG17,GA17,FU17) -> 0 | HR17: =SUM(HL17,HF17,GZ17,GT17,GN17,GH17,GB17,FV17) -> 0 | HS17: =SUM(HN17:HR17) -> 0 | HY17: =SUM(HT17:HX17) -> 0 | IE17: =SUM(HZ17:ID17) -> 0 | IK17: =SUM(IF17:IJ17) -> 0 | IL17: =SUM(HT17,HZ17,IF17) -> 0 | IM17: =SUM(HU17,IA17,IG17) -> 0 | IN17: =SUM(HV17,IB17,IH17) -> 0 | IO17: =SUM(HW17,IC17,II17) -> 0 | IP17: =SUM(HX17,ID17,IJ17) -> 0 | IQ17: =SUM(IL17:IP17) -> 0 | IW17: =SUM(IR17:IV17) -> 0 | JC17: =SUM(IX17:JB17) -> 0 | JI17: =SUM(JD17:JH17) -> 0 | JJ17: =SUM(IR17,IX17,JD17) -> 0 | JK17: =SUM(IS17,IY17,JE17) -> 0 | JL17: =SUM(IT17,IZ17,JF17) -> 0 | JM17: =SUM(IU17,JA17,JG17) -> 0 | JN17: =SUM(IV17,JB17,JH17) -> 0 | JO17: =SUM(JJ17:JN17) -> 0 | JQ17: =SUM(T17,BF17,CF17,DO17,FL17,HN17,IL17,JJ17) -> 0 | JR17: =SUM(U17,BG17,CG17,DP17,FM17,HO17,IM17,JK17) -> 0 | JS17: =SUM(V17,BH17,CH17,DQ17,FN17,HP17,IN17,JL17) -> 0 | JT17: =SUM(W17,BI17,CI17,DR17,FO17,HQ17,IO17,JM17) -> 0 | JU17: =SUM(X17,BJ17,CJ17,DS17,FP17,HR17,IP17,JN17) -> 0 | JV17: =SUM(DT17,BK17,CK17) -> 0 | JW17: =SUM(JQ17:JV17) -> 0
A18: Total All BB= | B18: =SUM(B6:B17) -> 7590.6054 | C18: =SUM(C6:C17) -> 500.47867 | D18: =SUM(D6:D17) -> 812.29852 | E18: =SUM(E6:E17) -> 88.406999 | F18: =SUM(F6:F17) -> 0 | G18: =SUM(G6:G17) -> 8991.7896 | H18: =SUM(H6:H17) -> 12487.806 | I18: =SUM(I6:I17) -> 3126.8887 | ... JO18: =SUM(JO6:JO17) -> 405557.2 | JQ18: =SUM(JQ6:JQ17) -> 2073179.4 | JR18: =SUM(JR6:JR17) -> 670495.47 | JS18: =SUM(JS6:JS17) -> 147131.18 | JT18: =SUM(JT6:JT17) -> 26243.248 | JU18: =SUM(JU6:JU17) -> 1332.4615 | JV18: =SUM(JV6:JV17) -> 0 | JW18: =SUM(JW6:JW17) -> 2918381.7
A20: Defoliators
A21: ID=Defoliators | G21: =SUM(B21:F21) -> 0 | M21: =SUM(H21:L21) -> 0 | S21: =SUM(N21:R21) -> 0 | T21: =SUM(B21,H21,N21) -> 0 | U21: =SUM(C21,I21,O21) -> 0 | V21: =SUM(D21,J21,P21) -> 0 | W21: =SUM(E21,K21,Q21) -> 0 | X21: =SUM(F21,L21,R21) -> 0 | Y21: =SUM(T21:X21) -> 0 | AE21: =SUM(Z21:AD21) -> 0 | AL21: =SUM(AF21:AK21) -> 0 | AR21: =SUM(AM21:AQ21) -> 0 | AU21: 182.48367 | AY21: =SUM(AS21:AX21) -> 182.48367 | BE21: =SUM(AZ21:BD21) -> 0 | BF21: =SUM(Z21,AF21,AM21,AS21,AZ21) -> 0 | BG21: =SUM(AA21,AG21,AN21,AT21,BA21) -> 0 | BH21: =SUM(AB21,AH21,AO21,AU21,BB21) -> 182.48367 | BI21: =SUM(AC21,AI21,AP21,AV21,BC21) -> 0 | BJ21: =SUM(AD21,AJ21,AQ21,AW21,BD21) -> 0 | BK21: =SUM(AX21,AK21) -> 0 | BL21: =SUM(BF21:BK21) -> 182.48367 | BR21: =SUM(BM21:BQ21) -> 0 | BX21: =SUM(BS21:BW21) -> 0 | CE21: =SUM(BY21:CD21) -> 0 | CF21: =SUM(BM21,BS21,BY21) -> 0 | CG21: =SUM(BN21,BT21,BZ21) -> 0 | CH21: =SUM(BO21,BU21,CA21) -> 0 | CI21: =SUM(BP21,BV21,CB21) -> 0 | CJ21: =SUM(BQ21,BW21,CC21) -> 0 | CK21: =SUM(CD21) -> 0 | CL21: =SUM(CF21:CK21) -> 0 | CS21: =SUM(CM21:CR21) -> 0 | CZ21: =SUM(CT21:CY21) -> 0 | DG21: =SUM(DA21:DF21) -> 0 | DN21: =SUM(DH21:DM21) -> 0 | DO21: =SUM(CM21,CT21,DA21,DH21) -> 0 | DP21: =SUM(CN21,CU21,DB21,DI21) -> 0 | DQ21: =SUM(CO21,CV21,DC21,DJ21) -> 0 | DR21: =SUM(CP21,CW21,DD21,DK21) -> 0 | DS21: =SUM(CQ21,CX21,DE21,DL21) -> 0 | DT21: =SUM(CR21,CY21,DF21,DM21) -> 0 | DU21: =SUM(DO21:DT21) -> 0 | EA21: =SUM(DV21:DZ21) -> 0 | EG21: =SUM(EB21:EF21) -> 0 | EM21: =SUM(EH21:EL21) -> 0 | EQ21: 71.033334 | ES21: =SUM(EN21:ER21) -> 71.033334 | EY21: =SUM(ET21:EX21) -> 0 | FC21: 70.62158 | FE21: =SUM(EZ21:FD21) -> 70.62158 | FK21: =SUM(FF21:FJ21) -> 0 | FL21: =SUM(DV21,EB21,EH21,EN21,ET21,EZ21,FF21) -> 0 | FM21: =SUM(DW21,EC21,EI21,EO21,EU21,FA21,FG21) -> 0 | FN21: =SUM(DX21,ED21,EJ21,EP21,EV21,FB21,FH21) -> 0 | FO21: =SUM(DY21,EE21,EK21,EQ21,EW21,FC21,FI21) -> 141.65491 | FP21: =SUM(DZ21,EF21,EL21,ER21,EX21,FD21,FJ21) -> 0 | FQ21: =SUM(FL21:FP21) -> 141.65491 | FW21: =SUM(FR21:FV21) -> 0 | GC21: =SUM(FX21:GB21) -> 0 | GG21: 21.611337 | GI21: =SUM(GD21:GH21) -> 21.611337 | GO21: =SUM(GJ21:GN21) -> 0 | GU21: =SUM(GP21:GT21) -> 0 | HA21: =SUM(GV21:GZ21) -> 0 | HG21: =SUM(HB21:HF21) -> 0 | HM21: =SUM(HH21:HL21) -> 0 | HN21: =SUM(FR21,FX21,GD21,GJ21,GP21,GV21,HB21,HH21) -> 0 | HO21: =SUM(FS21,FY21,GE21,GK21,GQ21,GW21,HC21,HI21) -> 0 | HP21: =SUM(HJ21,HD21,GX21,GR21,GL21,GF21,FZ21,FT21) -> 0 | HQ21: =SUM(HK21,HE21,GY21,GS21,GM21,GG21,GA21,FU21) -> 21.611337 | HR21: =SUM(HL21,HF21,GZ21,GT21,GN21,GH21,GB21,FV21) -> 0 | HS21: =SUM(HN21:HR21) -> 21.611337 | HY21: =SUM(HT21:HX21) -> 0 | IE21: =SUM(HZ21:ID21) -> 0 | IK21: =SUM(IF21:IJ21) -> 0 | IL21: =SUM(HT21,HZ21,IF21) -> 0 | IM21: =SUM(HU21,IA21,IG21) -> 0 | IN21: =SUM(HV21,IB21,IH21) -> 0 | IO21: =SUM(HW21,IC21,II21) -> 0 | IP21: =SUM(HX21,ID21,IJ21) -> 0 | IQ21: =SUM(IL21:IP21) -> 0 | IW21: =SUM(IR21:IV21) -> 0 | JC21: =SUM(IX21:JB21) -> 0 | JI21: =SUM(JD21:JH21) -> 0 | JJ21: =SUM(IR21,IX21,JD21) -> 0 | JK21: =SUM(IS21,IY21,JE21) -> 0 | JL21: =SUM(IT21,IZ21,JF21) -> 0 | JM21: =SUM(IU21,JA21,JG21) -> 0 | JN21: =SUM(IV21,JB21,JH21) -> 0 | JO21: =SUM(JJ21:JN21) -> 0 | JQ21: =SUM(T21,BF21,CF21,DO21,FL21,HN21,IL21,JJ21) -> 0 | JR21: =SUM(U21,BG21,CG21,DP21,FM21,HO21,IM21,JK21) -> 0 | JS21: =SUM(V21,BH21,CH21,DQ21,FN21,HP21,IN21,JL21) -> 182.48367 | JT21: =SUM(W21,BI21,CI21,DR21,FO21,HQ21,IO21,JM21) -> 163.26625 | JU21: =SUM(X21,BJ21,CJ21,DS21,FP21,HR21,IP21,JN21) -> 0 | JV21: =SUM(DT21,BK21,CK21) -> 0 | JW21: =SUM(JQ21:JV21) -> 345.74992
A22: IAB=Balsam Woolly Adelgid | G22: =SUM(B22:F22) -> 0 | M22: =SUM(H22:L22) -> 0 | N22: 22.866557 | S22: =SUM(N22:R22) -> 22.866557 | T22: =SUM(B22,H22,N22) -> 22.866557 | U22: =SUM(C22,I22,O22) -> 0 | V22: =SUM(D22,J22,P22) -> 0 | W22: =SUM(E22,K22,Q22) -> 0 | X22: =SUM(F22,L22,R22) -> 0 | Y22: =SUM(T22:X22) -> 22.866557 | Z22: 30.380023 | AE22: =SUM(Z22:AD22) -> 30.380023 | AF22: 87.91876 | AL22: =SUM(AF22:AK22) -> 87.91876 | AR22: =SUM(AM22:AQ22) -> 0 | AY22: =SUM(AS22:AX22) -> 0 | AZ22: 88.895634 | BA22: 28.854198 | BC22: 0.75 | BE22: =SUM(AZ22:BD22) -> 118.49983 | BF22: =SUM(Z22,AF22,AM22,AS22,AZ22) -> 207.19442 | BG22: =SUM(AA22,AG22,AN22,AT22,BA22) -> 28.854198 | BH22: =SUM(AB22,AH22,AO22,AU22,BB22) -> 0 | BI22: =SUM(AC22,AI22,AP22,AV22,BC22) -> 0.75 | BJ22: =SUM(AD22,AJ22,AQ22,AW22,BD22) -> 0 | BK22: =SUM(AX22,AK22) -> 0 | BL22: =SUM(BF22:BK22) -> 236.79861 | BR22: =SUM(BM22:BQ22) -> 0 | BX22: =SUM(BS22:BW22) -> 0 | CE22: =SUM(BY22:CD22) -> 0 | CF22: =SUM(BM22,BS22,BY22) -> 0 | CG22: =SUM(BN22,BT22,BZ22) -> 0 | CH22: =SUM(BO22,BU22,CA22) -> 0 | CI22: =SUM(BP22,BV22,CB22) -> 0 | CJ22: =SUM(BQ22,BW22,CC22) -> 0 | CK22: =SUM(CD22) -> 0 | CL22: =SUM(CF22:CK22) -> 0 | CS22: =SUM(CM22:CR22) -> 0 | CZ22: =SUM(CT22:CY22) -> 0 | DG22: =SUM(DA22:DF22) -> 0 | DN22: =SUM(DH22:DM22) -> 0 | DO22: =SUM(CM22,CT22,DA22,DH22) -> 0 | DP22: =SUM(CN22,CU22,DB22,DI22) -> 0 | DQ22: =SUM(CO22,CV22,DC22,DJ22) -> 0 | DR22: =SUM(CP22,CW22,DD22,DK22) -> 0 | DS22: =SUM(CQ22,CX22,DE22,DL22) -> 0 | DT22: =SUM(CR22,CY22,DF22,DM22) -> 0 | DU22: =SUM(DO22:DT22) -> 0 | DW22: 34.826294 | EA22: =SUM(DV22:DZ22) -> 34.826294 | EG22: =SUM(EB22:EF22) -> 0 | EM22: =SUM(EH22:EL22) -> 0 | ES22: =SUM(EN22:ER22) -> 0 | EY22: =SUM(ET22:EX22) -> 0 | FE22: =SUM(EZ22:FD22) -> 0 | FK22: =SUM(FF22:FJ22) -> 0 | FL22: =SUM(DV22,EB22,EH22,EN22,ET22,EZ22,FF22) -> 0 | FM22: =SUM(DW22,EC22,EI22,EO22,EU22,FA22,FG22) -> 34.826294 | FN22: =SUM(DX22,ED22,EJ22,EP22,EV22,FB22,FH22) -> 0 | FO22: =SUM(DY22,EE22,EK22,EQ22,EW22,FC22,FI22) -> 0 | FP22: =SUM(DZ22,EF22,EL22,ER22,EX22,FD22,FJ22) -> 0 | FQ22: =SUM(FL22:FP22) -> 34.826294 | FW22: =SUM(FR22:FV22) -> 0 | GC22: =SUM(FX22:GB22) -> 0 | GI22: =SUM(GD22:GH22) -> 0 | GO22: =SUM(GJ22:GN22) -> 0 | GU22: =SUM(GP22:GT22) -> 0 | HA22: =SUM(GV22:GZ22) -> 0 | HG22: =SUM(HB22:HF22) -> 0 | HM22: =SUM(HH22:HL22) -> 0 | HN22: =SUM(FR22,FX22,GD22,GJ22,GP22,GV22,HB22,HH22) -> 0 | HO22: =SUM(FS22,FY22,GE22,GK22,GQ22,GW22,HC22,HI22) -> 0 | HP22: =SUM(HJ22,HD22,GX22,GR22,GL22,GF22,FZ22,FT22) -> 0 | HQ22: =SUM(HK22,HE22,GY22,GS22,GM22,GG22,GA22,FU22) -> 0 | HR22: =SUM(HL22,HF22,GZ22,GT22,GN22,GH22,GB22,FV22) -> 0 | HS22: =SUM(HN22:HR22) -> 0 | HY22: =SUM(HT22:HX22) -> 0 | IE22: =SUM(HZ22:ID22) -> 0 | IK22: =SUM(IF22:IJ22) -> 0 | IL22: =SUM(HT22,HZ22,IF22) -> 0 | IM22: =SUM(HU22,IA22,IG22) -> 0 | IN22: =SUM(HV22,IB22,IH22) -> 0 | IO22: =SUM(HW22,IC22,II22) -> 0 | IP22: =SUM(HX22,ID22,IJ22) -> 0 | IQ22: =SUM(IL22:IP22) -> 0 | IW22: =SUM(IR22:IV22) -> 0 | JC22: =SUM(IX22:JB22) -> 0 | JI22: =SUM(JD22:JH22) -> 0 | JJ22: =SUM(IR22,IX22,JD22) -> 0 | JK22: =SUM(IS22,IY22,JE22) -> 0 | JL22: =SUM(IT22,IZ22,JF22) -> 0 | JM22: =SUM(IU22,JA22,JG22) -> 0 | JN22: =SUM(IV22,JB22,JH22) -> 0 | JO22: =SUM(JJ22:JN22) -> 0 | JQ22: =SUM(T22,BF22,CF22,DO22,FL22,HN22,IL22,JJ22) -> 230.06097 | JR22: =SUM(U22,BG22,CG22,DP22,FM22,HO22,IM22,JK22) -> 63.680491 | JS22: =SUM(V22,BH22,CH22,DQ22,FN22,HP22,IN22,JL22) -> 0 | JT22: =SUM(W22,BI22,CI22,DR22,FO22,HQ22,IO22,JM22) -> 0.75 | JU22: =SUM(X22,BJ22,CJ22,DS22,FP22,HR22,IP22,JN22) -> 0 | JV22: =SUM(DT22,BK22,CK22) -> 0 | JW22: =SUM(JQ22:JV22) -> 294.49147
A23: IAS=Green Spruce Aphid | G23: =SUM(B23:F23) -> 0 | M23: =SUM(H23:L23) -> 0 | S23: =SUM(N23:R23) -> 0 | T23: =SUM(B23,H23,N23) -> 0 | U23: =SUM(C23,I23,O23) -> 0 | V23: =SUM(D23,J23,P23) -> 0 | W23: =SUM(E23,K23,Q23) -> 0 | X23: =SUM(F23,L23,R23) -> 0 | Y23: =SUM(T23:X23) -> 0 | AE23: =SUM(Z23:AD23) -> 0 | AL23: =SUM(AF23:AK23) -> 0 | AR23: =SUM(AM23:AQ23) -> 0 | AT23: 55.260991 | AU23: 522.76735 | AY23: =SUM(AS23:AX23) -> 578.02834 | BE23: =SUM(AZ23:BD23) -> 0 | BF23: =SUM(Z23,AF23,AM23,AS23,AZ23) -> 0 | BG23: =SUM(AA23,AG23,AN23,AT23,BA23) -> 55.260991 | BH23: =SUM(AB23,AH23,AO23,AU23,BB23) -> 522.76735 | BI23: =SUM(AC23,AI23,AP23,AV23,BC23) -> 0 | BJ23: =SUM(AD23,AJ23,AQ23,AW23,BD23) -> 0 | BK23: =SUM(AX23,AK23) -> 0 | BL23: =SUM(BF23:BK23) -> 578.02834 | BR23: =SUM(BM23:BQ23) -> 0 | BX23: =SUM(BS23:BW23) -> 0 | CE23: =SUM(BY23:CD23) -> 0 | CF23: =SUM(BM23,BS23,BY23) -> 0 | CG23: =SUM(BN23,BT23,BZ23) -> 0 | CH23: =SUM(BO23,BU23,CA23) -> 0 | CI23: =SUM(BP23,BV23,CB23) -> 0 | CJ23: =SUM(BQ23,BW23,CC23) -> 0 | CK23: =SUM(CD23) -> 0 | CL23: =SUM(CF23:CK23) -> 0 | CS23: =SUM(CM23:CR23) -> 0 | CZ23: =SUM(CT23:CY23) -> 0 | DG23: =SUM(DA23:DF23) -> 0 | DN23: =SUM(DH23:DM23) -> 0 | DO23: =SUM(CM23,CT23,DA23,DH23) -> 0 | DP23: =SUM(CN23,CU23,DB23,DI23) -> 0 | DQ23: =SUM(CO23,CV23,DC23,DJ23) -> 0 | DR23: =SUM(CP23,CW23,DD23,DK23) -> 0 | DS23: =SUM(CQ23,CX23,DE23,DL23) -> 0 | DT23: =SUM(CR23,CY23,DF23,DM23) -> 0 | DU23: =SUM(DO23:DT23) -> 0 | EA23: =SUM(DV23:DZ23) -> 0 | EG23: =SUM(EB23:EF23) -> 0 | EM23: =SUM(EH23:EL23) -> 0 | ES23: =SUM(EN23:ER23) -> 0 | EY23: =SUM(ET23:EX23) -> 0 | FE23: =SUM(EZ23:FD23) -> 0 | FK23: =SUM(FF23:FJ23) -> 0 | FL23: =SUM(DV23,EB23,EH23,EN23,ET23,EZ23,FF23) -> 0 | FM23: =SUM(DW23,EC23,EI23,EO23,EU23,FA23,FG23) -> 0 | FN23: =SUM(DX23,ED23,EJ23,EP23,EV23,FB23,FH23) -> 0 | FO23: =SUM(DY23,EE23,EK23,EQ23,EW23,FC23,FI23) -> 0 | FP23: =SUM(DZ23,EF23,EL23,ER23,EX23,FD23,FJ23) -> 0 | FQ23: =SUM(FL23:FP23) -> 0 | FW23: =SUM(FR23:FV23) -> 0 | GC23: =SUM(FX23:GB23) -> 0 | GI23: =SUM(GD23:GH23) -> 0 | GO23: =SUM(GJ23:GN23) -> 0 | GU23: =SUM(GP23:GT23) -> 0 | HA23: =SUM(GV23:GZ23) -> 0 | HG23: =SUM(HB23:HF23) -> 0 | HM23: =SUM(HH23:HL23) -> 0 | HN23: =SUM(FR23,FX23,GD23,GJ23,GP23,GV23,HB23,HH23) -> 0 | HO23: =SUM(FS23,FY23,GE23,GK23,GQ23,GW23,HC23,HI23) -> 0 | HP23: =SUM(HJ23,HD23,GX23,GR23,GL23,GF23,FZ23,FT23) -> 0 | HQ23: =SUM(HK23,HE23,GY23,GS23,GM23,GG23,GA23,FU23) -> 0 | HR23: =SUM(HL23,HF23,GZ23,GT23,GN23,GH23,GB23,FV23) -> 0 | HS23: =SUM(HN23:HR23) -> 0 | HY23: =SUM(HT23:HX23) -> 0 | IE23: =SUM(HZ23:ID23) -> 0 | IK23: =SUM(IF23:IJ23) -> 0 | IL23: =SUM(HT23,HZ23,IF23) -> 0 | IM23: =SUM(HU23,IA23,IG23) -> 0 | IN23: =SUM(HV23,IB23,IH23) -> 0 | IO23: =SUM(HW23,IC23,II23) -> 0 | IP23: =SUM(HX23,ID23,IJ23) -> 0 | IQ23: =SUM(IL23:IP23) -> 0 | IW23: =SUM(IR23:IV23) -> 0 | JC23: =SUM(IX23:JB23) -> 0 | JI23: =SUM(JD23:JH23) -> 0 | JJ23: =SUM(IR23,IX23,JD23) -> 0 | JK23: =SUM(IS23,IY23,JE23) -> 0 | JL23: =SUM(IT23,IZ23,JF23) -> 0 | JM23: =SUM(IU23,JA23,JG23) -> 0 | JN23: =SUM(IV23,JB23,JH23) -> 0 | JO23: =SUM(JJ23:JN23) -> 0 | JQ23: =SUM(T23,BF23,CF23,DO23,FL23,HN23,IL23,JJ23) -> 0 | JR23: =SUM(U23,BG23,CG23,DP23,FM23,HO23,IM23,JK23) -> 55.260991 | JS23: =SUM(V23,BH23,CH23,DQ23,FN23,HP23,IN23,JL23) -> 522.76735 | JT23: =SUM(W23,BI23,CI23,DR23,FO23,HQ23,IO23,JM23) -> 0 | JU23: =SUM(X23,BJ23,CJ23,DS23,FP23,HR23,IP23,JN23) -> 0 | JV23: =SUM(DT23,BK23,CK23) -> 0 | JW23: =SUM(JQ23:JV23) -> 578.02834
A24: ID1=Leaf Beetles | G24: =SUM(B24:F24) -> 0 | M24: =SUM(H24:L24) -> 0 | S24: =SUM(N24:R24) -> 0 | T24: =SUM(B24,H24,N24) -> 0 | U24: =SUM(C24,I24,O24) -> 0 | V24: =SUM(D24,J24,P24) -> 0 | W24: =SUM(E24,K24,Q24) -> 0 | X24: =SUM(F24,L24,R24) -> 0 | Y24: =SUM(T24:X24) -> 0 | AE24: =SUM(Z24:AD24) -> 0 | AL24: =SUM(AF24:AK24) -> 0 | AR24: =SUM(AM24:AQ24) -> 0 | AY24: =SUM(AS24:AX24) -> 0 | BE24: =SUM(AZ24:BD24) -> 0 | BF24: =SUM(Z24,AF24,AM24,AS24,AZ24) -> 0 | BG24: =SUM(AA24,AG24,AN24,AT24,BA24) -> 0 | BH24: =SUM(AB24,AH24,AO24,AU24,BB24) -> 0 | BI24: =SUM(AC24,AI24,AP24,AV24,BC24) -> 0 | BJ24: =SUM(AD24,AJ24,AQ24,AW24,BD24) -> 0 | BK24: =SUM(AX24,AK24) -> 0 | BL24: =SUM(BF24:BK24) -> 0 | BR24: =SUM(BM24:BQ24) -> 0 | BX24: =SUM(BS24:BW24) -> 0 | CE24: =SUM(BY24:CD24) -> 0 | CF24: =SUM(BM24,BS24,BY24) -> 0 | CG24: =SUM(BN24,BT24,BZ24) -> 0 | CH24: =SUM(BO24,BU24,CA24) -> 0 | CI24: =SUM(BP24,BV24,CB24) -> 0 | CJ24: =SUM(BQ24,BW24,CC24) -> 0 | CK24: =SUM(CD24) -> 0 | CL24: =SUM(CF24:CK24) -> 0 | CS24: =SUM(CM24:CR24) -> 0 | CZ24: =SUM(CT24:CY24) -> 0 | DG24: =SUM(DA24:DF24) -> 0 | DN24: =SUM(DH24:DM24) -> 0 | DO24: =SUM(CM24,CT24,DA24,DH24) -> 0 | DP24: =SUM(CN24,CU24,DB24,DI24) -> 0 | DQ24: =SUM(CO24,CV24,DC24,DJ24) -> 0 | DR24: =SUM(CP24,CW24,DD24,DK24) -> 0 | DS24: =SUM(CQ24,CX24,DE24,DL24) -> 0 | DT24: =SUM(CR24,CY24,DF24,DM24) -> 0 | DU24: =SUM(DO24:DT24) -> 0 | EA24: =SUM(DV24:DZ24) -> 0 | EG24: =SUM(EB24:EF24) -> 0 | EM24: =SUM(EH24:EL24) -> 0 | ES24: =SUM(EN24:ER24) -> 0 | EY24: =SUM(ET24:EX24) -> 0 | FE24: =SUM(EZ24:FD24) -> 0 | FK24: =SUM(FF24:FJ24) -> 0 | FL24: =SUM(DV24,EB24,EH24,EN24,ET24,EZ24,FF24) -> 0 | FM24: =SUM(DW24,EC24,EI24,EO24,EU24,FA24,FG24) -> 0 | FN24: =SUM(DX24,ED24,EJ24,EP24,EV24,FB24,FH24) -> 0 | FO24: =SUM(DY24,EE24,EK24,EQ24,EW24,FC24,FI24) -> 0 | FP24: =SUM(DZ24,EF24,EL24,ER24,EX24,FD24,FJ24) -> 0 | FQ24: =SUM(FL24:FP24) -> 0 | FW24: =SUM(FR24:FV24) -> 0 | GC24: =SUM(FX24:GB24) -> 0 | GI24: =SUM(GD24:GH24) -> 0 | GO24: =SUM(GJ24:GN24) -> 0 | GU24: =SUM(GP24:GT24) -> 0 | HA24: =SUM(GV24:GZ24) -> 0 | HG24: =SUM(HB24:HF24) -> 0 | HM24: =SUM(HH24:HL24) -> 0 | HN24: =SUM(FR24,FX24,GD24,GJ24,GP24,GV24,HB24,HH24) -> 0 | HO24: =SUM(FS24,FY24,GE24,GK24,GQ24,GW24,HC24,HI24) -> 0 | HP24: =SUM(HJ24,HD24,GX24,GR24,GL24,GF24,FZ24,FT24) -> 0 | HQ24: =SUM(HK24,HE24,GY24,GS24,GM24,GG24,GA24,FU24) -> 0 | HR24: =SUM(HL24,HF24,GZ24,GT24,GN24,GH24,GB24,FV24) -> 0 | HS24: =SUM(HN24:HR24) -> 0 | HY24: =SUM(HT24:HX24) -> 0 | IE24: =SUM(HZ24:ID24) -> 0 | IK24: =SUM(IF24:IJ24) -> 0 | IL24: =SUM(HT24,HZ24,IF24) -> 0 | IM24: =SUM(HU24,IA24,IG24) -> 0 | IN24: =SUM(HV24,IB24,IH24) -> 0 | IO24: =SUM(HW24,IC24,II24) -> 0 | IP24: =SUM(HX24,ID24,IJ24) -> 0 | IQ24: =SUM(IL24:IP24) -> 0 | IW24: =SUM(IR24:IV24) -> 0 | JC24: =SUM(IX24:JB24) -> 0 | JI24: =SUM(JD24:JH24) -> 0 | JJ24: =SUM(IR24,IX24,JD24) -> 0 | JK24: =SUM(IS24,IY24,JE24) -> 0 | JL24: =SUM(IT24,IZ24,JF24) -> 0 | JM24: =SUM(IU24,JA24,JG24) -> 0 | JN24: =SUM(IV24,JB24,JH24) -> 0 | JO24: =SUM(JJ24:JN24) -> 0 | JQ24: =SUM(T24,BF24,CF24,DO24,FL24,HN24,IL24,JJ24) -> 0 | JR24: =SUM(U24,BG24,CG24,DP24,FM24,HO24,IM24,JK24) -> 0 | JS24: =SUM(V24,BH24,CH24,DQ24,FN24,HP24,IN24,JL24) -> 0 | JT24: =SUM(W24,BI24,CI24,DR24,FO24,HQ24,IO24,JM24) -> 0 | JU24: =SUM(X24,BJ24,CJ24,DS24,FP24,HR24,IP24,JN24) -> 0 | JV24: =SUM(DT24,BK24,CK24) -> 0 | JW24: =SUM(JQ24:JV24) -> 0
A25: ID2=Bruce spanworm | G25: =SUM(B25:F25) -> 0 | M25: =SUM(H25:L25) -> 0 | S25: =SUM(N25:R25) -> 0 | T25: =SUM(B25,H25,N25) -> 0 | U25: =SUM(C25,I25,O25) -> 0 | V25: =SUM(D25,J25,P25) -> 0 | W25: =SUM(E25,K25,Q25) -> 0 | X25: =SUM(F25,L25,R25) -> 0 | Y25: =SUM(T25:X25) -> 0 | AE25: =SUM(Z25:AD25) -> 0 | AL25: =SUM(AF25:AK25) -> 0 | AR25: =SUM(AM25:AQ25) -> 0 | AY25: =SUM(AS25:AX25) -> 0 | BE25: =SUM(AZ25:BD25) -> 0 | BF25: =SUM(Z25,AF25,AM25,AS25,AZ25) -> 0 | BG25: =SUM(AA25,AG25,AN25,AT25,BA25) -> 0 | BH25: =SUM(AB25,AH25,AO25,AU25,BB25) -> 0 | BI25: =SUM(AC25,AI25,AP25,AV25,BC25) -> 0 | BJ25: =SUM(AD25,AJ25,AQ25,AW25,BD25) -> 0 | BK25: =SUM(AX25,AK25) -> 0 | BL25: =SUM(BF25:BK25) -> 0 | BR25: =SUM(BM25:BQ25) -> 0 | BX25: =SUM(BS25:BW25) -> 0 | CE25: =SUM(BY25:CD25) -> 0 | CF25: =SUM(BM25,BS25,BY25) -> 0 | CG25: =SUM(BN25,BT25,BZ25) -> 0 | CH25: =SUM(BO25,BU25,CA25) -> 0 | CI25: =SUM(BP25,BV25,CB25) -> 0 | CJ25: =SUM(BQ25,BW25,CC25) -> 0 | CK25: =SUM(CD25) -> 0 | CL25: =SUM(CF25:CK25) -> 0 | CS25: =SUM(CM25:CR25) -> 0 | CZ25: =SUM(CT25:CY25) -> 0 | DG25: =SUM(DA25:DF25) -> 0 | DN25: =SUM(DH25:DM25) -> 0 | DO25: =SUM(CM25,CT25,DA25,DH25) -> 0 | DP25: =SUM(CN25,CU25,DB25,DI25) -> 0 | DQ25: =SUM(CO25,CV25,DC25,DJ25) -> 0 | DR25: =SUM(CP25,CW25,DD25,DK25) -> 0 | DS25: =SUM(CQ25,CX25,DE25,DL25) -> 0 | DT25: =SUM(CR25,CY25,DF25,DM25) -> 0 | DU25: =SUM(DO25:DT25) -> 0 | EA25: =SUM(DV25:DZ25) -> 0 | EG25: =SUM(EB25:EF25) -> 0 | EM25: =SUM(EH25:EL25) -> 0 | ES25: =SUM(EN25:ER25) -> 0 | EY25: =SUM(ET25:EX25) -> 0 | FE25: =SUM(EZ25:FD25) -> 0 | FK25: =SUM(FF25:FJ25) -> 0 | FL25: =SUM(DV25,EB25,EH25,EN25,ET25,EZ25,FF25) -> 0 | FM25: =SUM(DW25,EC25,EI25,EO25,EU25,FA25,FG25) -> 0 | FN25: =SUM(DX25,ED25,EJ25,EP25,EV25,FB25,FH25) -> 0 | FO25: =SUM(DY25,EE25,EK25,EQ25,EW25,FC25,FI25) -> 0 | FP25: =SUM(DZ25,EF25,EL25,ER25,EX25,FD25,FJ25) -> 0 | FQ25: =SUM(FL25:FP25) -> 0 | FW25: =SUM(FR25:FV25) -> 0 | GC25: =SUM(FX25:GB25) -> 0 | GI25: =SUM(GD25:GH25) -> 0 | GO25: =SUM(GJ25:GN25) -> 0 | GU25: =SUM(GP25:GT25) -> 0 | HA25: =SUM(GV25:GZ25) -> 0 | HG25: =SUM(HB25:HF25) -> 0 | HM25: =SUM(HH25:HL25) -> 0 | HN25: =SUM(FR25,FX25,GD25,GJ25,GP25,GV25,HB25,HH25) -> 0 | HO25: =SUM(FS25,FY25,GE25,GK25,GQ25,GW25,HC25,HI25) -> 0 | HP25: =SUM(HJ25,HD25,GX25,GR25,GL25,GF25,FZ25,FT25) -> 0 | HQ25: =SUM(HK25,HE25,GY25,GS25,GM25,GG25,GA25,FU25) -> 0 | HR25: =SUM(HL25,HF25,GZ25,GT25,GN25,GH25,GB25,FV25) -> 0 | HS25: =SUM(HN25:HR25) -> 0 | HY25: =SUM(HT25:HX25) -> 0 | IE25: =SUM(HZ25:ID25) -> 0 | IK25: =SUM(IF25:IJ25) -> 0 | IL25: =SUM(HT25,HZ25,IF25) -> 0 | IM25: =SUM(HU25,IA25,IG25) -> 0 | IN25: =SUM(HV25,IB25,IH25) -> 0 | IO25: =SUM(HW25,IC25,II25) -> 0 | IP25: =SUM(HX25,ID25,IJ25) -> 0 | IQ25: =SUM(IL25:IP25) -> 0 | IS25: 4212.4379 | IT25: 17879.47 | IU25: 360.32218 | IW25: =SUM(IR25:IV25) -> 22452.23 | JC25: =SUM(IX25:JB25) -> 0 | JI25: =SUM(JD25:JH25) -> 0 | JJ25: =SUM(IR25,IX25,JD25) -> 0 | JK25: =SUM(IS25,IY25,JE25) -> 4212.4379 | JL25: =SUM(IT25,IZ25,JF25) -> 17879.47 | JM25: =SUM(IU25,JA25,JG25) -> 360.32218 | JN25: =SUM(IV25,JB25,JH25) -> 0 | JO25: =SUM(JJ25:JN25) -> 22452.23 | JQ25: =SUM(T25,BF25,CF25,DO25,FL25,HN25,IL25,JJ25) -> 0 | JR25: =SUM(U25,BG25,CG25,DP25,FM25,HO25,IM25,JK25) -> 4212.4379 | JS25: =SUM(V25,BH25,CH25,DQ25,FN25,HP25,IN25,JL25) -> 17879.47 | JT25: =SUM(W25,BI25,CI25,DR25,FO25,HQ25,IO25,JM25) -> 360.32218 | JU25: =SUM(X25,BJ25,CJ25,DS25,FP25,HR25,IP25,JN25) -> 0 | JV25: =SUM(DT25,BK25,CK25) -> 0 | JW25: =SUM(JQ25:JV25) -> 22452.23
A26: ID6=Aspen Leaf Miner | G26: =SUM(B26:F26) -> 0 | M26: =SUM(H26:L26) -> 0 | S26: =SUM(N26:R26) -> 0 | T26: =SUM(B26,H26,N26) -> 0 | U26: =SUM(C26,I26,O26) -> 0 | V26: =SUM(D26,J26,P26) -> 0 | W26: =SUM(E26,K26,Q26) -> 0 | X26: =SUM(F26,L26,R26) -> 0 | Y26: =SUM(T26:X26) -> 0 | AE26: =SUM(Z26:AD26) -> 0 | AH26: 87.637691 | AI26: 269.10941 | AL26: =SUM(AF26:AK26) -> 356.7471 | AN26: 487.38167 | AO26: 706.43185 | AP26: 208.93879 | AR26: =SUM(AM26:AQ26) -> 1402.7523 | AY26: =SUM(AS26:AX26) -> 0 | BE26: =SUM(AZ26:BD26) -> 0 | BF26: =SUM(Z26,AF26,AM26,AS26,AZ26) -> 0 | BG26: =SUM(AA26,AG26,AN26,AT26,BA26) -> 487.38167 | BH26: =SUM(AB26,AH26,AO26,AU26,BB26) -> 794.06954 | BI26: =SUM(AC26,AI26,AP26,AV26,BC26) -> 478.0482 | BJ26: =SUM(AD26,AJ26,AQ26,AW26,BD26) -> 0 | BK26: =SUM(AX26,AK26) -> 0 | BL26: =SUM(BF26:BK26) -> 1759.4994 | BN26: 29810.614 | BO26: 15646.99 | BP26: 3166.5441 | BR26: =SUM(BM26:BQ26) -> 48624.148 | BT26: 50199.107 | BU26: 15377.009 | BX26: =SUM(BS26:BW26) -> 65576.116 | BZ26: 32087.465 | CA26: 27417.475 | CB26: 342.95028 | CE26: =SUM(BY26:CD26) -> 59847.891 | CF26: =SUM(BM26,BS26,BY26) -> 0 | CG26: =SUM(BN26,BT26,BZ26) -> 112097.19 | CH26: =SUM(BO26,BU26,CA26) -> 58441.474 | CI26: =SUM(BP26,BV26,CB26) -> 3509.4944 | CJ26: =SUM(BQ26,BW26,CC26) -> 0 | CK26: =SUM(CD26) -> 0 | CL26: =SUM(CF26:CK26) -> 174048.15 | CN26: 13035.171 | CO26: 18164.71 | CP26: 809.19635 | CS26: =SUM(CM26:CR26) -> 32009.077 | CZ26: =SUM(CT26:CY26) -> 0 | DB26: 105.70736 | DG26: =SUM(DA26:DF26) -> 105.70736 | DI26: 815.12642 | DJ26: 3282.329 | DK26: 186.62664 | DN26: =SUM(DH26:DM26) -> 4284.0821 | DO26: =SUM(CM26,CT26,DA26,DH26) -> 0 | DP26: =SUM(CN26,CU26,DB26,DI26) -> 13956.005 | DQ26: =SUM(CO26,CV26,DC26,DJ26) -> 21447.039 | DR26: =SUM(CP26,CW26,DD26,DK26) -> 995.82299 | DS26: =SUM(CQ26,CX26,DE26,DL26) -> 0 | DT26: =SUM(CR26,CY26,DF26,DM26) -> 0 | DU26: =SUM(DO26:DT26) -> 36398.867 | DW26: 4717.6182 | DX26: 337.4879 | EA26: =SUM(DV26:DZ26) -> 5055.1061 | EC26: 228.34646 | ED26: 52.055631 | EG26: =SUM(EB26:EF26) -> 280.40209 | EI26: 420.53774 | EJ26: 352.37606 | EK26: 16.303681 | EM26: =SUM(EH26:EL26) -> 789.21748 | EO26: 1968.2029 | EP26: 463.21045 | ES26: =SUM(EN26:ER26) -> 2431.4133 | EV26: 33.996414 | EY26: =SUM(ET26:EX26) -> 33.996414 | FA26: 2528.7828 | FB26: 1299.3095 | FE26: =SUM(EZ26:FD26) -> 3828.0923 | FG26: 964.75575 | FH26: 467.3933 | FK26: =SUM(FF26:FJ26) -> 1432.149 | FL26: =SUM(DV26,EB26,EH26,EN26,ET26,EZ26,FF26) -> 0 | FM26: =SUM(DW26,EC26,EI26,EO26,EU26,FA26,FG26) -> 10828.244 | FN26: =SUM(DX26,ED26,EJ26,EP26,EV26,FB26,FH26) -> 3005.8292 | FO26: =SUM(DY26,EE26,EK26,EQ26,EW26,FC26,FI26) -> 16.303681 | FP26: =SUM(DZ26,EF26,EL26,ER26,EX26,FD26,FJ26) -> 0 | FQ26: =SUM(FL26:FP26) -> 13850.377 | FS26: 5749.2108 | FT26: 10428.288 | FU26: 5141.2623 | FW26: =SUM(FR26:FV26) -> 21318.761 | GC26: =SUM(FX26:GB26) -> 0 | GI26: =SUM(GD26:GH26) -> 0 | GO26: =SUM(GJ26:GN26) -> 0 | GQ26: 84077.75 | GR26: 86350.785 | GS26: 22163.893 | GU26: =SUM(GP26:GT26) -> 192592.43 | GW26: 44141.988 | GX26: 38805.63 | GY26: 22232.39 | HA26: =SUM(GV26:GZ26) -> 105180.01 | HG26: =SUM(HB26:HF26) -> 0 | HJ26: 58.219783 | HK26: 83.232214 | HM26: =SUM(HH26:HL26) -> 141.452 | HN26: =SUM(FR26,FX26,GD26,GJ26,GP26,GV26,HB26,HH26) -> 0 | HO26: =SUM(FS26,FY26,GE26,GK26,GQ26,GW26,HC26,HI26) -> 133968.95 | HP26: =SUM(HJ26,HD26,GX26,GR26,GL26,GF26,FZ26,FT26) -> 135642.92 | HQ26: =SUM(HK26,HE26,GY26,GS26,GM26,GG26,GA26,FU26) -> 49620.777 | HR26: =SUM(HL26,HF26,GZ26,GT26,GN26,GH26,GB26,FV26) -> 0 | HS26: =SUM(HN26:HR26) -> 319232.65 | HU26: 6031.9169 | HV26: 6983.775 | HW26: 2276.6984 | HY26: =SUM(HT26:HX26) -> 15292.39 | IA26: 11453.296 | IB26: 6453.496 | IC26: 156.47155 | IE26: =SUM(HZ26:ID26) -> 18063.264 | IG26: 83611.854 | IH26: 244203.15 | II26: 12367.798 | IK26: =SUM(IF26:IJ26) -> 340182.8 | IL26: =SUM(HT26,HZ26,IF26) -> 0 | IM26: =SUM(HU26,IA26,IG26) -> 101097.07 | IN26: =SUM(HV26,IB26,IH26) -> 257640.42 | IO26: =SUM(HW26,IC26,II26) -> 14800.968 | IP26: =SUM(HX26,ID26,IJ26) -> 0 | IQ26: =SUM(IL26:IP26) -> 373538.46 | IS26: 711.95637 | IT26: 17702.734 | IW26: =SUM(IR26:IV26) -> 18414.69 | IY26: 2897.572 | IZ26: 1944.535 | JC26: =SUM(IX26:JB26) -> 4842.107 | JI26: =SUM(JD26:JH26) -> 0 | JJ26: =SUM(IR26,IX26,JD26) -> 0 | JK26: =SUM(IS26,IY26,JE26) -> 3609.5284 | JL26: =SUM(IT26,IZ26,JF26) -> 19647.269 | JM26: =SUM(IU26,JA26,JG26) -> 0 | JN26: =SUM(IV26,JB26,JH26) -> 0 | JO26: =SUM(JJ26:JN26) -> 23256.797 | JQ26: =SUM(T26,BF26,CF26,DO26,FL26,HN26,IL26,JJ26) -> 0 | JR26: =SUM(U26,BG26,CG26,DP26,FM26,HO26,IM26,JK26) -> 376044.36 | JS26: =SUM(V26,BH26,CH26,DQ26,FN26,HP26,IN26,JL26) -> 496619.02 | JT26: =SUM(W26,BI26,CI26,DR26,FO26,HQ26,IO26,JM26) -> 69421.414 | JU26: =SUM(X26,BJ26,CJ26,DS26,FP26,HR26,IP26,JN26) -> 0 | JV26: =SUM(DT26,BK26,CK26) -> 0 | JW26: =SUM(JQ26:JV26) -> 942084.8
A27: IDA=Black Army Cutworm | G27: =SUM(B27:F27) -> 0 | M27: =SUM(H27:L27) -> 0 | S27: =SUM(N27:R27) -> 0 | T27: =SUM(B27,H27,N27) -> 0 | U27: =SUM(C27,I27,O27) -> 0 | V27: =SUM(D27,J27,P27) -> 0 | W27: =SUM(E27,K27,Q27) -> 0 | X27: =SUM(F27,L27,R27) -> 0 | Y27: =SUM(T27:X27) -> 0 | AE27: =SUM(Z27:AD27) -> 0 | AL27: =SUM(AF27:AK27) -> 0 | AR27: =SUM(AM27:AQ27) -> 0 | AY27: =SUM(AS27:AX27) -> 0 | BE27: =SUM(AZ27:BD27) -> 0 | BF27: =SUM(Z27,AF27,AM27,AS27,AZ27) -> 0 | BG27: =SUM(AA27,AG27,AN27,AT27,BA27) -> 0 | BH27: =SUM(AB27,AH27,AO27,AU27,BB27) -> 0 | BI27: =SUM(AC27,AI27,AP27,AV27,BC27) -> 0 | BJ27: =SUM(AD27,AJ27,AQ27,AW27,BD27) -> 0 | BK27: =SUM(AX27,AK27) -> 0 | BL27: =SUM(BF27:BK27) -> 0 | BR27: =SUM(BM27:BQ27) -> 0 | BX27: =SUM(BS27:BW27) -> 0 | CE27: =SUM(BY27:CD27) -> 0 | CF27: =SUM(BM27,BS27,BY27) -> 0 | CG27: =SUM(BN27,BT27,BZ27) -> 0 | CH27: =SUM(BO27,BU27,CA27) -> 0 | CI27: =SUM(BP27,BV27,CB27) -> 0 | CJ27: =SUM(BQ27,BW27,CC27) -> 0 | CK27: =SUM(CD27) -> 0 | CL27: =SUM(CF27:CK27) -> 0 | CS27: =SUM(CM27:CR27) -> 0 | CZ27: =SUM(CT27:CY27) -> 0 | DG27: =SUM(DA27:DF27) -> 0 | DN27: =SUM(DH27:DM27) -> 0 | DO27: =SUM(CM27,CT27,DA27,DH27) -> 0 | DP27: =SUM(CN27,CU27,DB27,DI27) -> 0 | DQ27: =SUM(CO27,CV27,DC27,DJ27) -> 0 | DR27: =SUM(CP27,CW27,DD27,DK27) -> 0 | DS27: =SUM(CQ27,CX27,DE27,DL27) -> 0 | DT27: =SUM(CR27,CY27,DF27,DM27) -> 0 | DU27: =SUM(DO27:DT27) -> 0 | EA27: =SUM(DV27:DZ27) -> 0 | EG27: =SUM(EB27:EF27) -> 0 | EM27: =SUM(EH27:EL27) -> 0 | ES27: =SUM(EN27:ER27) -> 0 | EY27: =SUM(ET27:EX27) -> 0 | FE27: =SUM(EZ27:FD27) -> 0 | FK27: =SUM(FF27:FJ27) -> 0 | FL27: =SUM(DV27,EB27,EH27,EN27,ET27,EZ27,FF27) -> 0 | FM27: =SUM(DW27,EC27,EI27,EO27,EU27,FA27,FG27) -> 0 | FN27: =SUM(DX27,ED27,EJ27,EP27,EV27,FB27,FH27) -> 0 | FO27: =SUM(DY27,EE27,EK27,EQ27,EW27,FC27,FI27) -> 0 | FP27: =SUM(DZ27,EF27,EL27,ER27,EX27,FD27,FJ27) -> 0 | FQ27: =SUM(FL27:FP27) -> 0 | FW27: =SUM(FR27:FV27) -> 0 | GC27: =SUM(FX27:GB27) -> 0 | GI27: =SUM(GD27:GH27) -> 0 | GO27: =SUM(GJ27:GN27) -> 0 | GU27: =SUM(GP27:GT27) -> 0 | HA27: =SUM(GV27:GZ27) -> 0 | HG27: =SUM(HB27:HF27) -> 0 | HM27: =SUM(HH27:HL27) -> 0 | HN27: =SUM(FR27,FX27,GD27,GJ27,GP27,GV27,HB27,HH27) -> 0 | HO27: =SUM(FS27,FY27,GE27,GK27,GQ27,GW27,HC27,HI27) -> 0 | HP27: =SUM(HJ27,HD27,GX27,GR27,GL27,GF27,FZ27,FT27) -> 0 | HQ27: =SUM(HK27,HE27,GY27,GS27,GM27,GG27,GA27,FU27) -> 0 | HR27: =SUM(HL27,HF27,GZ27,GT27,GN27,GH27,GB27,FV27) -> 0 | HS27: =SUM(HN27:HR27) -> 0 | HY27: =SUM(HT27:HX27) -> 0 | IE27: =SUM(HZ27:ID27) -> 0 | IK27: =SUM(IF27:IJ27) -> 0 | IL27: =SUM(HT27,HZ27,IF27) -> 0 | IM27: =SUM(HU27,IA27,IG27) -> 0 | IN27: =SUM(HV27,IB27,IH27) -> 0 | IO27: =SUM(HW27,IC27,II27) -> 0 | IP27: =SUM(HX27,ID27,IJ27) -> 0 | IQ27: =SUM(IL27:IP27) -> 0 | IW27: =SUM(IR27:IV27) -> 0 | JC27: =SUM(IX27:JB27) -> 0 | JI27: =SUM(JD27:JH27) -> 0 | JJ27: =SUM(IR27,IX27,JD27) -> 0 | JK27: =SUM(IS27,IY27,JE27) -> 0 | JL27: =SUM(IT27,IZ27,JF27) -> 0 | JM27: =SUM(IU27,JA27,JG27) -> 0 | JN27: =SUM(IV27,JB27,JH27) -> 0 | JO27: =SUM(JJ27:JN27) -> 0 | JQ27: =SUM(T27,BF27,CF27,DO27,FL27,HN27,IL27,JJ27) -> 0 | JR27: =SUM(U27,BG27,CG27,DP27,FM27,HO27,IM27,JK27) -> 0 | JS27: =SUM(V27,BH27,CH27,DQ27,FN27,HP27,IN27,JL27) -> 0 | JT27: =SUM(W27,BI27,CI27,DR27,FO27,HQ27,IO27,JM27) -> 0 | JU27: =SUM(X27,BJ27,CJ27,DS27,FP27,HR27,IP27,JN27) -> 0 | JV27: =SUM(DT27,BK27,CK27) -> 0 | JW27: =SUM(JQ27:JV27) -> 0
A28: IDB=2-Year Budworm | G28: =SUM(B28:F28) -> 0 | M28: =SUM(H28:L28) -> 0 | S28: =SUM(N28:R28) -> 0 | T28: =SUM(B28,H28,N28) -> 0 | U28: =SUM(C28,I28,O28) -> 0 | V28: =SUM(D28,J28,P28) -> 0 | W28: =SUM(E28,K28,Q28) -> 0 | X28: =SUM(F28,L28,R28) -> 0 | Y28: =SUM(T28:X28) -> 0 | AE28: =SUM(Z28:AD28) -> 0 | AL28: =SUM(AF28:AK28) -> 0 | AR28: =SUM(AM28:AQ28) -> 0 | AY28: =SUM(AS28:AX28) -> 0 | BE28: =SUM(AZ28:BD28) -> 0 | BF28: =SUM(Z28,AF28,AM28,AS28,AZ28) -> 0 | BG28: =SUM(AA28,AG28,AN28,AT28,BA28) -> 0 | BH28: =SUM(AB28,AH28,AO28,AU28,BB28) -> 0 | BI28: =SUM(AC28,AI28,AP28,AV28,BC28) -> 0 | BJ28: =SUM(AD28,AJ28,AQ28,AW28,BD28) -> 0 | BK28: =SUM(AX28,AK28) -> 0 | BL28: =SUM(BF28:BK28) -> 0 | BR28: =SUM(BM28:BQ28) -> 0 | BX28: =SUM(BS28:BW28) -> 0 | BZ28: 106.1736 | CE28: =SUM(BY28:CD28) -> 106.1736 | CF28: =SUM(BM28,BS28,BY28) -> 0 | CG28: =SUM(BN28,BT28,BZ28) -> 106.1736 | CH28: =SUM(BO28,BU28,CA28) -> 0 | CI28: =SUM(BP28,BV28,CB28) -> 0 | CJ28: =SUM(BQ28,BW28,CC28) -> 0 | CK28: =SUM(CD28) -> 0 | CL28: =SUM(CF28:CK28) -> 106.1736 | CN28: 3227.723 | CO28: 3895.1742 | CS28: =SUM(CM28:CR28) -> 7122.8972 | CZ28: =SUM(CT28:CY28) -> 0 | DG28: =SUM(DA28:DF28) -> 0 | DN28: =SUM(DH28:DM28) -> 0 | DO28: =SUM(CM28,CT28,DA28,DH28) -> 0 | DP28: =SUM(CN28,CU28,DB28,DI28) -> 3227.723 | DQ28: =SUM(CO28,CV28,DC28,DJ28) -> 3895.1742 | DR28: =SUM(CP28,CW28,DD28,DK28) -> 0 | DS28: =SUM(CQ28,CX28,DE28,DL28) -> 0 | DT28: =SUM(CR28,CY28,DF28,DM28) -> 0 | DU28: =SUM(DO28:DT28) -> 7122.8972 | EA28: =SUM(DV28:DZ28) -> 0 | EG28: =SUM(EB28:EF28) -> 0 | EM28: =SUM(EH28:EL28) -> 0 | ES28: =SUM(EN28:ER28) -> 0 | EY28: =SUM(ET28:EX28) -> 0 | FE28: =SUM(EZ28:FD28) -> 0 | FK28: =SUM(FF28:FJ28) -> 0 | FL28: =SUM(DV28,EB28,EH28,EN28,ET28,EZ28,FF28) -> 0 | FM28: =SUM(DW28,EC28,EI28,EO28,EU28,FA28,FG28) -> 0 | FN28: =SUM(DX28,ED28,EJ28,EP28,EV28,FB28,FH28) -> 0 | FO28: =SUM(DY28,EE28,EK28,EQ28,EW28,FC28,FI28) -> 0 | FP28: =SUM(DZ28,EF28,EL28,ER28,EX28,FD28,FJ28) -> 0 | FQ28: =SUM(FL28:FP28) -> 0 | FS28: 9661.0617 | FT28: 9747.2765 | FU28: 478.51378 | FW28: =SUM(FR28:FV28) -> 19886.852 | GC28: =SUM(FX28:GB28) -> 0 | GI28: =SUM(GD28:GH28) -> 0 | GO28: =SUM(GJ28:GN28) -> 0 | GQ28: 693.38299 | GU28: =SUM(GP28:GT28) -> 693.38299 | GW28: 4501.2574 | GX28: 2927.6785 | HA28: =SUM(GV28:GZ28) -> 7428.9359 | HG28: =SUM(HB28:HF28) -> 0 | HM28: =SUM(HH28:HL28) -> 0 | HN28: =SUM(FR28,FX28,GD28,GJ28,GP28,GV28,HB28,HH28) -> 0 | HO28: =SUM(FS28,FY28,GE28,GK28,GQ28,GW28,HC28,HI28) -> 14855.702 | HP28: =SUM(HJ28,HD28,GX28,GR28,GL28,GF28,FZ28,FT28) -> 12674.955 | HQ28: =SUM(HK28,HE28,GY28,GS28,GM28,GG28,GA28,FU28) -> 478.51378 | HR28: =SUM(HL28,HF28,GZ28,GT28,GN28,GH28,GB28,FV28) -> 0 | HS28: =SUM(HN28:HR28) -> 28009.171 | HU28: 7942.6731 | HV28: 2974.7155 | HY28: =SUM(HT28:HX28) -> 10917.389 | IE28: =SUM(HZ28:ID28) -> 0 | IH28: 240.66643 | II28: 23.749065 | IK28: =SUM(IF28:IJ28) -> 264.4155 | IL28: =SUM(HT28,HZ28,IF28) -> 0 | IM28: =SUM(HU28,IA28,IG28) -> 7942.6731 | IN28: =SUM(HV28,IB28,IH28) -> 3215.3819 | IO28: =SUM(HW28,IC28,II28) -> 23.749065 | IP28: =SUM(HX28,ID28,IJ28) -> 0 | IQ28: =SUM(IL28:IP28) -> 11181.804 | IW28: =SUM(IR28:IV28) -> 0 | JC28: =SUM(IX28:JB28) -> 0 | JI28: =SUM(JD28:JH28) -> 0 | JJ28: =SUM(IR28,IX28,JD28) -> 0 | JK28: =SUM(IS28,IY28,JE28) -> 0 | JL28: =SUM(IT28,IZ28,JF28) -> 0 | JM28: =SUM(IU28,JA28,JG28) -> 0 | JN28: =SUM(IV28,JB28,JH28) -> 0 | JO28: =SUM(JJ28:JN28) -> 0 | JQ28: =SUM(T28,BF28,CF28,DO28,FL28,HN28,IL28,JJ28) -> 0 | JR28: =SUM(U28,BG28,CG28,DP28,FM28,HO28,IM28,JK28) -> 26132.272 | JS28: =SUM(V28,BH28,CH28,DQ28,FN28,HP28,IN28,JL28) -> 19785.511 | JT28: =SUM(W28,BI28,CI28,DR28,FO28,HQ28,IO28,JM28) -> 502.26285 | JU28: =SUM(X28,BJ28,CJ28,DS28,FP28,HR28,IP28,JN28) -> 0 | JV28: =SUM(DT28,BK28,CK28) -> 0 | JW28: =SUM(JQ28:JV28) -> 46420.046
A29: IDC=Larch casebearer | G29: =SUM(B29:F29) -> 0 | M29: =SUM(H29:L29) -> 0 | S29: =SUM(N29:R29) -> 0 | T29: =SUM(B29,H29,N29) -> 0 | U29: =SUM(C29,I29,O29) -> 0 | V29: =SUM(D29,J29,P29) -> 0 | W29: =SUM(E29,K29,Q29) -> 0 | X29: =SUM(F29,L29,R29) -> 0 | Y29: =SUM(T29:X29) -> 0 | AE29: =SUM(Z29:AD29) -> 0 | AL29: =SUM(AF29:AK29) -> 0 | AR29: =SUM(AM29:AQ29) -> 0 | AY29: =SUM(AS29:AX29) -> 0 | BE29: =SUM(AZ29:BD29) -> 0 | BF29: =SUM(Z29,AF29,AM29,AS29,AZ29) -> 0 | BG29: =SUM(AA29,AG29,AN29,AT29,BA29) -> 0 | BH29: =SUM(AB29,AH29,AO29,AU29,BB29) -> 0 | BI29: =SUM(AC29,AI29,AP29,AV29,BC29) -> 0 | BJ29: =SUM(AD29,AJ29,AQ29,AW29,BD29) -> 0 | BK29: =SUM(AX29,AK29) -> 0 | BL29: =SUM(BF29:BK29) -> 0 | BR29: =SUM(BM29:BQ29) -> 0 | BX29: =SUM(BS29:BW29) -> 0 | CE29: =SUM(BY29:CD29) -> 0 | CF29: =SUM(BM29,BS29,BY29) -> 0 | CG29: =SUM(BN29,BT29,BZ29) -> 0 | CH29: =SUM(BO29,BU29,CA29) -> 0 | CI29: =SUM(BP29,BV29,CB29) -> 0 | CJ29: =SUM(BQ29,BW29,CC29) -> 0 | CK29: =SUM(CD29) -> 0 | CL29: =SUM(CF29:CK29) -> 0 | CS29: =SUM(CM29:CR29) -> 0 | CZ29: =SUM(CT29:CY29) -> 0 | DG29: =SUM(DA29:DF29) -> 0 | DI29: 25.520187 | DJ29: 6.5911519 | DN29: =SUM(DH29:DM29) -> 32.111339 | DO29: =SUM(CM29,CT29,DA29,DH29) -> 0 | DP29: =SUM(CN29,CU29,DB29,DI29) -> 25.520187 | DQ29: =SUM(CO29,CV29,DC29,DJ29) -> 6.5911519 | DR29: =SUM(CP29,CW29,DD29,DK29) -> 0 | DS29: =SUM(CQ29,CX29,DE29,DL29) -> 0 | DT29: =SUM(CR29,CY29,DF29,DM29) -> 0 | DU29: =SUM(DO29:DT29) -> 32.111339 | EA29: =SUM(DV29:DZ29) -> 0 | EG29: =SUM(EB29:EF29) -> 0 | EM29: =SUM(EH29:EL29) -> 0 | ES29: =SUM(EN29:ER29) -> 0 | EY29: =SUM(ET29:EX29) -> 0 | FE29: =SUM(EZ29:FD29) -> 0 | FK29: =SUM(FF29:FJ29) -> 0 | FL29: =SUM(DV29,EB29,EH29,EN29,ET29,EZ29,FF29) -> 0 | FM29: =SUM(DW29,EC29,EI29,EO29,EU29,FA29,FG29) -> 0 | FN29: =SUM(DX29,ED29,EJ29,EP29,EV29,FB29,FH29) -> 0 | FO29: =SUM(DY29,EE29,EK29,EQ29,EW29,FC29,FI29) -> 0 | FP29: =SUM(DZ29,EF29,EL29,ER29,EX29,FD29,FJ29) -> 0 | FQ29: =SUM(FL29:FP29) -> 0 | FW29: =SUM(FR29:FV29) -> 0 | GC29: =SUM(FX29:GB29) -> 0 | GI29: =SUM(GD29:GH29) -> 0 | GO29: =SUM(GJ29:GN29) -> 0 | GU29: =SUM(GP29:GT29) -> 0 | HA29: =SUM(GV29:GZ29) -> 0 | HG29: =SUM(HB29:HF29) -> 0 | HM29: =SUM(HH29:HL29) -> 0 | HN29: =SUM(FR29,FX29,GD29,GJ29,GP29,GV29,HB29,HH29) -> 0 | HO29: =SUM(FS29,FY29,GE29,GK29,GQ29,GW29,HC29,HI29) -> 0 | HP29: =SUM(HJ29,HD29,GX29,GR29,GL29,GF29,FZ29,FT29) -> 0 | HQ29: =SUM(HK29,HE29,GY29,GS29,GM29,GG29,GA29,FU29) -> 0 | HR29: =SUM(HL29,HF29,GZ29,GT29,GN29,GH29,GB29,FV29) -> 0 | HS29: =SUM(HN29:HR29) -> 0 | HY29: =SUM(HT29:HX29) -> 0 | IE29: =SUM(HZ29:ID29) -> 0 | IK29: =SUM(IF29:IJ29) -> 0 | IL29: =SUM(HT29,HZ29,IF29) -> 0 | IM29: =SUM(HU29,IA29,IG29) -> 0 | IN29: =SUM(HV29,IB29,IH29) -> 0 | IO29: =SUM(HW29,IC29,II29) -> 0 | IP29: =SUM(HX29,ID29,IJ29) -> 0 | IQ29: =SUM(IL29:IP29) -> 0 | IW29: =SUM(IR29:IV29) -> 0 | JC29: =SUM(IX29:JB29) -> 0 | JI29: =SUM(JD29:JH29) -> 0 | JJ29: =SUM(IR29,IX29,JD29) -> 0 | JK29: =SUM(IS29,IY29,JE29) -> 0 | JL29: =SUM(IT29,IZ29,JF29) -> 0 | JM29: =SUM(IU29,JA29,JG29) -> 0 | JN29: =SUM(IV29,JB29,JH29) -> 0 | JO29: =SUM(JJ29:JN29) -> 0 | JQ29: =SUM(T29,BF29,CF29,DO29,FL29,HN29,IL29,JJ29) -> 0 | JR29: =SUM(U29,BG29,CG29,DP29,FM29,HO29,IM29,JK29) -> 25.520187 | JS29: =SUM(V29,BH29,CH29,DQ29,FN29,HP29,IN29,JL29) -> 6.5911519 | JT29: =SUM(W29,BI29,CI29,DR29,FO29,HQ29,IO29,JM29) -> 0 | JU29: =SUM(X29,BJ29,CJ29,DS29,FP29,HR29,IP29,JN29) -> 0 | JV29: =SUM(DT29,BK29,CK29) -> 0 | JW29: =SUM(JQ29:JV29) -> 32.111339
A30: IDE=Spruce Budworm | G30: =SUM(B30:F30) -> 0 | M30: =SUM(H30:L30) -> 0 | S30: =SUM(N30:R30) -> 0 | T30: =SUM(B30,H30,N30) -> 0 | U30: =SUM(C30,I30,O30) -> 0 | V30: =SUM(D30,J30,P30) -> 0 | W30: =SUM(E30,K30,Q30) -> 0 | X30: =SUM(F30,L30,R30) -> 0 | Y30: =SUM(T30:X30) -> 0 | AE30: =SUM(Z30:AD30) -> 0 | AL30: =SUM(AF30:AK30) -> 0 | AR30: =SUM(AM30:AQ30) -> 0 | AY30: =SUM(AS30:AX30) -> 0 | BE30: =SUM(AZ30:BD30) -> 0 | BF30: =SUM(Z30,AF30,AM30,AS30,AZ30) -> 0 | BG30: =SUM(AA30,AG30,AN30,AT30,BA30) -> 0 | BH30: =SUM(AB30,AH30,AO30,AU30,BB30) -> 0 | BI30: =SUM(AC30,AI30,AP30,AV30,BC30) -> 0 | BJ30: =SUM(AD30,AJ30,AQ30,AW30,BD30) -> 0 | BK30: =SUM(AX30,AK30) -> 0 | BL30: =SUM(BF30:BK30) -> 0 | BR30: =SUM(BM30:BQ30) -> 0 | BX30: =SUM(BS30:BW30) -> 0 | CE30: =SUM(BY30:CD30) -> 0 | CF30: =SUM(BM30,BS30,BY30) -> 0 | CG30: =SUM(BN30,BT30,BZ30) -> 0 | CH30: =SUM(BO30,BU30,CA30) -> 0 | CI30: =SUM(BP30,BV30,CB30) -> 0 | CJ30: =SUM(BQ30,BW30,CC30) -> 0 | CK30: =SUM(CD30) -> 0 | CL30: =SUM(CF30:CK30) -> 0 | CS30: =SUM(CM30:CR30) -> 0 | CZ30: =SUM(CT30:CY30) -> 0 | DG30: =SUM(DA30:DF30) -> 0 | DN30: =SUM(DH30:DM30) -> 0 | DO30: =SUM(CM30,CT30,DA30,DH30) -> 0 | DP30: =SUM(CN30,CU30,DB30,DI30) -> 0 | DQ30: =SUM(CO30,CV30,DC30,DJ30) -> 0 | DR30: =SUM(CP30,CW30,DD30,DK30) -> 0 | DS30: =SUM(CQ30,CX30,DE30,DL30) -> 0 | DT30: =SUM(CR30,CY30,DF30,DM30) -> 0 | DU30: =SUM(DO30:DT30) -> 0 | EA30: =SUM(DV30:DZ30) -> 0 | EG30: =SUM(EB30:EF30) -> 0 | EM30: =SUM(EH30:EL30) -> 0 | ES30: =SUM(EN30:ER30) -> 0 | EY30: =SUM(ET30:EX30) -> 0 | FE30: =SUM(EZ30:FD30) -> 0 | FK30: =SUM(FF30:FJ30) -> 0 | FL30: =SUM(DV30,EB30,EH30,EN30,ET30,EZ30,FF30) -> 0 | FM30: =SUM(DW30,EC30,EI30,EO30,EU30,FA30,FG30) -> 0 | FN30: =SUM(DX30,ED30,EJ30,EP30,EV30,FB30,FH30) -> 0 | FO30: =SUM(DY30,EE30,EK30,EQ30,EW30,FC30,FI30) -> 0 | FP30: =SUM(DZ30,EF30,EL30,ER30,EX30,FD30,FJ30) -> 0 | FQ30: =SUM(FL30:FP30) -> 0 | FW30: =SUM(FR30:FV30) -> 0 | GC30: =SUM(FX30:GB30) -> 0 | GI30: =SUM(GD30:GH30) -> 0 | GO30: =SUM(GJ30:GN30) -> 0 | GU30: =SUM(GP30:GT30) -> 0 | HA30: =SUM(GV30:GZ30) -> 0 | HG30: =SUM(HB30:HF30) -> 0 | HM30: =SUM(HH30:HL30) -> 0 | HN30: =SUM(FR30,FX30,GD30,GJ30,GP30,GV30,HB30,HH30) -> 0 | HO30: =SUM(FS30,FY30,GE30,GK30,GQ30,GW30,HC30,HI30) -> 0 | HP30: =SUM(HJ30,HD30,GX30,GR30,GL30,GF30,FZ30,FT30) -> 0 | HQ30: =SUM(HK30,HE30,GY30,GS30,GM30,GG30,GA30,FU30) -> 0 | HR30: =SUM(HL30,HF30,GZ30,GT30,GN30,GH30,GB30,FV30) -> 0 | HS30: =SUM(HN30:HR30) -> 0 | HY30: =SUM(HT30:HX30) -> 0 | IE30: =SUM(HZ30:ID30) -> 0 | IK30: =SUM(IF30:IJ30) -> 0 | IL30: =SUM(HT30,HZ30,IF30) -> 0 | IM30: =SUM(HU30,IA30,IG30) -> 0 | IN30: =SUM(HV30,IB30,IH30) -> 0 | IO30: =SUM(HW30,IC30,II30) -> 0 | IP30: =SUM(HX30,ID30,IJ30) -> 0 | IQ30: =SUM(IL30:IP30) -> 0 | IW30: =SUM(IR30:IV30) -> 0 | JC30: =SUM(IX30:JB30) -> 0 | JI30: =SUM(JD30:JH30) -> 0 | JJ30: =SUM(IR30,IX30,JD30) -> 0 | JK30: =SUM(IS30,IY30,JE30) -> 0 | JL30: =SUM(IT30,IZ30,JF30) -> 0 | JM30: =SUM(IU30,JA30,JG30) -> 0 | JN30: =SUM(IV30,JB30,JH30) -> 0 | JO30: =SUM(JJ30:JN30) -> 0 | JQ30: =SUM(T30,BF30,CF30,DO30,FL30,HN30,IL30,JJ30) -> 0 | JR30: =SUM(U30,BG30,CG30,DP30,FM30,HO30,IM30,JK30) -> 0 | JS30: =SUM(V30,BH30,CH30,DQ30,FN30,HP30,IN30,JL30) -> 0 | JT30: =SUM(W30,BI30,CI30,DR30,FO30,HQ30,IO30,JM30) -> 0 | JU30: =SUM(X30,BJ30,CJ30,DS30,FP30,HR30,IP30,JN30) -> 0 | JV30: =SUM(DT30,BK30,CK30) -> 0 | JW30: =SUM(JQ30:JV30) -> 0
A31: IDF=Forest Tent Caterpillar | G31: =SUM(B31:F31) -> 0 | M31: =SUM(H31:L31) -> 0 | S31: =SUM(N31:R31) -> 0 | T31: =SUM(B31,H31,N31) -> 0 | U31: =SUM(C31,I31,O31) -> 0 | V31: =SUM(D31,J31,P31) -> 0 | W31: =SUM(E31,K31,Q31) -> 0 | X31: =SUM(F31,L31,R31) -> 0 | Y31: =SUM(T31:X31) -> 0 | AE31: =SUM(Z31:AD31) -> 0 | AL31: =SUM(AF31:AK31) -> 0 | AR31: =SUM(AM31:AQ31) -> 0 | AY31: =SUM(AS31:AX31) -> 0 | BE31: =SUM(AZ31:BD31) -> 0 | BF31: =SUM(Z31,AF31,AM31,AS31,AZ31) -> 0 | BG31: =SUM(AA31,AG31,AN31,AT31,BA31) -> 0 | BH31: =SUM(AB31,AH31,AO31,AU31,BB31) -> 0 | BI31: =SUM(AC31,AI31,AP31,AV31,BC31) -> 0 | BJ31: =SUM(AD31,AJ31,AQ31,AW31,BD31) -> 0 | BK31: =SUM(AX31,AK31) -> 0 | BL31: =SUM(BF31:BK31) -> 0 | BR31: =SUM(BM31:BQ31) -> 0 | BT31: 116085.05 | BU31: 6388.2234 | BV31: 1179.4578 | BX31: =SUM(BS31:BW31) -> 123652.73 | BZ31: 7003.7513 | CA31: 1008.9701 | CE31: =SUM(BY31:CD31) -> 8012.7214 | CF31: =SUM(BM31,BS31,BY31) -> 0 | CG31: =SUM(BN31,BT31,BZ31) -> 123088.8 | CH31: =SUM(BO31,BU31,CA31) -> 7397.1935 | CI31: =SUM(BP31,BV31,CB31) -> 1179.4578 | CJ31: =SUM(BQ31,BW31,CC31) -> 0 | CK31: =SUM(CD31) -> 0 | CL31: =SUM(CF31:CK31) -> 131665.45 | CS31: =SUM(CM31:CR31) -> 0 | CZ31: =SUM(CT31:CY31) -> 0 | DG31: =SUM(DA31:DF31) -> 0 | DN31: =SUM(DH31:DM31) -> 0 | DO31: =SUM(CM31,CT31,DA31,DH31) -> 0 | DP31: =SUM(CN31,CU31,DB31,DI31) -> 0 | DQ31: =SUM(CO31,CV31,DC31,DJ31) -> 0 | DR31: =SUM(CP31,CW31,DD31,DK31) -> 0 | DS31: =SUM(CQ31,CX31,DE31,DL31) -> 0 | DT31: =SUM(CR31,CY31,DF31,DM31) -> 0 | DU31: =SUM(DO31:DT31) -> 0 | EA31: =SUM(DV31:DZ31) -> 0 | EG31: =SUM(EB31:EF31) -> 0 | EM31: =SUM(EH31:EL31) -> 0 | ES31: =SUM(EN31:ER31) -> 0 | EY31: =SUM(ET31:EX31) -> 0 | FE31: =SUM(EZ31:FD31) -> 0 | FK31: =SUM(FF31:FJ31) -> 0 | FL31: =SUM(DV31,EB31,EH31,EN31,ET31,EZ31,FF31) -> 0 | FM31: =SUM(DW31,EC31,EI31,EO31,EU31,FA31,FG31) -> 0 | FN31: =SUM(DX31,ED31,EJ31,EP31,EV31,FB31,FH31) -> 0 | FO31: =SUM(DY31,EE31,EK31,EQ31,EW31,FC31,FI31) -> 0 | FP31: =SUM(DZ31,EF31,EL31,ER31,EX31,FD31,FJ31) -> 0 | FQ31: =SUM(FL31:FP31) -> 0 | FW31: =SUM(FR31:FV31) -> 0 | GC31: =SUM(FX31:GB31) -> 0 | GI31: =SUM(GD31:GH31) -> 0 | GO31: =SUM(GJ31:GN31) -> 0 | GU31: =SUM(GP31:GT31) -> 0 | HA31: =SUM(GV31:GZ31) -> 0 | HG31: =SUM(HB31:HF31) -> 0 | HM31: =SUM(HH31:HL31) -> 0 | HN31: =SUM(FR31,FX31,GD31,GJ31,GP31,GV31,HB31,HH31) -> 0 | HO31: =SUM(FS31,FY31,GE31,GK31,GQ31,GW31,HC31,HI31) -> 0 | HP31: =SUM(HJ31,HD31,GX31,GR31,GL31,GF31,FZ31,FT31) -> 0 | HQ31: =SUM(HK31,HE31,GY31,GS31,GM31,GG31,GA31,FU31) -> 0 | HR31: =SUM(HL31,HF31,GZ31,GT31,GN31,GH31,GB31,FV31) -> 0 | HS31: =SUM(HN31:HR31) -> 0 | HU31: 1087.4896 | HV31: 63809.208 | HW31: 2059.8206 | HY31: =SUM(HT31:HX31) -> 66956.518 | IA31: 271.14571 | IE31: =SUM(HZ31:ID31) -> 271.14571 | IG31: 52103.264 | IH31: 164919.26 | II31: 194083.39 | IK31: =SUM(IF31:IJ31) -> 411105.92 | IL31: =SUM(HT31,HZ31,IF31) -> 0 | IM31: =SUM(HU31,IA31,IG31) -> 53461.899 | IN31: =SUM(HV31,IB31,IH31) -> 228728.47 | IO31: =SUM(HW31,IC31,II31) -> 196143.21 | IP31: =SUM(HX31,ID31,IJ31) -> 0 | IQ31: =SUM(IL31:IP31) -> 478333.58 | IW31: =SUM(IR31:IV31) -> 0 | JC31: =SUM(IX31:JB31) -> 0 | JI31: =SUM(JD31:JH31) -> 0 | JJ31: =SUM(IR31,IX31,JD31) -> 0 | JK31: =SUM(IS31,IY31,JE31) -> 0 | JL31: =SUM(IT31,IZ31,JF31) -> 0 | JM31: =SUM(IU31,JA31,JG31) -> 0 | JN31: =SUM(IV31,JB31,JH31) -> 0 | JO31: =SUM(JJ31:JN31) -> 0 | JQ31: =SUM(T31,BF31,CF31,DO31,FL31,HN31,IL31,JJ31) -> 0 | JR31: =SUM(U31,BG31,CG31,DP31,FM31,HO31,IM31,JK31) -> 176550.7 | JS31: =SUM(V31,BH31,CH31,DQ31,FN31,HP31,IN31,JL31) -> 236125.67 | JT31: =SUM(W31,BI31,CI31,DR31,FO31,HQ31,IO31,JM31) -> 197322.67 | JU31: =SUM(X31,BJ31,CJ31,DS31,FP31,HR31,IP31,JN31) -> 0 | JV31: =SUM(DT31,BK31,CK31) -> 0 | JW31: =SUM(JQ31:JV31) -> 609999.03
A32: IDH=Western Blackheaded Budworm | G32: =SUM(B32:F32) -> 0 | M32: =SUM(H32:L32) -> 0 | S32: =SUM(N32:R32) -> 0 | T32: =SUM(B32,H32,N32) -> 0 | U32: =SUM(C32,I32,O32) -> 0 | V32: =SUM(D32,J32,P32) -> 0 | W32: =SUM(E32,K32,Q32) -> 0 | X32: =SUM(F32,L32,R32) -> 0 | Y32: =SUM(T32:X32) -> 0 | AE32: =SUM(Z32:AD32) -> 0 | AK32: 17.102685 | AL32: =SUM(AF32:AK32) -> 17.102685 | AR32: =SUM(AM32:AQ32) -> 0 | AT32: 104.2961 | AU32: 144.74573 | AV32: 35.000136 | AY32: =SUM(AS32:AX32) -> 284.04197 | BE32: =SUM(AZ32:BD32) -> 0 | BF32: =SUM(Z32,AF32,AM32,AS32,AZ32) -> 0 | BG32: =SUM(AA32,AG32,AN32,AT32,BA32) -> 104.2961 | BH32: =SUM(AB32,AH32,AO32,AU32,BB32) -> 144.74573 | BI32: =SUM(AC32,AI32,AP32,AV32,BC32) -> 35.000136 | BJ32: =SUM(AD32,AJ32,AQ32,AW32,BD32) -> 0 | BK32: =SUM(AX32,AK32) -> 17.102685 | BL32: =SUM(BF32:BK32) -> 301.14466 | BR32: =SUM(BM32:BQ32) -> 0 | BX32: =SUM(BS32:BW32) -> 0 | CE32: =SUM(BY32:CD32) -> 0 | CF32: =SUM(BM32,BS32,BY32) -> 0 | CG32: =SUM(BN32,BT32,BZ32) -> 0 | CH32: =SUM(BO32,BU32,CA32) -> 0 | CI32: =SUM(BP32,BV32,CB32) -> 0 | CJ32: =SUM(BQ32,BW32,CC32) -> 0 | CK32: =SUM(CD32) -> 0 | CL32: =SUM(CF32:CK32) -> 0 | CS32: =SUM(CM32:CR32) -> 0 | CZ32: =SUM(CT32:CY32) -> 0 | DG32: =SUM(DA32:DF32) -> 0 | DN32: =SUM(DH32:DM32) -> 0 | DO32: =SUM(CM32,CT32,DA32,DH32) -> 0 | DP32: =SUM(CN32,CU32,DB32,DI32) -> 0 | DQ32: =SUM(CO32,CV32,DC32,DJ32) -> 0 | DR32: =SUM(CP32,CW32,DD32,DK32) -> 0 | DS32: =SUM(CQ32,CX32,DE32,DL32) -> 0 | DT32: =SUM(CR32,CY32,DF32,DM32) -> 0 | DU32: =SUM(DO32:DT32) -> 0 | EA32: =SUM(DV32:DZ32) -> 0 | EG32: =SUM(EB32:EF32) -> 0 | EM32: =SUM(EH32:EL32) -> 0 | ES32: =SUM(EN32:ER32) -> 0 | EY32: =SUM(ET32:EX32) -> 0 | FE32: =SUM(EZ32:FD32) -> 0 | FK32: =SUM(FF32:FJ32) -> 0 | FL32: =SUM(DV32,EB32,EH32,EN32,ET32,EZ32,FF32) -> 0 | FM32: =SUM(DW32,EC32,EI32,EO32,EU32,FA32,FG32) -> 0 | FN32: =SUM(DX32,ED32,EJ32,EP32,EV32,FB32,FH32) -> 0 | FO32: =SUM(DY32,EE32,EK32,EQ32,EW32,FC32,FI32) -> 0 | FP32: =SUM(DZ32,EF32,EL32,ER32,EX32,FD32,FJ32) -> 0 | FQ32: =SUM(FL32:FP32) -> 0 | FW32: =SUM(FR32:FV32) -> 0 | GC32: =SUM(FX32:GB32) -> 0 | GI32: =SUM(GD32:GH32) -> 0 | GO32: =SUM(GJ32:GN32) -> 0 | GU32: =SUM(GP32:GT32) -> 0 | HA32: =SUM(GV32:GZ32) -> 0 | HG32: =SUM(HB32:HF32) -> 0 | HM32: =SUM(HH32:HL32) -> 0 | HN32: =SUM(FR32,FX32,GD32,GJ32,GP32,GV32,HB32,HH32) -> 0 | HO32: =SUM(FS32,FY32,GE32,GK32,GQ32,GW32,HC32,HI32) -> 0 | HP32: =SUM(HJ32,HD32,GX32,GR32,GL32,GF32,FZ32,FT32) -> 0 | HQ32: =SUM(HK32,HE32,GY32,GS32,GM32,GG32,GA32,FU32) -> 0 | HR32: =SUM(HL32,HF32,GZ32,GT32,GN32,GH32,GB32,FV32) -> 0 | HS32: =SUM(HN32:HR32) -> 0 | HY32: =SUM(HT32:HX32) -> 0 | IE32: =SUM(HZ32:ID32) -> 0 | IK32: =SUM(IF32:IJ32) -> 0 | IL32: =SUM(HT32,HZ32,IF32) -> 0 | IM32: =SUM(HU32,IA32,IG32) -> 0 | IN32: =SUM(HV32,IB32,IH32) -> 0 | IO32: =SUM(HW32,IC32,II32) -> 0 | IP32: =SUM(HX32,ID32,IJ32) -> 0 | IQ32: =SUM(IL32:IP32) -> 0 | IW32: =SUM(IR32:IV32) -> 0 | JC32: =SUM(IX32:JB32) -> 0 | JI32: =SUM(JD32:JH32) -> 0 | JJ32: =SUM(IR32,IX32,JD32) -> 0 | JK32: =SUM(IS32,IY32,JE32) -> 0 | JL32: =SUM(IT32,IZ32,JF32) -> 0 | JM32: =SUM(IU32,JA32,JG32) -> 0 | JN32: =SUM(IV32,JB32,JH32) -> 0 | JO32: =SUM(JJ32:JN32) -> 0 | JQ32: =SUM(T32,BF32,CF32,DO32,FL32,HN32,IL32,JJ32) -> 0 | JR32: =SUM(U32,BG32,CG32,DP32,FM32,HO32,IM32,JK32) -> 104.2961 | JS32: =SUM(V32,BH32,CH32,DQ32,FN32,HP32,IN32,JL32) -> 144.74573 | JT32: =SUM(W32,BI32,CI32,DR32,FO32,HQ32,IO32,JM32) -> 35.000136 | JU32: =SUM(X32,BJ32,CJ32,DS32,FP32,HR32,IP32,JN32) -> 0 | JV32: =SUM(DT32,BK32,CK32) -> 17.102685 | JW32: =SUM(JQ32:JV32) -> 301.14466
A33: IDI=Pine needle sheathminer | G33: =SUM(B33:F33) -> 0 | I33: 21.577413 | M33: =SUM(H33:L33) -> 21.577413 | S33: =SUM(N33:R33) -> 0 | T33: =SUM(B33,H33,N33) -> 0 | U33: =SUM(C33,I33,O33) -> 21.577413 | V33: =SUM(D33,J33,P33) -> 0 | W33: =SUM(E33,K33,Q33) -> 0 | X33: =SUM(F33,L33,R33) -> 0 | Y33: =SUM(T33:X33) -> 21.577413 | AE33: =SUM(Z33:AD33) -> 0 | AL33: =SUM(AF33:AK33) -> 0 | AR33: =SUM(AM33:AQ33) -> 0 | AY33: =SUM(AS33:AX33) -> 0 | BE33: =SUM(AZ33:BD33) -> 0 | BF33: =SUM(Z33,AF33,AM33,AS33,AZ33) -> 0 | BG33: =SUM(AA33,AG33,AN33,AT33,BA33) -> 0 | BH33: =SUM(AB33,AH33,AO33,AU33,BB33) -> 0 | BI33: =SUM(AC33,AI33,AP33,AV33,BC33) -> 0 | BJ33: =SUM(AD33,AJ33,AQ33,AW33,BD33) -> 0 | BK33: =SUM(AX33,AK33) -> 0 | BL33: =SUM(BF33:BK33) -> 0 | BN33: 1183.1917 | BO33: 158.38891 | BR33: =SUM(BM33:BQ33) -> 1341.5806 | BT33: 809.15363 | BU33: 244.91582 | BX33: =SUM(BS33:BW33) -> 1054.0694 | BZ33: 983.31313 | CA33: 933.9992 | CE33: =SUM(BY33:CD33) -> 1917.3123 | CF33: =SUM(BM33,BS33,BY33) -> 0 | CG33: =SUM(BN33,BT33,BZ33) -> 2975.6584 | CH33: =SUM(BO33,BU33,CA33) -> 1337.3039 | CI33: =SUM(BP33,BV33,CB33) -> 0 | CJ33: =SUM(BQ33,BW33,CC33) -> 0 | CK33: =SUM(CD33) -> 0 | CL33: =SUM(CF33:CK33) -> 4312.9624 | CN33: 846.17915 | CO33: 277.73 | CS33: =SUM(CM33:CR33) -> 1123.9092 | CZ33: =SUM(CT33:CY33) -> 0 | DG33: =SUM(DA33:DF33) -> 0 | DN33: =SUM(DH33:DM33) -> 0 | DO33: =SUM(CM33,CT33,DA33,DH33) -> 0 | DP33: =SUM(CN33,CU33,DB33,DI33) -> 846.17915 | DQ33: =SUM(CO33,CV33,DC33,DJ33) -> 277.73 | DR33: =SUM(CP33,CW33,DD33,DK33) -> 0 | DS33: =SUM(CQ33,CX33,DE33,DL33) -> 0 | DT33: =SUM(CR33,CY33,DF33,DM33) -> 0 | DU33: =SUM(DO33:DT33) -> 1123.9092 | EA33: =SUM(DV33:DZ33) -> 0 | EG33: =SUM(EB33:EF33) -> 0 | EM33: =SUM(EH33:EL33) -> 0 | ES33: =SUM(EN33:ER33) -> 0 | EY33: =SUM(ET33:EX33) -> 0 | FE33: =SUM(EZ33:FD33) -> 0 | FK33: =SUM(FF33:FJ33) -> 0 | FL33: =SUM(DV33,EB33,EH33,EN33,ET33,EZ33,FF33) -> 0 | FM33: =SUM(DW33,EC33,EI33,EO33,EU33,FA33,FG33) -> 0 | FN33: =SUM(DX33,ED33,EJ33,EP33,EV33,FB33,FH33) -> 0 | FO33: =SUM(DY33,EE33,EK33,EQ33,EW33,FC33,FI33) -> 0 | FP33: =SUM(DZ33,EF33,EL33,ER33,EX33,FD33,FJ33) -> 0 | FQ33: =SUM(FL33:FP33) -> 0 | FW33: =SUM(FR33:FV33) -> 0 | GC33: =SUM(FX33:GB33) -> 0 | GI33: =SUM(GD33:GH33) -> 0 | GO33: =SUM(GJ33:GN33) -> 0 | GU33: =SUM(GP33:GT33) -> 0 | HA33: =SUM(GV33:GZ33) -> 0 | HG33: =SUM(HB33:HF33) -> 0 | HM33: =SUM(HH33:HL33) -> 0 | HN33: =SUM(FR33,FX33,GD33,GJ33,GP33,GV33,HB33,HH33) -> 0 | HO33: =SUM(FS33,FY33,GE33,GK33,GQ33,GW33,HC33,HI33) -> 0 | HP33: =SUM(HJ33,HD33,GX33,GR33,GL33,GF33,FZ33,FT33) -> 0 | HQ33: =SUM(HK33,HE33,GY33,GS33,GM33,GG33,GA33,FU33) -> 0 | HR33: =SUM(HL33,HF33,GZ33,GT33,GN33,GH33,GB33,FV33) -> 0 | HS33: =SUM(HN33:HR33) -> 0 | HY33: =SUM(HT33:HX33) -> 0 | IE33: =SUM(HZ33:ID33) -> 0 | IG33: 72.272788 | IK33: =SUM(IF33:IJ33) -> 72.272788 | IL33: =SUM(HT33,HZ33,IF33) -> 0 | IM33: =SUM(HU33,IA33,IG33) -> 72.272788 | IN33: =SUM(HV33,IB33,IH33) -> 0 | IO33: =SUM(HW33,IC33,II33) -> 0 | IP33: =SUM(HX33,ID33,IJ33) -> 0 | IQ33: =SUM(IL33:IP33) -> 72.272788 | IW33: =SUM(IR33:IV33) -> 0 | JC33: =SUM(IX33:JB33) -> 0 | JI33: =SUM(JD33:JH33) -> 0 | JJ33: =SUM(IR33,IX33,JD33) -> 0 | JK33: =SUM(IS33,IY33,JE33) -> 0 | JL33: =SUM(IT33,IZ33,JF33) -> 0 | JM33: =SUM(IU33,JA33,JG33) -> 0 | JN33: =SUM(IV33,JB33,JH33) -> 0 | JO33: =SUM(JJ33:JN33) -> 0 | JQ33: =SUM(T33,BF33,CF33,DO33,FL33,HN33,IL33,JJ33) -> 0 | JR33: =SUM(U33,BG33,CG33,DP33,FM33,HO33,IM33,JK33) -> 3915.6878 | JS33: =SUM(V33,BH33,CH33,DQ33,FN33,HP33,IN33,JL33) -> 1615.0339 | JT33: =SUM(W33,BI33,CI33,DR33,FO33,HQ33,IO33,JM33) -> 0 | JU33: =SUM(X33,BJ33,CJ33,DS33,FP33,HR33,IP33,JN33) -> 0 | JV33: =SUM(DT33,BK33,CK33) -> 0 | JW33: =SUM(JQ33:JV33) -> 5530.7217
A34: IDK=Northern Tent Caterpillar | G34: =SUM(B34:F34) -> 0 | M34: =SUM(H34:L34) -> 0 | S34: =SUM(N34:R34) -> 0 | T34: =SUM(B34,H34,N34) -> 0 | U34: =SUM(C34,I34,O34) -> 0 | V34: =SUM(D34,J34,P34) -> 0 | W34: =SUM(E34,K34,Q34) -> 0 | X34: =SUM(F34,L34,R34) -> 0 | Y34: =SUM(T34:X34) -> 0 | AE34: =SUM(Z34:AD34) -> 0 | AL34: =SUM(AF34:AK34) -> 0 | AR34: =SUM(AM34:AQ34) -> 0 | AY34: =SUM(AS34:AX34) -> 0 | BE34: =SUM(AZ34:BD34) -> 0 | BF34: =SUM(Z34,AF34,AM34,AS34,AZ34) -> 0 | BG34: =SUM(AA34,AG34,AN34,AT34,BA34) -> 0 | BH34: =SUM(AB34,AH34,AO34,AU34,BB34) -> 0 | BI34: =SUM(AC34,AI34,AP34,AV34,BC34) -> 0 | BJ34: =SUM(AD34,AJ34,AQ34,AW34,BD34) -> 0 | BK34: =SUM(AX34,AK34) -> 0 | BL34: =SUM(BF34:BK34) -> 0 | BR34: =SUM(BM34:BQ34) -> 0 | BX34: =SUM(BS34:BW34) -> 0 | CE34: =SUM(BY34:CD34) -> 0 | CF34: =SUM(BM34,BS34,BY34) -> 0 | CG34: =SUM(BN34,BT34,BZ34) -> 0 | CH34: =SUM(BO34,BU34,CA34) -> 0 | CI34: =SUM(BP34,BV34,CB34) -> 0 | CJ34: =SUM(BQ34,BW34,CC34) -> 0 | CK34: =SUM(CD34) -> 0 | CL34: =SUM(CF34:CK34) -> 0 | CS34: =SUM(CM34:CR34) -> 0 | CZ34: =SUM(CT34:CY34) -> 0 | DG34: =SUM(DA34:DF34) -> 0 | DN34: =SUM(DH34:DM34) -> 0 | DO34: =SUM(CM34,CT34,DA34,DH34) -> 0 | DP34: =SUM(CN34,CU34,DB34,DI34) -> 0 | DQ34: =SUM(CO34,CV34,DC34,DJ34) -> 0 | DR34: =SUM(CP34,CW34,DD34,DK34) -> 0 | DS34: =SUM(CQ34,CX34,DE34,DL34) -> 0 | DT34: =SUM(CR34,CY34,DF34,DM34) -> 0 | DU34: =SUM(DO34:DT34) -> 0 | EA34: =SUM(DV34:DZ34) -> 0 | EG34: =SUM(EB34:EF34) -> 0 | EM34: =SUM(EH34:EL34) -> 0 | ES34: =SUM(EN34:ER34) -> 0 | EY34: =SUM(ET34:EX34) -> 0 | FE34: =SUM(EZ34:FD34) -> 0 | FK34: =SUM(FF34:FJ34) -> 0 | FL34: =SUM(DV34,EB34,EH34,EN34,ET34,EZ34,FF34) -> 0 | FM34: =SUM(DW34,EC34,EI34,EO34,EU34,FA34,FG34) -> 0 | FN34: =SUM(DX34,ED34,EJ34,EP34,EV34,FB34,FH34) -> 0 | FO34: =SUM(DY34,EE34,EK34,EQ34,EW34,FC34,FI34) -> 0 | FP34: =SUM(DZ34,EF34,EL34,ER34,EX34,FD34,FJ34) -> 0 | FQ34: =SUM(FL34:FP34) -> 0 | FW34: =SUM(FR34:FV34) -> 0 | GC34: =SUM(FX34:GB34) -> 0 | GI34: =SUM(GD34:GH34) -> 0 | GO34: =SUM(GJ34:GN34) -> 0 | GU34: =SUM(GP34:GT34) -> 0 | HA34: =SUM(GV34:GZ34) -> 0 | HG34: =SUM(HB34:HF34) -> 0 | HM34: =SUM(HH34:HL34) -> 0 | HN34: =SUM(FR34,FX34,GD34,GJ34,GP34,GV34,HB34,HH34) -> 0 | HO34: =SUM(FS34,FY34,GE34,GK34,GQ34,GW34,HC34,HI34) -> 0 | HP34: =SUM(HJ34,HD34,GX34,GR34,GL34,GF34,FZ34,FT34) -> 0 | HQ34: =SUM(HK34,HE34,GY34,GS34,GM34,GG34,GA34,FU34) -> 0 | HR34: =SUM(HL34,HF34,GZ34,GT34,GN34,GH34,GB34,FV34) -> 0 | HS34: =SUM(HN34:HR34) -> 0 | HY34: =SUM(HT34:HX34) -> 0 | IE34: =SUM(HZ34:ID34) -> 0 | IK34: =SUM(IF34:IJ34) -> 0 | IL34: =SUM(HT34,HZ34,IF34) -> 0 | IM34: =SUM(HU34,IA34,IG34) -> 0 | IN34: =SUM(HV34,IB34,IH34) -> 0 | IO34: =SUM(HW34,IC34,II34) -> 0 | IP34: =SUM(HX34,ID34,IJ34) -> 0 | IQ34: =SUM(IL34:IP34) -> 0 | IW34: =SUM(IR34:IV34) -> 0 | JC34: =SUM(IX34:JB34) -> 0 | JI34: =SUM(JD34:JH34) -> 0 | JJ34: =SUM(IR34,IX34,JD34) -> 0 | JK34: =SUM(IS34,IY34,JE34) -> 0 | JL34: =SUM(IT34,IZ34,JF34) -> 0 | JM34: =SUM(IU34,JA34,JG34) -> 0 | JN34: =SUM(IV34,JB34,JH34) -> 0 | JO34: =SUM(JJ34:JN34) -> 0 | JQ34: =SUM(T34,BF34,CF34,DO34,FL34,HN34,IL34,JJ34) -> 0 | JR34: =SUM(U34,BG34,CG34,DP34,FM34,HO34,IM34,JK34) -> 0 | JS34: =SUM(V34,BH34,CH34,DQ34,FN34,HP34,IN34,JL34) -> 0 | JT34: =SUM(W34,BI34,CI34,DR34,FO34,HQ34,IO34,JM34) -> 0 | JU34: =SUM(X34,BJ34,CJ34,DS34,FP34,HR34,IP34,JN34) -> 0 | JV34: =SUM(DT34,BK34,CK34) -> 0 | JW34: =SUM(JQ34:JV34) -> 0
A35: IDL=Western Hemlock Looper | G35: =SUM(B35:F35) -> 0 | M35: =SUM(H35:L35) -> 0 | S35: =SUM(N35:R35) -> 0 | T35: =SUM(B35,H35,N35) -> 0 | U35: =SUM(C35,I35,O35) -> 0 | V35: =SUM(D35,J35,P35) -> 0 | W35: =SUM(E35,K35,Q35) -> 0 | X35: =SUM(F35,L35,R35) -> 0 | Y35: =SUM(T35:X35) -> 0 | AE35: =SUM(Z35:AD35) -> 0 | AL35: =SUM(AF35:AK35) -> 0 | AR35: =SUM(AM35:AQ35) -> 0 | AY35: =SUM(AS35:AX35) -> 0 | BE35: =SUM(AZ35:BD35) -> 0 | BF35: =SUM(Z35,AF35,AM35,AS35,AZ35) -> 0 | BG35: =SUM(AA35,AG35,AN35,AT35,BA35) -> 0 | BH35: =SUM(AB35,AH35,AO35,AU35,BB35) -> 0 | BI35: =SUM(AC35,AI35,AP35,AV35,BC35) -> 0 | BJ35: =SUM(AD35,AJ35,AQ35,AW35,BD35) -> 0 | BK35: =SUM(AX35,AK35) -> 0 | BL35: =SUM(BF35:BK35) -> 0 | BR35: =SUM(BM35:BQ35) -> 0 | BX35: =SUM(BS35:BW35) -> 0 | CE35: =SUM(BY35:CD35) -> 0 | CF35: =SUM(BM35,BS35,BY35) -> 0 | CG35: =SUM(BN35,BT35,BZ35) -> 0 | CH35: =SUM(BO35,BU35,CA35) -> 0 | CI35: =SUM(BP35,BV35,CB35) -> 0 | CJ35: =SUM(BQ35,BW35,CC35) -> 0 | CK35: =SUM(CD35) -> 0 | CL35: =SUM(CF35:CK35) -> 0 | CS35: =SUM(CM35:CR35) -> 0 | CZ35: =SUM(CT35:CY35) -> 0 | DG35: =SUM(DA35:DF35) -> 0 | DN35: =SUM(DH35:DM35) -> 0 | DO35: =SUM(CM35,CT35,DA35,DH35) -> 0 | DP35: =SUM(CN35,CU35,DB35,DI35) -> 0 | DQ35: =SUM(CO35,CV35,DC35,DJ35) -> 0 | DR35: =SUM(CP35,CW35,DD35,DK35) -> 0 | DS35: =SUM(CQ35,CX35,DE35,DL35) -> 0 | DT35: =SUM(CR35,CY35,DF35,DM35) -> 0 | DU35: =SUM(DO35:DT35) -> 0 | EA35: =SUM(DV35:DZ35) -> 0 | EG35: =SUM(EB35:EF35) -> 0 | EM35: =SUM(EH35:EL35) -> 0 | ES35: =SUM(EN35:ER35) -> 0 | EY35: =SUM(ET35:EX35) -> 0 | FE35: =SUM(EZ35:FD35) -> 0 | FK35: =SUM(FF35:FJ35) -> 0 | FL35: =SUM(DV35,EB35,EH35,EN35,ET35,EZ35,FF35) -> 0 | FM35: =SUM(DW35,EC35,EI35,EO35,EU35,FA35,FG35) -> 0 | FN35: =SUM(DX35,ED35,EJ35,EP35,EV35,FB35,FH35) -> 0 | FO35: =SUM(DY35,EE35,EK35,EQ35,EW35,FC35,FI35) -> 0 | FP35: =SUM(DZ35,EF35,EL35,ER35,EX35,FD35,FJ35) -> 0 | FQ35: =SUM(FL35:FP35) -> 0 | FW35: =SUM(FR35:FV35) -> 0 | GC35: =SUM(FX35:GB35) -> 0 | GI35: =SUM(GD35:GH35) -> 0 | GO35: =SUM(GJ35:GN35) -> 0 | GU35: =SUM(GP35:GT35) -> 0 | HA35: =SUM(GV35:GZ35) -> 0 | HG35: =SUM(HB35:HF35) -> 0 | HM35: =SUM(HH35:HL35) -> 0 | HN35: =SUM(FR35,FX35,GD35,GJ35,GP35,GV35,HB35,HH35) -> 0 | HO35: =SUM(FS35,FY35,GE35,GK35,GQ35,GW35,HC35,HI35) -> 0 | HP35: =SUM(HJ35,HD35,GX35,GR35,GL35,GF35,FZ35,FT35) -> 0 | HQ35: =SUM(HK35,HE35,GY35,GS35,GM35,GG35,GA35,FU35) -> 0 | HR35: =SUM(HL35,HF35,GZ35,GT35,GN35,GH35,GB35,FV35) -> 0 | HS35: =SUM(HN35:HR35) -> 0 | HY35: =SUM(HT35:HX35) -> 0 | IE35: =SUM(HZ35:ID35) -> 0 | IK35: =SUM(IF35:IJ35) -> 0 | IL35: =SUM(HT35,HZ35,IF35) -> 0 | IM35: =SUM(HU35,IA35,IG35) -> 0 | IN35: =SUM(HV35,IB35,IH35) -> 0 | IO35: =SUM(HW35,IC35,II35) -> 0 | IP35: =SUM(HX35,ID35,IJ35) -> 0 | IQ35: =SUM(IL35:IP35) -> 0 | IW35: =SUM(IR35:IV35) -> 0 | JC35: =SUM(IX35:JB35) -> 0 | JI35: =SUM(JD35:JH35) -> 0 | JJ35: =SUM(IR35,IX35,JD35) -> 0 | JK35: =SUM(IS35,IY35,JE35) -> 0 | JL35: =SUM(IT35,IZ35,JF35) -> 0 | JM35: =SUM(IU35,JA35,JG35) -> 0 | JN35: =SUM(IV35,JB35,JH35) -> 0 | JO35: =SUM(JJ35:JN35) -> 0 | JQ35: =SUM(T35,BF35,CF35,DO35,FL35,HN35,IL35,JJ35) -> 0 | JR35: =SUM(U35,BG35,CG35,DP35,FM35,HO35,IM35,JK35) -> 0 | JS35: =SUM(V35,BH35,CH35,DQ35,FN35,HP35,IN35,JL35) -> 0 | JT35: =SUM(W35,BI35,CI35,DR35,FO35,HQ35,IO35,JM35) -> 0 | JU35: =SUM(X35,BJ35,CJ35,DS35,FP35,HR35,IP35,JN35) -> 0 | JV35: =SUM(DT35,BK35,CK35) -> 0 | JW35: =SUM(JQ35:JV35) -> 0
A36: IDN=Birch Leaf Miner | G36: =SUM(B36:F36) -> 0 | J36: 22.451246 | M36: =SUM(H36:L36) -> 22.451246 | S36: =SUM(N36:R36) -> 0 | T36: =SUM(B36,H36,N36) -> 0 | U36: =SUM(C36,I36,O36) -> 0 | V36: =SUM(D36,J36,P36) -> 22.451246 | W36: =SUM(E36,K36,Q36) -> 0 | X36: =SUM(F36,L36,R36) -> 0 | Y36: =SUM(T36:X36) -> 22.451246 | AE36: =SUM(Z36:AD36) -> 0 | AL36: =SUM(AF36:AK36) -> 0 | AR36: =SUM(AM36:AQ36) -> 0 | AY36: =SUM(AS36:AX36) -> 0 | BE36: =SUM(AZ36:BD36) -> 0 | BF36: =SUM(Z36,AF36,AM36,AS36,AZ36) -> 0 | BG36: =SUM(AA36,AG36,AN36,AT36,BA36) -> 0 | BH36: =SUM(AB36,AH36,AO36,AU36,BB36) -> 0 | BI36: =SUM(AC36,AI36,AP36,AV36,BC36) -> 0 | BJ36: =SUM(AD36,AJ36,AQ36,AW36,BD36) -> 0 | BK36: =SUM(AX36,AK36) -> 0 | BL36: =SUM(BF36:BK36) -> 0 | BR36: =SUM(BM36:BQ36) -> 0 | BX36: =SUM(BS36:BW36) -> 0 | CE36: =SUM(BY36:CD36) -> 0 | CF36: =SUM(BM36,BS36,BY36) -> 0 | CG36: =SUM(BN36,BT36,BZ36) -> 0 | CH36: =SUM(BO36,BU36,CA36) -> 0 | CI36: =SUM(BP36,BV36,CB36) -> 0 | CJ36: =SUM(BQ36,BW36,CC36) -> 0 | CK36: =SUM(CD36) -> 0 | CL36: =SUM(CF36:CK36) -> 0 | CN36: 293.76144 | CO36: 642.07607 | CP36: 14.367461 | CS36: =SUM(CM36:CR36) -> 950.20498 | CZ36: =SUM(CT36:CY36) -> 0 | DG36: =SUM(DA36:DF36) -> 0 | DI36: 322.00125 | DJ36: 273.64974 | DK36: 100.44952 | DN36: =SUM(DH36:DM36) -> 696.1005 | DO36: =SUM(CM36,CT36,DA36,DH36) -> 0 | DP36: =SUM(CN36,CU36,DB36,DI36) -> 615.76269 | DQ36: =SUM(CO36,CV36,DC36,DJ36) -> 915.72581 | DR36: =SUM(CP36,CW36,DD36,DK36) -> 114.81698 | DS36: =SUM(CQ36,CX36,DE36,DL36) -> 0 | DT36: =SUM(CR36,CY36,DF36,DM36) -> 0 | DU36: =SUM(DO36:DT36) -> 1646.3055 | EA36: =SUM(DV36:DZ36) -> 0 | EG36: =SUM(EB36:EF36) -> 0 | EM36: =SUM(EH36:EL36) -> 0 | ES36: =SUM(EN36:ER36) -> 0 | EY36: =SUM(ET36:EX36) -> 0 | FA36: 73.359268 | FE36: =SUM(EZ36:FD36) -> 73.359268 | FK36: =SUM(FF36:FJ36) -> 0 | FL36: =SUM(DV36,EB36,EH36,EN36,ET36,EZ36,FF36) -> 0 | FM36: =SUM(DW36,EC36,EI36,EO36,EU36,FA36,FG36) -> 73.359268 | FN36: =SUM(DX36,ED36,EJ36,EP36,EV36,FB36,FH36) -> 0 | FO36: =SUM(DY36,EE36,EK36,EQ36,EW36,FC36,FI36) -> 0 | FP36: =SUM(DZ36,EF36,EL36,ER36,EX36,FD36,FJ36) -> 0 | FQ36: =SUM(FL36:FP36) -> 73.359268 | FW36: =SUM(FR36:FV36) -> 0 | GC36: =SUM(FX36:GB36) -> 0 | GI36: =SUM(GD36:GH36) -> 0 | GO36: =SUM(GJ36:GN36) -> 0 | GU36: =SUM(GP36:GT36) -> 0 | HA36: =SUM(GV36:GZ36) -> 0 | HG36: =SUM(HB36:HF36) -> 0 | HM36: =SUM(HH36:HL36) -> 0 | HN36: =SUM(FR36,FX36,GD36,GJ36,GP36,GV36,HB36,HH36) -> 0 | HO36: =SUM(FS36,FY36,GE36,GK36,GQ36,GW36,HC36,HI36) -> 0 | HP36: =SUM(HJ36,HD36,GX36,GR36,GL36,GF36,FZ36,FT36) -> 0 | HQ36: =SUM(HK36,HE36,GY36,GS36,GM36,GG36,GA36,FU36) -> 0 | HR36: =SUM(HL36,HF36,GZ36,GT36,GN36,GH36,GB36,FV36) -> 0 | HS36: =SUM(HN36:HR36) -> 0 | HY36: =SUM(HT36:HX36) -> 0 | IE36: =SUM(HZ36:ID36) -> 0 | IK36: =SUM(IF36:IJ36) -> 0 | IL36: =SUM(HT36,HZ36,IF36) -> 0 | IM36: =SUM(HU36,IA36,IG36) -> 0 | IN36: =SUM(HV36,IB36,IH36) -> 0 | IO36: =SUM(HW36,IC36,II36) -> 0 | IP36: =SUM(HX36,ID36,IJ36) -> 0 | IQ36: =SUM(IL36:IP36) -> 0 | IW36: =SUM(IR36:IV36) -> 0 | JC36: =SUM(IX36:JB36) -> 0 | JI36: =SUM(JD36:JH36) -> 0 | JJ36: =SUM(IR36,IX36,JD36) -> 0 | JK36: =SUM(IS36,IY36,JE36) -> 0 | JL36: =SUM(IT36,IZ36,JF36) -> 0 | JM36: =SUM(IU36,JA36,JG36) -> 0 | JN36: =SUM(IV36,JB36,JH36) -> 0 | JO36: =SUM(JJ36:JN36) -> 0 | JQ36: =SUM(T36,BF36,CF36,DO36,FL36,HN36,IL36,JJ36) -> 0 | JR36: =SUM(U36,BG36,CG36,DP36,FM36,HO36,IM36,JK36) -> 689.12196 | JS36: =SUM(V36,BH36,CH36,DQ36,FN36,HP36,IN36,JL36) -> 938.17706 | JT36: =SUM(W36,BI36,CI36,DR36,FO36,HQ36,IO36,JM36) -> 114.81698 | JU36: =SUM(X36,BJ36,CJ36,DS36,FP36,HR36,IP36,JN36) -> 0 | JV36: =SUM(DT36,BK36,CK36) -> 0 | JW36: =SUM(JQ36:JV36) -> 1742.116
A37: IDP=Larch Sawfly | G37: =SUM(B37:F37) -> 0 | M37: =SUM(H37:L37) -> 0 | S37: =SUM(N37:R37) -> 0 | T37: =SUM(B37,H37,N37) -> 0 | U37: =SUM(C37,I37,O37) -> 0 | V37: =SUM(D37,J37,P37) -> 0 | W37: =SUM(E37,K37,Q37) -> 0 | X37: =SUM(F37,L37,R37) -> 0 | Y37: =SUM(T37:X37) -> 0 | AE37: =SUM(Z37:AD37) -> 0 | AL37: =SUM(AF37:AK37) -> 0 | AR37: =SUM(AM37:AQ37) -> 0 | AY37: =SUM(AS37:AX37) -> 0 | BE37: =SUM(AZ37:BD37) -> 0 | BF37: =SUM(Z37,AF37,AM37,AS37,AZ37) -> 0 | BG37: =SUM(AA37,AG37,AN37,AT37,BA37) -> 0 | BH37: =SUM(AB37,AH37,AO37,AU37,BB37) -> 0 | BI37: =SUM(AC37,AI37,AP37,AV37,BC37) -> 0 | BJ37: =SUM(AD37,AJ37,AQ37,AW37,BD37) -> 0 | BK37: =SUM(AX37,AK37) -> 0 | BL37: =SUM(BF37:BK37) -> 0 | BR37: =SUM(BM37:BQ37) -> 0 | BX37: =SUM(BS37:BW37) -> 0 | CE37: =SUM(BY37:CD37) -> 0 | CF37: =SUM(BM37,BS37,BY37) -> 0 | CG37: =SUM(BN37,BT37,BZ37) -> 0 | CH37: =SUM(BO37,BU37,CA37) -> 0 | CI37: =SUM(BP37,BV37,CB37) -> 0 | CJ37: =SUM(BQ37,BW37,CC37) -> 0 | CK37: =SUM(CD37) -> 0 | CL37: =SUM(CF37:CK37) -> 0 | CS37: =SUM(CM37:CR37) -> 0 | CZ37: =SUM(CT37:CY37) -> 0 | DG37: =SUM(DA37:DF37) -> 0 | DN37: =SUM(DH37:DM37) -> 0 | DO37: =SUM(CM37,CT37,DA37,DH37) -> 0 | DP37: =SUM(CN37,CU37,DB37,DI37) -> 0 | DQ37: =SUM(CO37,CV37,DC37,DJ37) -> 0 | DR37: =SUM(CP37,CW37,DD37,DK37) -> 0 | DS37: =SUM(CQ37,CX37,DE37,DL37) -> 0 | DT37: =SUM(CR37,CY37,DF37,DM37) -> 0 | DU37: =SUM(DO37:DT37) -> 0 | EA37: =SUM(DV37:DZ37) -> 0 | EG37: =SUM(EB37:EF37) -> 0 | EM37: =SUM(EH37:EL37) -> 0 | ES37: =SUM(EN37:ER37) -> 0 | EY37: =SUM(ET37:EX37) -> 0 | FE37: =SUM(EZ37:FD37) -> 0 | FK37: =SUM(FF37:FJ37) -> 0 | FL37: =SUM(DV37,EB37,EH37,EN37,ET37,EZ37,FF37) -> 0 | FM37: =SUM(DW37,EC37,EI37,EO37,EU37,FA37,FG37) -> 0 | FN37: =SUM(DX37,ED37,EJ37,EP37,EV37,FB37,FH37) -> 0 | FO37: =SUM(DY37,EE37,EK37,EQ37,EW37,FC37,FI37) -> 0 | FP37: =SUM(DZ37,EF37,EL37,ER37,EX37,FD37,FJ37) -> 0 | FQ37: =SUM(FL37:FP37) -> 0 | FW37: =SUM(FR37:FV37) -> 0 | GC37: =SUM(FX37:GB37) -> 0 | GI37: =SUM(GD37:GH37) -> 0 | GO37: =SUM(GJ37:GN37) -> 0 | GU37: =SUM(GP37:GT37) -> 0 | HA37: =SUM(GV37:GZ37) -> 0 | HG37: =SUM(HB37:HF37) -> 0 | HM37: =SUM(HH37:HL37) -> 0 | HN37: =SUM(FR37,FX37,GD37,GJ37,GP37,GV37,HB37,HH37) -> 0 | HO37: =SUM(FS37,FY37,GE37,GK37,GQ37,GW37,HC37,HI37) -> 0 | HP37: =SUM(HJ37,HD37,GX37,GR37,GL37,GF37,FZ37,FT37) -> 0 | HQ37: =SUM(HK37,HE37,GY37,GS37,GM37,GG37,GA37,FU37) -> 0 | HR37: =SUM(HL37,HF37,GZ37,GT37,GN37,GH37,GB37,FV37) -> 0 | HS37: =SUM(HN37:HR37) -> 0 | HY37: =SUM(HT37:HX37) -> 0 | IE37: =SUM(HZ37:ID37) -> 0 | IK37: =SUM(IF37:IJ37) -> 0 | IL37: =SUM(HT37,HZ37,IF37) -> 0 | IM37: =SUM(HU37,IA37,IG37) -> 0 | IN37: =SUM(HV37,IB37,IH37) -> 0 | IO37: =SUM(HW37,IC37,II37) -> 0 | IP37: =SUM(HX37,ID37,IJ37) -> 0 | IQ37: =SUM(IL37:IP37) -> 0 | IW37: =SUM(IR37:IV37) -> 0 | JC37: =SUM(IX37:JB37) -> 0 | JI37: =SUM(JD37:JH37) -> 0 | JJ37: =SUM(IR37,IX37,JD37) -> 0 | JK37: =SUM(IS37,IY37,JE37) -> 0 | JL37: =SUM(IT37,IZ37,JF37) -> 0 | JM37: =SUM(IU37,JA37,JG37) -> 0 | JN37: =SUM(IV37,JB37,JH37) -> 0 | JO37: =SUM(JJ37:JN37) -> 0 | JQ37: =SUM(T37,BF37,CF37,DO37,FL37,HN37,IL37,JJ37) -> 0 | JR37: =SUM(U37,BG37,CG37,DP37,FM37,HO37,IM37,JK37) -> 0 | JS37: =SUM(V37,BH37,CH37,DQ37,FN37,HP37,IN37,JL37) -> 0 | JT37: =SUM(W37,BI37,CI37,DR37,FO37,HQ37,IO37,JM37) -> 0 | JU37: =SUM(X37,BJ37,CJ37,DS37,FP37,HR37,IP37,JN37) -> 0 | JV37: =SUM(DT37,BK37,CK37) -> 0 | JW37: =SUM(JQ37:JV37) -> 0
A38: IDR=Alder Sawfly | G38: =SUM(B38:F38) -> 0 | M38: =SUM(H38:L38) -> 0 | S38: =SUM(N38:R38) -> 0 | T38: =SUM(B38,H38,N38) -> 0 | U38: =SUM(C38,I38,O38) -> 0 | V38: =SUM(D38,J38,P38) -> 0 | W38: =SUM(E38,K38,Q38) -> 0 | X38: =SUM(F38,L38,R38) -> 0 | Y38: =SUM(T38:X38) -> 0 | AE38: =SUM(Z38:AD38) -> 0 | AL38: =SUM(AF38:AK38) -> 0 | AR38: =SUM(AM38:AQ38) -> 0 | AY38: =SUM(AS38:AX38) -> 0 | BE38: =SUM(AZ38:BD38) -> 0 | BF38: =SUM(Z38,AF38,AM38,AS38,AZ38) -> 0 | BG38: =SUM(AA38,AG38,AN38,AT38,BA38) -> 0 | BH38: =SUM(AB38,AH38,AO38,AU38,BB38) -> 0 | BI38: =SUM(AC38,AI38,AP38,AV38,BC38) -> 0 | BJ38: =SUM(AD38,AJ38,AQ38,AW38,BD38) -> 0 | BK38: =SUM(AX38,AK38) -> 0 | BL38: =SUM(BF38:BK38) -> 0 | BR38: =SUM(BM38:BQ38) -> 0 | BX38: =SUM(BS38:BW38) -> 0 | CE38: =SUM(BY38:CD38) -> 0 | CF38: =SUM(BM38,BS38,BY38) -> 0 | CG38: =SUM(BN38,BT38,BZ38) -> 0 | CH38: =SUM(BO38,BU38,CA38) -> 0 | CI38: =SUM(BP38,BV38,CB38) -> 0 | CJ38: =SUM(BQ38,BW38,CC38) -> 0 | CK38: =SUM(CD38) -> 0 | CL38: =SUM(CF38:CK38) -> 0 | CS38: =SUM(CM38:CR38) -> 0 | CZ38: =SUM(CT38:CY38) -> 0 | DG38: =SUM(DA38:DF38) -> 0 | DN38: =SUM(DH38:DM38) -> 0 | DO38: =SUM(CM38,CT38,DA38,DH38) -> 0 | DP38: =SUM(CN38,CU38,DB38,DI38) -> 0 | DQ38: =SUM(CO38,CV38,DC38,DJ38) -> 0 | DR38: =SUM(CP38,CW38,DD38,DK38) -> 0 | DS38: =SUM(CQ38,CX38,DE38,DL38) -> 0 | DT38: =SUM(CR38,CY38,DF38,DM38) -> 0 | DU38: =SUM(DO38:DT38) -> 0 | EA38: =SUM(DV38:DZ38) -> 0 | EG38: =SUM(EB38:EF38) -> 0 | EM38: =SUM(EH38:EL38) -> 0 | ES38: =SUM(EN38:ER38) -> 0 | EY38: =SUM(ET38:EX38) -> 0 | FE38: =SUM(EZ38:FD38) -> 0 | FK38: =SUM(FF38:FJ38) -> 0 | FL38: =SUM(DV38,EB38,EH38,EN38,ET38,EZ38,FF38) -> 0 | FM38: =SUM(DW38,EC38,EI38,EO38,EU38,FA38,FG38) -> 0 | FN38: =SUM(DX38,ED38,EJ38,EP38,EV38,FB38,FH38) -> 0 | FO38: =SUM(DY38,EE38,EK38,EQ38,EW38,FC38,FI38) -> 0 | FP38: =SUM(DZ38,EF38,EL38,ER38,EX38,FD38,FJ38) -> 0 | FQ38: =SUM(FL38:FP38) -> 0 | FW38: =SUM(FR38:FV38) -> 0 | GC38: =SUM(FX38:GB38) -> 0 | GI38: =SUM(GD38:GH38) -> 0 | GO38: =SUM(GJ38:GN38) -> 0 | GU38: =SUM(GP38:GT38) -> 0 | HA38: =SUM(GV38:GZ38) -> 0 | HG38: =SUM(HB38:HF38) -> 0 | HM38: =SUM(HH38:HL38) -> 0 | HN38: =SUM(FR38,FX38,GD38,GJ38,GP38,GV38,HB38,HH38) -> 0 | HO38: =SUM(FS38,FY38,GE38,GK38,GQ38,GW38,HC38,HI38) -> 0 | HP38: =SUM(HJ38,HD38,GX38,GR38,GL38,GF38,FZ38,FT38) -> 0 | HQ38: =SUM(HK38,HE38,GY38,GS38,GM38,GG38,GA38,FU38) -> 0 | HR38: =SUM(HL38,HF38,GZ38,GT38,GN38,GH38,GB38,FV38) -> 0 | HS38: =SUM(HN38:HR38) -> 0 | HY38: =SUM(HT38:HX38) -> 0 | IE38: =SUM(HZ38:ID38) -> 0 | IK38: =SUM(IF38:IJ38) -> 0 | IL38: =SUM(HT38,HZ38,IF38) -> 0 | IM38: =SUM(HU38,IA38,IG38) -> 0 | IN38: =SUM(HV38,IB38,IH38) -> 0 | IO38: =SUM(HW38,IC38,II38) -> 0 | IP38: =SUM(HX38,ID38,IJ38) -> 0 | IQ38: =SUM(IL38:IP38) -> 0 | IW38: =SUM(IR38:IV38) -> 0 | JC38: =SUM(IX38:JB38) -> 0 | JI38: =SUM(JD38:JH38) -> 0 | JJ38: =SUM(IR38,IX38,JD38) -> 0 | JK38: =SUM(IS38,IY38,JE38) -> 0 | JL38: =SUM(IT38,IZ38,JF38) -> 0 | JM38: =SUM(IU38,JA38,JG38) -> 0 | JN38: =SUM(IV38,JB38,JH38) -> 0 | JO38: =SUM(JJ38:JN38) -> 0 | JQ38: =SUM(T38,BF38,CF38,DO38,FL38,HN38,IL38,JJ38) -> 0 | JR38: =SUM(U38,BG38,CG38,DP38,FM38,HO38,IM38,JK38) -> 0 | JS38: =SUM(V38,BH38,CH38,DQ38,FN38,HP38,IN38,JL38) -> 0 | JT38: =SUM(W38,BI38,CI38,DR38,FO38,HQ38,IO38,JM38) -> 0 | JU38: =SUM(X38,BJ38,CJ38,DS38,FP38,HR38,IP38,JN38) -> 0 | JV38: =SUM(DT38,BK38,CK38) -> 0 | JW38: =SUM(JQ38:JV38) -> 0
A39: IDS=Conifer Sawflies | G39: =SUM(B39:F39) -> 0 | M39: =SUM(H39:L39) -> 0 | S39: =SUM(N39:R39) -> 0 | T39: =SUM(B39,H39,N39) -> 0 | U39: =SUM(C39,I39,O39) -> 0 | V39: =SUM(D39,J39,P39) -> 0 | W39: =SUM(E39,K39,Q39) -> 0 | X39: =SUM(F39,L39,R39) -> 0 | Y39: =SUM(T39:X39) -> 0 | AE39: =SUM(Z39:AD39) -> 0 | AL39: =SUM(AF39:AK39) -> 0 | AR39: =SUM(AM39:AQ39) -> 0 | AY39: =SUM(AS39:AX39) -> 0 | BE39: =SUM(AZ39:BD39) -> 0 | BF39: =SUM(Z39,AF39,AM39,AS39,AZ39) -> 0 | BG39: =SUM(AA39,AG39,AN39,AT39,BA39) -> 0 | BH39: =SUM(AB39,AH39,AO39,AU39,BB39) -> 0 | BI39: =SUM(AC39,AI39,AP39,AV39,BC39) -> 0 | BJ39: =SUM(AD39,AJ39,AQ39,AW39,BD39) -> 0 | BK39: =SUM(AX39,AK39) -> 0 | BL39: =SUM(BF39:BK39) -> 0 | BR39: =SUM(BM39:BQ39) -> 0 | BX39: =SUM(BS39:BW39) -> 0 | CE39: =SUM(BY39:CD39) -> 0 | CF39: =SUM(BM39,BS39,BY39) -> 0 | CG39: =SUM(BN39,BT39,BZ39) -> 0 | CH39: =SUM(BO39,BU39,CA39) -> 0 | CI39: =SUM(BP39,BV39,CB39) -> 0 | CJ39: =SUM(BQ39,BW39,CC39) -> 0 | CK39: =SUM(CD39) -> 0 | CL39: =SUM(CF39:CK39) -> 0 | CS39: =SUM(CM39:CR39) -> 0 | CZ39: =SUM(CT39:CY39) -> 0 | DG39: =SUM(DA39:DF39) -> 0 | DN39: =SUM(DH39:DM39) -> 0 | DO39: =SUM(CM39,CT39,DA39,DH39) -> 0 | DP39: =SUM(CN39,CU39,DB39,DI39) -> 0 | DQ39: =SUM(CO39,CV39,DC39,DJ39) -> 0 | DR39: =SUM(CP39,CW39,DD39,DK39) -> 0 | DS39: =SUM(CQ39,CX39,DE39,DL39) -> 0 | DT39: =SUM(CR39,CY39,DF39,DM39) -> 0 | DU39: =SUM(DO39:DT39) -> 0 | EA39: =SUM(DV39:DZ39) -> 0 | EG39: =SUM(EB39:EF39) -> 0 | EM39: =SUM(EH39:EL39) -> 0 | ES39: =SUM(EN39:ER39) -> 0 | EY39: =SUM(ET39:EX39) -> 0 | FE39: =SUM(EZ39:FD39) -> 0 | FK39: =SUM(FF39:FJ39) -> 0 | FL39: =SUM(DV39,EB39,EH39,EN39,ET39,EZ39,FF39) -> 0 | FM39: =SUM(DW39,EC39,EI39,EO39,EU39,FA39,FG39) -> 0 | FN39: =SUM(DX39,ED39,EJ39,EP39,EV39,FB39,FH39) -> 0 | FO39: =SUM(DY39,EE39,EK39,EQ39,EW39,FC39,FI39) -> 0 | FP39: =SUM(DZ39,EF39,EL39,ER39,EX39,FD39,FJ39) -> 0 | FQ39: =SUM(FL39:FP39) -> 0 | FW39: =SUM(FR39:FV39) -> 0 | GC39: =SUM(FX39:GB39) -> 0 | GI39: =SUM(GD39:GH39) -> 0 | GO39: =SUM(GJ39:GN39) -> 0 | GU39: =SUM(GP39:GT39) -> 0 | HA39: =SUM(GV39:GZ39) -> 0 | HG39: =SUM(HB39:HF39) -> 0 | HM39: =SUM(HH39:HL39) -> 0 | HN39: =SUM(FR39,FX39,GD39,GJ39,GP39,GV39,HB39,HH39) -> 0 | HO39: =SUM(FS39,FY39,GE39,GK39,GQ39,GW39,HC39,HI39) -> 0 | HP39: =SUM(HJ39,HD39,GX39,GR39,GL39,GF39,FZ39,FT39) -> 0 | HQ39: =SUM(HK39,HE39,GY39,GS39,GM39,GG39,GA39,FU39) -> 0 | HR39: =SUM(HL39,HF39,GZ39,GT39,GN39,GH39,GB39,FV39) -> 0 | HS39: =SUM(HN39:HR39) -> 0 | HY39: =SUM(HT39:HX39) -> 0 | IE39: =SUM(HZ39:ID39) -> 0 | IK39: =SUM(IF39:IJ39) -> 0 | IL39: =SUM(HT39,HZ39,IF39) -> 0 | IM39: =SUM(HU39,IA39,IG39) -> 0 | IN39: =SUM(HV39,IB39,IH39) -> 0 | IO39: =SUM(HW39,IC39,II39) -> 0 | IP39: =SUM(HX39,ID39,IJ39) -> 0 | IQ39: =SUM(IL39:IP39) -> 0 | IW39: =SUM(IR39:IV39) -> 0 | JC39: =SUM(IX39:JB39) -> 0 | JI39: =SUM(JD39:JH39) -> 0 | JJ39: =SUM(IR39,IX39,JD39) -> 0 | JK39: =SUM(IS39,IY39,JE39) -> 0 | JL39: =SUM(IT39,IZ39,JF39) -> 0 | JM39: =SUM(IU39,JA39,JG39) -> 0 | JN39: =SUM(IV39,JB39,JH39) -> 0 | JO39: =SUM(JJ39:JN39) -> 0 | JQ39: =SUM(T39,BF39,CF39,DO39,FL39,HN39,IL39,JJ39) -> 0 | JR39: =SUM(U39,BG39,CG39,DP39,FM39,HO39,IM39,JK39) -> 0 | JS39: =SUM(V39,BH39,CH39,DQ39,FN39,HP39,IN39,JL39) -> 0 | JT39: =SUM(W39,BI39,CI39,DR39,FO39,HQ39,IO39,JM39) -> 0 | JU39: =SUM(X39,BJ39,CJ39,DS39,FP39,HR39,IP39,JN39) -> 0 | JV39: =SUM(DT39,BK39,CK39) -> 0 | JW39: =SUM(JQ39:JV39) -> 0
A40: IDT=Douglas-fir Tussock Moth | G40: =SUM(B40:F40) -> 0 | M40: =SUM(H40:L40) -> 0 | S40: =SUM(N40:R40) -> 0 | T40: =SUM(B40,H40,N40) -> 0 | U40: =SUM(C40,I40,O40) -> 0 | V40: =SUM(D40,J40,P40) -> 0 | W40: =SUM(E40,K40,Q40) -> 0 | X40: =SUM(F40,L40,R40) -> 0 | Y40: =SUM(T40:X40) -> 0 | AE40: =SUM(Z40:AD40) -> 0 | AL40: =SUM(AF40:AK40) -> 0 | AR40: =SUM(AM40:AQ40) -> 0 | AY40: =SUM(AS40:AX40) -> 0 | BE40: =SUM(AZ40:BD40) -> 0 | BF40: =SUM(Z40,AF40,AM40,AS40,AZ40) -> 0 | BG40: =SUM(AA40,AG40,AN40,AT40,BA40) -> 0 | BH40: =SUM(AB40,AH40,AO40,AU40,BB40) -> 0 | BI40: =SUM(AC40,AI40,AP40,AV40,BC40) -> 0 | BJ40: =SUM(AD40,AJ40,AQ40,AW40,BD40) -> 0 | BK40: =SUM(AX40,AK40) -> 0 | BL40: =SUM(BF40:BK40) -> 0 | BR40: =SUM(BM40:BQ40) -> 0 | BX40: =SUM(BS40:BW40) -> 0 | CE40: =SUM(BY40:CD40) -> 0 | CF40: =SUM(BM40,BS40,BY40) -> 0 | CG40: =SUM(BN40,BT40,BZ40) -> 0 | CH40: =SUM(BO40,BU40,CA40) -> 0 | CI40: =SUM(BP40,BV40,CB40) -> 0 | CJ40: =SUM(BQ40,BW40,CC40) -> 0 | CK40: =SUM(CD40) -> 0 | CL40: =SUM(CF40:CK40) -> 0 | CS40: =SUM(CM40:CR40) -> 0 | CZ40: =SUM(CT40:CY40) -> 0 | DG40: =SUM(DA40:DF40) -> 0 | DN40: =SUM(DH40:DM40) -> 0 | DO40: =SUM(CM40,CT40,DA40,DH40) -> 0 | DP40: =SUM(CN40,CU40,DB40,DI40) -> 0 | DQ40: =SUM(CO40,CV40,DC40,DJ40) -> 0 | DR40: =SUM(CP40,CW40,DD40,DK40) -> 0 | DS40: =SUM(CQ40,CX40,DE40,DL40) -> 0 | DT40: =SUM(CR40,CY40,DF40,DM40) -> 0 | DU40: =SUM(DO40:DT40) -> 0 | EA40: =SUM(DV40:DZ40) -> 0 | EG40: =SUM(EB40:EF40) -> 0 | EM40: =SUM(EH40:EL40) -> 0 | ES40: =SUM(EN40:ER40) -> 0 | EY40: =SUM(ET40:EX40) -> 0 | FE40: =SUM(EZ40:FD40) -> 0 | FK40: =SUM(FF40:FJ40) -> 0 | FL40: =SUM(DV40,EB40,EH40,EN40,ET40,EZ40,FF40) -> 0 | FM40: =SUM(DW40,EC40,EI40,EO40,EU40,FA40,FG40) -> 0 | FN40: =SUM(DX40,ED40,EJ40,EP40,EV40,FB40,FH40) -> 0 | FO40: =SUM(DY40,EE40,EK40,EQ40,EW40,FC40,FI40) -> 0 | FP40: =SUM(DZ40,EF40,EL40,ER40,EX40,FD40,FJ40) -> 0 | FQ40: =SUM(FL40:FP40) -> 0 | FW40: =SUM(FR40:FV40) -> 0 | GC40: =SUM(FX40:GB40) -> 0 | GI40: =SUM(GD40:GH40) -> 0 | GO40: =SUM(GJ40:GN40) -> 0 | GU40: =SUM(GP40:GT40) -> 0 | HA40: =SUM(GV40:GZ40) -> 0 | HG40: =SUM(HB40:HF40) -> 0 | HM40: =SUM(HH40:HL40) -> 0 | HN40: =SUM(FR40,FX40,GD40,GJ40,GP40,GV40,HB40,HH40) -> 0 | HO40: =SUM(FS40,FY40,GE40,GK40,GQ40,GW40,HC40,HI40) -> 0 | HP40: =SUM(HJ40,HD40,GX40,GR40,GL40,GF40,FZ40,FT40) -> 0 | HQ40: =SUM(HK40,HE40,GY40,GS40,GM40,GG40,GA40,FU40) -> 0 | HR40: =SUM(HL40,HF40,GZ40,GT40,GN40,GH40,GB40,FV40) -> 0 | HS40: =SUM(HN40:HR40) -> 0 | HY40: =SUM(HT40:HX40) -> 0 | IE40: =SUM(HZ40:ID40) -> 0 | IK40: =SUM(IF40:IJ40) -> 0 | IL40: =SUM(HT40,HZ40,IF40) -> 0 | IM40: =SUM(HU40,IA40,IG40) -> 0 | IN40: =SUM(HV40,IB40,IH40) -> 0 | IO40: =SUM(HW40,IC40,II40) -> 0 | IP40: =SUM(HX40,ID40,IJ40) -> 0 | IQ40: =SUM(IL40:IP40) -> 0 | IW40: =SUM(IR40:IV40) -> 0 | JC40: =SUM(IX40:JB40) -> 0 | JI40: =SUM(JD40:JH40) -> 0 | JJ40: =SUM(IR40,IX40,JD40) -> 0 | JK40: =SUM(IS40,IY40,JE40) -> 0 | JL40: =SUM(IT40,IZ40,JF40) -> 0 | JM40: =SUM(IU40,JA40,JG40) -> 0 | JN40: =SUM(IV40,JB40,JH40) -> 0 | JO40: =SUM(JJ40:JN40) -> 0 | JQ40: =SUM(T40,BF40,CF40,DO40,FL40,HN40,IL40,JJ40) -> 0 | JR40: =SUM(U40,BG40,CG40,DP40,FM40,HO40,IM40,JK40) -> 0 | JS40: =SUM(V40,BH40,CH40,DQ40,FN40,HP40,IN40,JL40) -> 0 | JT40: =SUM(W40,BI40,CI40,DR40,FO40,HQ40,IO40,JM40) -> 0 | JU40: =SUM(X40,BJ40,CJ40,DS40,FP40,HR40,IP40,JN40) -> 0 | JV40: =SUM(DT40,BK40,CK40) -> 0 | JW40: =SUM(JQ40:JV40) -> 0
A41: IDU=Satin Moth | G41: =SUM(B41:F41) -> 0 | M41: =SUM(H41:L41) -> 0 | S41: =SUM(N41:R41) -> 0 | T41: =SUM(B41,H41,N41) -> 0 | U41: =SUM(C41,I41,O41) -> 0 | V41: =SUM(D41,J41,P41) -> 0 | W41: =SUM(E41,K41,Q41) -> 0 | X41: =SUM(F41,L41,R41) -> 0 | Y41: =SUM(T41:X41) -> 0 | AE41: =SUM(Z41:AD41) -> 0 | AL41: =SUM(AF41:AK41) -> 0 | AR41: =SUM(AM41:AQ41) -> 0 | AY41: =SUM(AS41:AX41) -> 0 | BE41: =SUM(AZ41:BD41) -> 0 | BF41: =SUM(Z41,AF41,AM41,AS41,AZ41) -> 0 | BG41: =SUM(AA41,AG41,AN41,AT41,BA41) -> 0 | BH41: =SUM(AB41,AH41,AO41,AU41,BB41) -> 0 | BI41: =SUM(AC41,AI41,AP41,AV41,BC41) -> 0 | BJ41: =SUM(AD41,AJ41,AQ41,AW41,BD41) -> 0 | BK41: =SUM(AX41,AK41) -> 0 | BL41: =SUM(BF41:BK41) -> 0 | BR41: =SUM(BM41:BQ41) -> 0 | BX41: =SUM(BS41:BW41) -> 0 | CE41: =SUM(BY41:CD41) -> 0 | CF41: =SUM(BM41,BS41,BY41) -> 0 | CG41: =SUM(BN41,BT41,BZ41) -> 0 | CH41: =SUM(BO41,BU41,CA41) -> 0 | CI41: =SUM(BP41,BV41,CB41) -> 0 | CJ41: =SUM(BQ41,BW41,CC41) -> 0 | CK41: =SUM(CD41) -> 0 | CL41: =SUM(CF41:CK41) -> 0 | CN41: 5.4672867 | CS41: =SUM(CM41:CR41) -> 5.4672867 | CZ41: =SUM(CT41:CY41) -> 0 | DB41: 13.188976 | DC41: 30.296239 | DD41: 11.402578 | DG41: =SUM(DA41:DF41) -> 54.887793 | DI41: 36.645584 | DJ41: 18.791286 | DK41: 15.316205 | DN41: =SUM(DH41:DM41) -> 70.753075 | DO41: =SUM(CM41,CT41,DA41,DH41) -> 0 | DP41: =SUM(CN41,CU41,DB41,DI41) -> 55.301847 | DQ41: =SUM(CO41,CV41,DC41,DJ41) -> 49.087525 | DR41: =SUM(CP41,CW41,DD41,DK41) -> 26.718783 | DS41: =SUM(CQ41,CX41,DE41,DL41) -> 0 | DT41: =SUM(CR41,CY41,DF41,DM41) -> 0 | DU41: =SUM(DO41:DT41) -> 131.10815 | EA41: =SUM(DV41:DZ41) -> 0 | EG41: =SUM(EB41:EF41) -> 0 | EM41: =SUM(EH41:EL41) -> 0 | ES41: =SUM(EN41:ER41) -> 0 | EY41: =SUM(ET41:EX41) -> 0 | FE41: =SUM(EZ41:FD41) -> 0 | FK41: =SUM(FF41:FJ41) -> 0 | FL41: =SUM(DV41,EB41,EH41,EN41,ET41,EZ41,FF41) -> 0 | FM41: =SUM(DW41,EC41,EI41,EO41,EU41,FA41,FG41) -> 0 | FN41: =SUM(DX41,ED41,EJ41,EP41,EV41,FB41,FH41) -> 0 | FO41: =SUM(DY41,EE41,EK41,EQ41,EW41,FC41,FI41) -> 0 | FP41: =SUM(DZ41,EF41,EL41,ER41,EX41,FD41,FJ41) -> 0 | FQ41: =SUM(FL41:FP41) -> 0 | FW41: =SUM(FR41:FV41) -> 0 | GC41: =SUM(FX41:GB41) -> 0 | GI41: =SUM(GD41:GH41) -> 0 | GO41: =SUM(GJ41:GN41) -> 0 | GU41: =SUM(GP41:GT41) -> 0 | HA41: =SUM(GV41:GZ41) -> 0 | HG41: =SUM(HB41:HF41) -> 0 | HM41: =SUM(HH41:HL41) -> 0 | HN41: =SUM(FR41,FX41,GD41,GJ41,GP41,GV41,HB41,HH41) -> 0 | HO41: =SUM(FS41,FY41,GE41,GK41,GQ41,GW41,HC41,HI41) -> 0 | HP41: =SUM(HJ41,HD41,GX41,GR41,GL41,GF41,FZ41,FT41) -> 0 | HQ41: =SUM(HK41,HE41,GY41,GS41,GM41,GG41,GA41,FU41) -> 0 | HR41: =SUM(HL41,HF41,GZ41,GT41,GN41,GH41,GB41,FV41) -> 0 | HS41: =SUM(HN41:HR41) -> 0 | HY41: =SUM(HT41:HX41) -> 0 | IE41: =SUM(HZ41:ID41) -> 0 | IK41: =SUM(IF41:IJ41) -> 0 | IL41: =SUM(HT41,HZ41,IF41) -> 0 | IM41: =SUM(HU41,IA41,IG41) -> 0 | IN41: =SUM(HV41,IB41,IH41) -> 0 | IO41: =SUM(HW41,IC41,II41) -> 0 | IP41: =SUM(HX41,ID41,IJ41) -> 0 | IQ41: =SUM(IL41:IP41) -> 0 | IW41: =SUM(IR41:IV41) -> 0 | JC41: =SUM(IX41:JB41) -> 0 | JI41: =SUM(JD41:JH41) -> 0 | JJ41: =SUM(IR41,IX41,JD41) -> 0 | JK41: =SUM(IS41,IY41,JE41) -> 0 | JL41: =SUM(IT41,IZ41,JF41) -> 0 | JM41: =SUM(IU41,JA41,JG41) -> 0 | JN41: =SUM(IV41,JB41,JH41) -> 0 | JO41: =SUM(JJ41:JN41) -> 0 | JQ41: =SUM(T41,BF41,CF41,DO41,FL41,HN41,IL41,JJ41) -> 0 | JR41: =SUM(U41,BG41,CG41,DP41,FM41,HO41,IM41,JK41) -> 55.301847 | JS41: =SUM(V41,BH41,CH41,DQ41,FN41,HP41,IN41,JL41) -> 49.087525 | JT41: =SUM(W41,BI41,CI41,DR41,FO41,HQ41,IO41,JM41) -> 26.718783 | JU41: =SUM(X41,BJ41,CJ41,DS41,FP41,HR41,IP41,JN41) -> 0 | JV41: =SUM(DT41,BK41,CK41) -> 0 | JW41: =SUM(JQ41:JV41) -> 131.10815
A42: IDW=Western Spruce Budworm | G42: =SUM(B42:F42) -> 0 | I42: 63.924982 | J42: 500.42016 | M42: =SUM(H42:L42) -> 564.34514 | S42: =SUM(N42:R42) -> 0 | T42: =SUM(B42,H42,N42) -> 0 | U42: =SUM(C42,I42,O42) -> 63.924982 | V42: =SUM(D42,J42,P42) -> 500.42016 | W42: =SUM(E42,K42,Q42) -> 0 | X42: =SUM(F42,L42,R42) -> 0 | Y42: =SUM(T42:X42) -> 564.34514 | AE42: =SUM(Z42:AD42) -> 0 | AL42: =SUM(AF42:AK42) -> 0 | AR42: =SUM(AM42:AQ42) -> 0 | AY42: =SUM(AS42:AX42) -> 0 | BE42: =SUM(AZ42:BD42) -> 0 | BF42: =SUM(Z42,AF42,AM42,AS42,AZ42) -> 0 | BG42: =SUM(AA42,AG42,AN42,AT42,BA42) -> 0 | BH42: =SUM(AB42,AH42,AO42,AU42,BB42) -> 0 | BI42: =SUM(AC42,AI42,AP42,AV42,BC42) -> 0 | BJ42: =SUM(AD42,AJ42,AQ42,AW42,BD42) -> 0 | BK42: =SUM(AX42,AK42) -> 0 | BL42: =SUM(BF42:BK42) -> 0 | BN42: 1052.5828 | BO42: 276.01265 | BR42: =SUM(BM42:BQ42) -> 1328.5954 | BX42: =SUM(BS42:BW42) -> 0 | BZ42: 3754.3557 | CE42: =SUM(BY42:CD42) -> 3754.3557 | CF42: =SUM(BM42,BS42,BY42) -> 0 | CG42: =SUM(BN42,BT42,BZ42) -> 4806.9385 | CH42: =SUM(BO42,BU42,CA42) -> 276.01265 | CI42: =SUM(BP42,BV42,CB42) -> 0 | CJ42: =SUM(BQ42,BW42,CC42) -> 0 | CK42: =SUM(CD42) -> 0 | CL42: =SUM(CF42:CK42) -> 5082.9511 | CN42: 153.41709 | CS42: =SUM(CM42:CR42) -> 153.41709 | CZ42: =SUM(CT42:CY42) -> 0 | DB42: 254.47483 | DC42: 16.185773 | DG42: =SUM(DA42:DF42) -> 270.6606 | DI42: 1464.6149 | DJ42: 18.877785 | DN42: =SUM(DH42:DM42) -> 1483.4926 | DO42: =SUM(CM42,CT42,DA42,DH42) -> 0 | DP42: =SUM(CN42,CU42,DB42,DI42) -> 1872.5068 | DQ42: =SUM(CO42,CV42,DC42,DJ42) -> 35.063558 | DR42: =SUM(CP42,CW42,DD42,DK42) -> 0 | DS42: =SUM(CQ42,CX42,DE42,DL42) -> 0 | DT42: =SUM(CR42,CY42,DF42,DM42) -> 0 | DU42: =SUM(DO42:DT42) -> 1907.5703 | DW42: 16.095417 | EA42: =SUM(DV42:DZ42) -> 16.095417 | EC42: 1234.2633 | ED42: 296.34266 | EG42: =SUM(EB42:EF42) -> 1530.606 | EI42: 17.201531 | EK42: 16.338533 | EM42: =SUM(EH42:EL42) -> 33.540064 | ES42: =SUM(EN42:ER42) -> 0 | EY42: =SUM(ET42:EX42) -> 0 | FE42: =SUM(EZ42:FD42) -> 0 | FK42: =SUM(FF42:FJ42) -> 0 | FL42: =SUM(DV42,EB42,EH42,EN42,ET42,EZ42,FF42) -> 0 | FM42: =SUM(DW42,EC42,EI42,EO42,EU42,FA42,FG42) -> 1267.5603 | FN42: =SUM(DX42,ED42,EJ42,EP42,EV42,FB42,FH42) -> 296.34266 | FO42: =SUM(DY42,EE42,EK42,EQ42,EW42,FC42,FI42) -> 16.338533 | FP42: =SUM(DZ42,EF42,EL42,ER42,EX42,FD42,FJ42) -> 0 | FQ42: =SUM(FL42:FP42) -> 1580.2415 | FW42: =SUM(FR42:FV42) -> 0 | GC42: =SUM(FX42:GB42) -> 0 | GI42: =SUM(GD42:GH42) -> 0 | GO42: =SUM(GJ42:GN42) -> 0 | GU42: =SUM(GP42:GT42) -> 0 | HA42: =SUM(GV42:GZ42) -> 0 | HG42: =SUM(HB42:HF42) -> 0 | HM42: =SUM(HH42:HL42) -> 0 | HN42: =SUM(FR42,FX42,GD42,GJ42,GP42,GV42,HB42,HH42) -> 0 | HO42: =SUM(FS42,FY42,GE42,GK42,GQ42,GW42,HC42,HI42) -> 0 | HP42: =SUM(HJ42,HD42,GX42,GR42,GL42,GF42,FZ42,FT42) -> 0 | HQ42: =SUM(HK42,HE42,GY42,GS42,GM42,GG42,GA42,FU42) -> 0 | HR42: =SUM(HL42,HF42,GZ42,GT42,GN42,GH42,GB42,FV42) -> 0 | HS42: =SUM(HN42:HR42) -> 0 | HY42: =SUM(HT42:HX42) -> 0 | IE42: =SUM(HZ42:ID42) -> 0 | IK42: =SUM(IF42:IJ42) -> 0 | IL42: =SUM(HT42,HZ42,IF42) -> 0 | IM42: =SUM(HU42,IA42,IG42) -> 0 | IN42: =SUM(HV42,IB42,IH42) -> 0 | IO42: =SUM(HW42,IC42,II42) -> 0 | IP42: =SUM(HX42,ID42,IJ42) -> 0 | IQ42: =SUM(IL42:IP42) -> 0 | IW42: =SUM(IR42:IV42) -> 0 | JC42: =SUM(IX42:JB42) -> 0 | JI42: =SUM(JD42:JH42) -> 0 | JJ42: =SUM(IR42,IX42,JD42) -> 0 | JK42: =SUM(IS42,IY42,JE42) -> 0 | JL42: =SUM(IT42,IZ42,JF42) -> 0 | JM42: =SUM(IU42,JA42,JG42) -> 0 | JN42: =SUM(IV42,JB42,JH42) -> 0 | JO42: =SUM(JJ42:JN42) -> 0 | JQ42: =SUM(T42,BF42,CF42,DO42,FL42,HN42,IL42,JJ42) -> 0 | JR42: =SUM(U42,BG42,CG42,DP42,FM42,HO42,IM42,JK42) -> 8010.9305 | JS42: =SUM(V42,BH42,CH42,DQ42,FN42,HP42,IN42,JL42) -> 1107.839 | JT42: =SUM(W42,BI42,CI42,DR42,FO42,HQ42,IO42,JM42) -> 16.338533 | JU42: =SUM(X42,BJ42,CJ42,DS42,FP42,HR42,IP42,JN42) -> 0 | JV42: =SUM(DT42,BK42,CK42) -> 0 | JW42: =SUM(JQ42:JV42) -> 9135.1081
A43: IDX=Large Aspen Tortrix | G43: =SUM(B43:F43) -> 0 | M43: =SUM(H43:L43) -> 0 | S43: =SUM(N43:R43) -> 0 | T43: =SUM(B43,H43,N43) -> 0 | U43: =SUM(C43,I43,O43) -> 0 | V43: =SUM(D43,J43,P43) -> 0 | W43: =SUM(E43,K43,Q43) -> 0 | X43: =SUM(F43,L43,R43) -> 0 | Y43: =SUM(T43:X43) -> 0 | AE43: =SUM(Z43:AD43) -> 0 | AL43: =SUM(AF43:AK43) -> 0 | AR43: =SUM(AM43:AQ43) -> 0 | AY43: =SUM(AS43:AX43) -> 0 | BE43: =SUM(AZ43:BD43) -> 0 | BF43: =SUM(Z43,AF43,AM43,AS43,AZ43) -> 0 | BG43: =SUM(AA43,AG43,AN43,AT43,BA43) -> 0 | BH43: =SUM(AB43,AH43,AO43,AU43,BB43) -> 0 | BI43: =SUM(AC43,AI43,AP43,AV43,BC43) -> 0 | BJ43: =SUM(AD43,AJ43,AQ43,AW43,BD43) -> 0 | BK43: =SUM(AX43,AK43) -> 0 | BL43: =SUM(BF43:BK43) -> 0 | BR43: =SUM(BM43:BQ43) -> 0 | BX43: =SUM(BS43:BW43) -> 0 | CE43: =SUM(BY43:CD43) -> 0 | CF43: =SUM(BM43,BS43,BY43) -> 0 | CG43: =SUM(BN43,BT43,BZ43) -> 0 | CH43: =SUM(BO43,BU43,CA43) -> 0 | CI43: =SUM(BP43,BV43,CB43) -> 0 | CJ43: =SUM(BQ43,BW43,CC43) -> 0 | CK43: =SUM(CD43) -> 0 | CL43: =SUM(CF43:CK43) -> 0 | CS43: =SUM(CM43:CR43) -> 0 | CZ43: =SUM(CT43:CY43) -> 0 | DG43: =SUM(DA43:DF43) -> 0 | DN43: =SUM(DH43:DM43) -> 0 | DO43: =SUM(CM43,CT43,DA43,DH43) -> 0 | DP43: =SUM(CN43,CU43,DB43,DI43) -> 0 | DQ43: =SUM(CO43,CV43,DC43,DJ43) -> 0 | DR43: =SUM(CP43,CW43,DD43,DK43) -> 0 | DS43: =SUM(CQ43,CX43,DE43,DL43) -> 0 | DT43: =SUM(CR43,CY43,DF43,DM43) -> 0 | DU43: =SUM(DO43:DT43) -> 0 | EA43: =SUM(DV43:DZ43) -> 0 | EG43: =SUM(EB43:EF43) -> 0 | EM43: =SUM(EH43:EL43) -> 0 | ES43: =SUM(EN43:ER43) -> 0 | EY43: =SUM(ET43:EX43) -> 0 | FE43: =SUM(EZ43:FD43) -> 0 | FK43: =SUM(FF43:FJ43) -> 0 | FL43: =SUM(DV43,EB43,EH43,EN43,ET43,EZ43,FF43) -> 0 | FM43: =SUM(DW43,EC43,EI43,EO43,EU43,FA43,FG43) -> 0 | FN43: =SUM(DX43,ED43,EJ43,EP43,EV43,FB43,FH43) -> 0 | FO43: =SUM(DY43,EE43,EK43,EQ43,EW43,FC43,FI43) -> 0 | FP43: =SUM(DZ43,EF43,EL43,ER43,EX43,FD43,FJ43) -> 0 | FQ43: =SUM(FL43:FP43) -> 0 | FW43: =SUM(FR43:FV43) -> 0 | GC43: =SUM(FX43:GB43) -> 0 | GI43: =SUM(GD43:GH43) -> 0 | GO43: =SUM(GJ43:GN43) -> 0 | GU43: =SUM(GP43:GT43) -> 0 | HA43: =SUM(GV43:GZ43) -> 0 | HG43: =SUM(HB43:HF43) -> 0 | HM43: =SUM(HH43:HL43) -> 0 | HN43: =SUM(FR43,FX43,GD43,GJ43,GP43,GV43,HB43,HH43) -> 0 | HO43: =SUM(FS43,FY43,GE43,GK43,GQ43,GW43,HC43,HI43) -> 0 | HP43: =SUM(HJ43,HD43,GX43,GR43,GL43,GF43,FZ43,FT43) -> 0 | HQ43: =SUM(HK43,HE43,GY43,GS43,GM43,GG43,GA43,FU43) -> 0 | HR43: =SUM(HL43,HF43,GZ43,GT43,GN43,GH43,GB43,FV43) -> 0 | HS43: =SUM(HN43:HR43) -> 0 | HY43: =SUM(HT43:HX43) -> 0 | IE43: =SUM(HZ43:ID43) -> 0 | IK43: =SUM(IF43:IJ43) -> 0 | IL43: =SUM(HT43,HZ43,IF43) -> 0 | IM43: =SUM(HU43,IA43,IG43) -> 0 | IN43: =SUM(HV43,IB43,IH43) -> 0 | IO43: =SUM(HW43,IC43,II43) -> 0 | IP43: =SUM(HX43,ID43,IJ43) -> 0 | IQ43: =SUM(IL43:IP43) -> 0 | IW43: =SUM(IR43:IV43) -> 0 | JC43: =SUM(IX43:JB43) -> 0 | JI43: =SUM(JD43:JH43) -> 0 | JJ43: =SUM(IR43,IX43,JD43) -> 0 | JK43: =SUM(IS43,IY43,JE43) -> 0 | JL43: =SUM(IT43,IZ43,JF43) -> 0 | JM43: =SUM(IU43,JA43,JG43) -> 0 | JN43: =SUM(IV43,JB43,JH43) -> 0 | JO43: =SUM(JJ43:JN43) -> 0 | JQ43: =SUM(T43,BF43,CF43,DO43,FL43,HN43,IL43,JJ43) -> 0 | JR43: =SUM(U43,BG43,CG43,DP43,FM43,HO43,IM43,JK43) -> 0 | JS43: =SUM(V43,BH43,CH43,DQ43,FN43,HP43,IN43,JL43) -> 0 | JT43: =SUM(W43,BI43,CI43,DR43,FO43,HQ43,IO43,JM43) -> 0 | JU43: =SUM(X43,BJ43,CJ43,DS43,FP43,HR43,IP43,JN43) -> 0 | JV43: =SUM(DT43,BK43,CK43) -> 0 | JW43: =SUM(JQ43:JV43) -> 0
A44: IDZ=False Hemlock Looper | G44: =SUM(B44:F44) -> 0 | M44: =SUM(H44:L44) -> 0 | S44: =SUM(N44:R44) -> 0 | T44: =SUM(B44,H44,N44) -> 0 | U44: =SUM(C44,I44,O44) -> 0 | V44: =SUM(D44,J44,P44) -> 0 | W44: =SUM(E44,K44,Q44) -> 0 | X44: =SUM(F44,L44,R44) -> 0 | Y44: =SUM(T44:X44) -> 0 | AE44: =SUM(Z44:AD44) -> 0 | AL44: =SUM(AF44:AK44) -> 0 | AR44: =SUM(AM44:AQ44) -> 0 | AY44: =SUM(AS44:AX44) -> 0 | BE44: =SUM(AZ44:BD44) -> 0 | BF44: =SUM(Z44,AF44,AM44,AS44,AZ44) -> 0 | BG44: =SUM(AA44,AG44,AN44,AT44,BA44) -> 0 | BH44: =SUM(AB44,AH44,AO44,AU44,BB44) -> 0 | BI44: =SUM(AC44,AI44,AP44,AV44,BC44) -> 0 | BJ44: =SUM(AD44,AJ44,AQ44,AW44,BD44) -> 0 | BK44: =SUM(AX44,AK44) -> 0 | BL44: =SUM(BF44:BK44) -> 0 | BR44: =SUM(BM44:BQ44) -> 0 | BX44: =SUM(BS44:BW44) -> 0 | CE44: =SUM(BY44:CD44) -> 0 | CF44: =SUM(BM44,BS44,BY44) -> 0 | CG44: =SUM(BN44,BT44,BZ44) -> 0 | CH44: =SUM(BO44,BU44,CA44) -> 0 | CI44: =SUM(BP44,BV44,CB44) -> 0 | CJ44: =SUM(BQ44,BW44,CC44) -> 0 | CK44: =SUM(CD44) -> 0 | CL44: =SUM(CF44:CK44) -> 0 | CS44: =SUM(CM44:CR44) -> 0 | CZ44: =SUM(CT44:CY44) -> 0 | DG44: =SUM(DA44:DF44) -> 0 | DN44: =SUM(DH44:DM44) -> 0 | DO44: =SUM(CM44,CT44,DA44,DH44) -> 0 | DP44: =SUM(CN44,CU44,DB44,DI44) -> 0 | DQ44: =SUM(CO44,CV44,DC44,DJ44) -> 0 | DR44: =SUM(CP44,CW44,DD44,DK44) -> 0 | DS44: =SUM(CQ44,CX44,DE44,DL44) -> 0 | DT44: =SUM(CR44,CY44,DF44,DM44) -> 0 | DU44: =SUM(DO44:DT44) -> 0 | EA44: =SUM(DV44:DZ44) -> 0 | EG44: =SUM(EB44:EF44) -> 0 | EM44: =SUM(EH44:EL44) -> 0 | ES44: =SUM(EN44:ER44) -> 0 | EY44: =SUM(ET44:EX44) -> 0 | FE44: =SUM(EZ44:FD44) -> 0 | FK44: =SUM(FF44:FJ44) -> 0 | FL44: =SUM(DV44,EB44,EH44,EN44,ET44,EZ44,FF44) -> 0 | FM44: =SUM(DW44,EC44,EI44,EO44,EU44,FA44,FG44) -> 0 | FN44: =SUM(DX44,ED44,EJ44,EP44,EV44,FB44,FH44) -> 0 | FO44: =SUM(DY44,EE44,EK44,EQ44,EW44,FC44,FI44) -> 0 | FP44: =SUM(DZ44,EF44,EL44,ER44,EX44,FD44,FJ44) -> 0 | FQ44: =SUM(FL44:FP44) -> 0 | FW44: =SUM(FR44:FV44) -> 0 | GC44: =SUM(FX44:GB44) -> 0 | GI44: =SUM(GD44:GH44) -> 0 | GO44: =SUM(GJ44:GN44) -> 0 | GU44: =SUM(GP44:GT44) -> 0 | HA44: =SUM(GV44:GZ44) -> 0 | HG44: =SUM(HB44:HF44) -> 0 | HM44: =SUM(HH44:HL44) -> 0 | HN44: =SUM(FR44,FX44,GD44,GJ44,GP44,GV44,HB44,HH44) -> 0 | HO44: =SUM(FS44,FY44,GE44,GK44,GQ44,GW44,HC44,HI44) -> 0 | HP44: =SUM(HJ44,HD44,GX44,GR44,GL44,GF44,FZ44,FT44) -> 0 | HQ44: =SUM(HK44,HE44,GY44,GS44,GM44,GG44,GA44,FU44) -> 0 | HR44: =SUM(HL44,HF44,GZ44,GT44,GN44,GH44,GB44,FV44) -> 0 | HS44: =SUM(HN44:HR44) -> 0 | HY44: =SUM(HT44:HX44) -> 0 | IE44: =SUM(HZ44:ID44) -> 0 | IK44: =SUM(IF44:IJ44) -> 0 | IL44: =SUM(HT44,HZ44,IF44) -> 0 | IM44: =SUM(HU44,IA44,IG44) -> 0 | IN44: =SUM(HV44,IB44,IH44) -> 0 | IO44: =SUM(HW44,IC44,II44) -> 0 | IP44: =SUM(HX44,ID44,IJ44) -> 0 | IQ44: =SUM(IL44:IP44) -> 0 | IW44: =SUM(IR44:IV44) -> 0 | JC44: =SUM(IX44:JB44) -> 0 | JI44: =SUM(JD44:JH44) -> 0 | JJ44: =SUM(IR44,IX44,JD44) -> 0 | JK44: =SUM(IS44,IY44,JE44) -> 0 | JL44: =SUM(IT44,IZ44,JF44) -> 0 | JM44: =SUM(IU44,JA44,JG44) -> 0 | JN44: =SUM(IV44,JB44,JH44) -> 0 | JO44: =SUM(JJ44:JN44) -> 0 | JQ44: =SUM(T44,BF44,CF44,DO44,FL44,HN44,IL44,JJ44) -> 0 | JR44: =SUM(U44,BG44,CG44,DP44,FM44,HO44,IM44,JK44) -> 0 | JS44: =SUM(V44,BH44,CH44,DQ44,FN44,HP44,IN44,JL44) -> 0 | JT44: =SUM(W44,BI44,CI44,DR44,FO44,HQ44,IO44,JM44) -> 0 | JU44: =SUM(X44,BJ44,CJ44,DS44,FP44,HR44,IP44,JN44) -> 0 | JV44: =SUM(DT44,BK44,CK44) -> 0 | JW44: =SUM(JQ44:JV44) -> 0
A45: IEL=Logepole Needle Miner | G45: =SUM(B45:F45) -> 0 | M45: =SUM(H45:L45) -> 0 | S45: =SUM(N45:R45) -> 0 | T45: =SUM(B45,H45,N45) -> 0 | U45: =SUM(C45,I45,O45) -> 0 | V45: =SUM(D45,J45,P45) -> 0 | W45: =SUM(E45,K45,Q45) -> 0 | X45: =SUM(F45,L45,R45) -> 0 | Y45: =SUM(T45:X45) -> 0 | AE45: =SUM(Z45:AD45) -> 0 | AL45: =SUM(AF45:AK45) -> 0 | AR45: =SUM(AM45:AQ45) -> 0 | AY45: =SUM(AS45:AX45) -> 0 | BE45: =SUM(AZ45:BD45) -> 0 | BF45: =SUM(Z45,AF45,AM45,AS45,AZ45) -> 0 | BG45: =SUM(AA45,AG45,AN45,AT45,BA45) -> 0 | BH45: =SUM(AB45,AH45,AO45,AU45,BB45) -> 0 | BI45: =SUM(AC45,AI45,AP45,AV45,BC45) -> 0 | BJ45: =SUM(AD45,AJ45,AQ45,AW45,BD45) -> 0 | BK45: =SUM(AX45,AK45) -> 0 | BL45: =SUM(BF45:BK45) -> 0 | BR45: =SUM(BM45:BQ45) -> 0 | BX45: =SUM(BS45:BW45) -> 0 | CE45: =SUM(BY45:CD45) -> 0 | CF45: =SUM(BM45,BS45,BY45) -> 0 | CG45: =SUM(BN45,BT45,BZ45) -> 0 | CH45: =SUM(BO45,BU45,CA45) -> 0 | CI45: =SUM(BP45,BV45,CB45) -> 0 | CJ45: =SUM(BQ45,BW45,CC45) -> 0 | CK45: =SUM(CD45) -> 0 | CL45: =SUM(CF45:CK45) -> 0 | CS45: =SUM(CM45:CR45) -> 0 | CZ45: =SUM(CT45:CY45) -> 0 | DG45: =SUM(DA45:DF45) -> 0 | DN45: =SUM(DH45:DM45) -> 0 | DO45: =SUM(CM45,CT45,DA45,DH45) -> 0 | DP45: =SUM(CN45,CU45,DB45,DI45) -> 0 | DQ45: =SUM(CO45,CV45,DC45,DJ45) -> 0 | DR45: =SUM(CP45,CW45,DD45,DK45) -> 0 | DS45: =SUM(CQ45,CX45,DE45,DL45) -> 0 | DT45: =SUM(CR45,CY45,DF45,DM45) -> 0 | DU45: =SUM(DO45:DT45) -> 0 | EA45: =SUM(DV45:DZ45) -> 0 | EG45: =SUM(EB45:EF45) -> 0 | EM45: =SUM(EH45:EL45) -> 0 | ES45: =SUM(EN45:ER45) -> 0 | EY45: =SUM(ET45:EX45) -> 0 | FE45: =SUM(EZ45:FD45) -> 0 | FK45: =SUM(FF45:FJ45) -> 0 | FL45: =SUM(DV45,EB45,EH45,EN45,ET45,EZ45,FF45) -> 0 | FM45: =SUM(DW45,EC45,EI45,EO45,EU45,FA45,FG45) -> 0 | FN45: =SUM(DX45,ED45,EJ45,EP45,EV45,FB45,FH45) -> 0 | FO45: =SUM(DY45,EE45,EK45,EQ45,EW45,FC45,FI45) -> 0 | FP45: =SUM(DZ45,EF45,EL45,ER45,EX45,FD45,FJ45) -> 0 | FQ45: =SUM(FL45:FP45) -> 0 | FW45: =SUM(FR45:FV45) -> 0 | GC45: =SUM(FX45:GB45) -> 0 | GI45: =SUM(GD45:GH45) -> 0 | GO45: =SUM(GJ45:GN45) -> 0 | GU45: =SUM(GP45:GT45) -> 0 | HA45: =SUM(GV45:GZ45) -> 0 | HG45: =SUM(HB45:HF45) -> 0 | HM45: =SUM(HH45:HL45) -> 0 | HN45: =SUM(FR45,FX45,GD45,GJ45,GP45,GV45,HB45,HH45) -> 0 | HO45: =SUM(FS45,FY45,GE45,GK45,GQ45,GW45,HC45,HI45) -> 0 | HP45: =SUM(HJ45,HD45,GX45,GR45,GL45,GF45,FZ45,FT45) -> 0 | HQ45: =SUM(HK45,HE45,GY45,GS45,GM45,GG45,GA45,FU45) -> 0 | HR45: =SUM(HL45,HF45,GZ45,GT45,GN45,GH45,GB45,FV45) -> 0 | HS45: =SUM(HN45:HR45) -> 0 | HY45: =SUM(HT45:HX45) -> 0 | IE45: =SUM(HZ45:ID45) -> 0 | IK45: =SUM(IF45:IJ45) -> 0 | IL45: =SUM(HT45,HZ45,IF45) -> 0 | IM45: =SUM(HU45,IA45,IG45) -> 0 | IN45: =SUM(HV45,IB45,IH45) -> 0 | IO45: =SUM(HW45,IC45,II45) -> 0 | IP45: =SUM(HX45,ID45,IJ45) -> 0 | IQ45: =SUM(IL45:IP45) -> 0 | IW45: =SUM(IR45:IV45) -> 0 | JC45: =SUM(IX45:JB45) -> 0 | JI45: =SUM(JD45:JH45) -> 0 | JJ45: =SUM(IR45,IX45,JD45) -> 0 | JK45: =SUM(IS45,IY45,JE45) -> 0 | JL45: =SUM(IT45,IZ45,JF45) -> 0 | JM45: =SUM(IU45,JA45,JG45) -> 0 | JN45: =SUM(IV45,JB45,JH45) -> 0 | JO45: =SUM(JJ45:JN45) -> 0 | JQ45: =SUM(T45,BF45,CF45,DO45,FL45,HN45,IL45,JJ45) -> 0 | JR45: =SUM(U45,BG45,CG45,DP45,FM45,HO45,IM45,JK45) -> 0 | JS45: =SUM(V45,BH45,CH45,DQ45,FN45,HP45,IN45,JL45) -> 0 | JT45: =SUM(W45,BI45,CI45,DR45,FO45,HQ45,IO45,JM45) -> 0 | JU45: =SUM(X45,BJ45,CJ45,DS45,FP45,HR45,IP45,JN45) -> 0 | JV45: =SUM(DT45,BK45,CK45) -> 0 | JW45: =SUM(JQ45:JV45) -> 0
A46: IEB=Hemlock Sawfly | G46: =SUM(B46:F46) -> 0 | M46: =SUM(H46:L46) -> 0 | S46: =SUM(N46:R46) -> 0 | T46: =SUM(B46,H46,N46) -> 0 | U46: =SUM(C46,I46,O46) -> 0 | V46: =SUM(D46,J46,P46) -> 0 | W46: =SUM(E46,K46,Q46) -> 0 | X46: =SUM(F46,L46,R46) -> 0 | Y46: =SUM(T46:X46) -> 0 | AE46: =SUM(Z46:AD46) -> 0 | AL46: =SUM(AF46:AK46) -> 0 | AR46: =SUM(AM46:AQ46) -> 0 | AY46: =SUM(AS46:AX46) -> 0 | BE46: =SUM(AZ46:BD46) -> 0 | BF46: =SUM(Z46,AF46,AM46,AS46,AZ46) -> 0 | BG46: =SUM(AA46,AG46,AN46,AT46,BA46) -> 0 | BH46: =SUM(AB46,AH46,AO46,AU46,BB46) -> 0 | BI46: =SUM(AC46,AI46,AP46,AV46,BC46) -> 0 | BJ46: =SUM(AD46,AJ46,AQ46,AW46,BD46) -> 0 | BK46: =SUM(AX46,AK46) -> 0 | BL46: =SUM(BF46:BK46) -> 0 | BR46: =SUM(BM46:BQ46) -> 0 | BX46: =SUM(BS46:BW46) -> 0 | CE46: =SUM(BY46:CD46) -> 0 | CF46: =SUM(BM46,BS46,BY46) -> 0 | CG46: =SUM(BN46,BT46,BZ46) -> 0 | CH46: =SUM(BO46,BU46,CA46) -> 0 | CI46: =SUM(BP46,BV46,CB46) -> 0 | CJ46: =SUM(BQ46,BW46,CC46) -> 0 | CK46: =SUM(CD46) -> 0 | CL46: =SUM(CF46:CK46) -> 0 | CS46: =SUM(CM46:CR46) -> 0 | CZ46: =SUM(CT46:CY46) -> 0 | DG46: =SUM(DA46:DF46) -> 0 | DN46: =SUM(DH46:DM46) -> 0 | DO46: =SUM(CM46,CT46,DA46,DH46) -> 0 | DP46: =SUM(CN46,CU46,DB46,DI46) -> 0 | DQ46: =SUM(CO46,CV46,DC46,DJ46) -> 0 | DR46: =SUM(CP46,CW46,DD46,DK46) -> 0 | DS46: =SUM(CQ46,CX46,DE46,DL46) -> 0 | DT46: =SUM(CR46,CY46,DF46,DM46) -> 0 | DU46: =SUM(DO46:DT46) -> 0 | EA46: =SUM(DV46:DZ46) -> 0 | EG46: =SUM(EB46:EF46) -> 0 | EM46: =SUM(EH46:EL46) -> 0 | ES46: =SUM(EN46:ER46) -> 0 | EY46: =SUM(ET46:EX46) -> 0 | FE46: =SUM(EZ46:FD46) -> 0 | FK46: =SUM(FF46:FJ46) -> 0 | FL46: =SUM(DV46,EB46,EH46,EN46,ET46,EZ46,FF46) -> 0 | FM46: =SUM(DW46,EC46,EI46,EO46,EU46,FA46,FG46) -> 0 | FN46: =SUM(DX46,ED46,EJ46,EP46,EV46,FB46,FH46) -> 0 | FO46: =SUM(DY46,EE46,EK46,EQ46,EW46,FC46,FI46) -> 0 | FP46: =SUM(DZ46,EF46,EL46,ER46,EX46,FD46,FJ46) -> 0 | FQ46: =SUM(FL46:FP46) -> 0 | FW46: =SUM(FR46:FV46) -> 0 | GC46: =SUM(FX46:GB46) -> 0 | GI46: =SUM(GD46:GH46) -> 0 | GO46: =SUM(GJ46:GN46) -> 0 | GU46: =SUM(GP46:GT46) -> 0 | HA46: =SUM(GV46:GZ46) -> 0 | HG46: =SUM(HB46:HF46) -> 0 | HM46: =SUM(HH46:HL46) -> 0 | HN46: =SUM(FR46,FX46,GD46,GJ46,GP46,GV46,HB46,HH46) -> 0 | HO46: =SUM(FS46,FY46,GE46,GK46,GQ46,GW46,HC46,HI46) -> 0 | HP46: =SUM(HJ46,HD46,GX46,GR46,GL46,GF46,FZ46,FT46) -> 0 | HQ46: =SUM(HK46,HE46,GY46,GS46,GM46,GG46,GA46,FU46) -> 0 | HR46: =SUM(HL46,HF46,GZ46,GT46,GN46,GH46,GB46,FV46) -> 0 | HS46: =SUM(HN46:HR46) -> 0 | HY46: =SUM(HT46:HX46) -> 0 | IE46: =SUM(HZ46:ID46) -> 0 | IK46: =SUM(IF46:IJ46) -> 0 | IL46: =SUM(HT46,HZ46,IF46) -> 0 | IM46: =SUM(HU46,IA46,IG46) -> 0 | IN46: =SUM(HV46,IB46,IH46) -> 0 | IO46: =SUM(HW46,IC46,II46) -> 0 | IP46: =SUM(HX46,ID46,IJ46) -> 0 | IQ46: =SUM(IL46:IP46) -> 0 | IW46: =SUM(IR46:IV46) -> 0 | JC46: =SUM(IX46:JB46) -> 0 | JI46: =SUM(JD46:JH46) -> 0 | JJ46: =SUM(IR46,IX46,JD46) -> 0 | JK46: =SUM(IS46,IY46,JE46) -> 0 | JL46: =SUM(IT46,IZ46,JF46) -> 0 | JM46: =SUM(IU46,JA46,JG46) -> 0 | JN46: =SUM(IV46,JB46,JH46) -> 0 | JO46: =SUM(JJ46:JN46) -> 0 | JQ46: =SUM(T46,BF46,CF46,DO46,FL46,HN46,IL46,JJ46) -> 0 | JR46: =SUM(U46,BG46,CG46,DP46,FM46,HO46,IM46,JK46) -> 0 | JS46: =SUM(V46,BH46,CH46,DQ46,FN46,HP46,IN46,JL46) -> 0 | JT46: =SUM(W46,BI46,CI46,DR46,FO46,HQ46,IO46,JM46) -> 0 | JU46: =SUM(X46,BJ46,CJ46,DS46,FP46,HR46,IP46,JN46) -> 0 | JV46: =SUM(DT46,BK46,CK46) -> 0 | JW46: =SUM(JQ46:JV46) -> 0
A47: IEG=Lodgepole Pine Sawfly | G47: =SUM(B47:F47) -> 0 | M47: =SUM(H47:L47) -> 0 | S47: =SUM(N47:R47) -> 0 | T47: =SUM(B47,H47,N47) -> 0 | U47: =SUM(C47,I47,O47) -> 0 | V47: =SUM(D47,J47,P47) -> 0 | W47: =SUM(E47,K47,Q47) -> 0 | X47: =SUM(F47,L47,R47) -> 0 | Y47: =SUM(T47:X47) -> 0 | AE47: =SUM(Z47:AD47) -> 0 | AL47: =SUM(AF47:AK47) -> 0 | AR47: =SUM(AM47:AQ47) -> 0 | AT47: 2665.213 | AU47: 2295.7912 | AV47: 43.535498 | AY47: =SUM(AS47:AX47) -> 5004.5398 | BE47: =SUM(AZ47:BD47) -> 0 | BF47: =SUM(Z47,AF47,AM47,AS47,AZ47) -> 0 | BG47: =SUM(AA47,AG47,AN47,AT47,BA47) -> 2665.213 | BH47: =SUM(AB47,AH47,AO47,AU47,BB47) -> 2295.7912 | BI47: =SUM(AC47,AI47,AP47,AV47,BC47) -> 43.535498 | BJ47: =SUM(AD47,AJ47,AQ47,AW47,BD47) -> 0 | BK47: =SUM(AX47,AK47) -> 0 | BL47: =SUM(BF47:BK47) -> 5004.5398 | BR47: =SUM(BM47:BQ47) -> 0 | BX47: =SUM(BS47:BW47) -> 0 | CE47: =SUM(BY47:CD47) -> 0 | CF47: =SUM(BM47,BS47,BY47) -> 0 | CG47: =SUM(BN47,BT47,BZ47) -> 0 | CH47: =SUM(BO47,BU47,CA47) -> 0 | CI47: =SUM(BP47,BV47,CB47) -> 0 | CJ47: =SUM(BQ47,BW47,CC47) -> 0 | CK47: =SUM(CD47) -> 0 | CL47: =SUM(CF47:CK47) -> 0 | CS47: =SUM(CM47:CR47) -> 0 | CZ47: =SUM(CT47:CY47) -> 0 | DG47: =SUM(DA47:DF47) -> 0 | DN47: =SUM(DH47:DM47) -> 0 | DO47: =SUM(CM47,CT47,DA47,DH47) -> 0 | DP47: =SUM(CN47,CU47,DB47,DI47) -> 0 | DQ47: =SUM(CO47,CV47,DC47,DJ47) -> 0 | DR47: =SUM(CP47,CW47,DD47,DK47) -> 0 | DS47: =SUM(CQ47,CX47,DE47,DL47) -> 0 | DT47: =SUM(CR47,CY47,DF47,DM47) -> 0 | DU47: =SUM(DO47:DT47) -> 0 | EA47: =SUM(DV47:DZ47) -> 0 | EG47: =SUM(EB47:EF47) -> 0 | EM47: =SUM(EH47:EL47) -> 0 | ES47: =SUM(EN47:ER47) -> 0 | EY47: =SUM(ET47:EX47) -> 0 | FE47: =SUM(EZ47:FD47) -> 0 | FK47: =SUM(FF47:FJ47) -> 0 | FL47: =SUM(DV47,EB47,EH47,EN47,ET47,EZ47,FF47) -> 0 | FM47: =SUM(DW47,EC47,EI47,EO47,EU47,FA47,FG47) -> 0 | FN47: =SUM(DX47,ED47,EJ47,EP47,EV47,FB47,FH47) -> 0 | FO47: =SUM(DY47,EE47,EK47,EQ47,EW47,FC47,FI47) -> 0 | FP47: =SUM(DZ47,EF47,EL47,ER47,EX47,FD47,FJ47) -> 0 | FQ47: =SUM(FL47:FP47) -> 0 | FW47: =SUM(FR47:FV47) -> 0 | GC47: =SUM(FX47:GB47) -> 0 | GI47: =SUM(GD47:GH47) -> 0 | GO47: =SUM(GJ47:GN47) -> 0 | GU47: =SUM(GP47:GT47) -> 0 | HA47: =SUM(GV47:GZ47) -> 0 | HG47: =SUM(HB47:HF47) -> 0 | HM47: =SUM(HH47:HL47) -> 0 | HN47: =SUM(FR47,FX47,GD47,GJ47,GP47,GV47,HB47,HH47) -> 0 | HO47: =SUM(FS47,FY47,GE47,GK47,GQ47,GW47,HC47,HI47) -> 0 | HP47: =SUM(HJ47,HD47,GX47,GR47,GL47,GF47,FZ47,FT47) -> 0 | HQ47: =SUM(HK47,HE47,GY47,GS47,GM47,GG47,GA47,FU47) -> 0 | HR47: =SUM(HL47,HF47,GZ47,GT47,GN47,GH47,GB47,FV47) -> 0 | HS47: =SUM(HN47:HR47) -> 0 | HY47: =SUM(HT47:HX47) -> 0 | IE47: =SUM(HZ47:ID47) -> 0 | IK47: =SUM(IF47:IJ47) -> 0 | IL47: =SUM(HT47,HZ47,IF47) -> 0 | IM47: =SUM(HU47,IA47,IG47) -> 0 | IN47: =SUM(HV47,IB47,IH47) -> 0 | IO47: =SUM(HW47,IC47,II47) -> 0 | IP47: =SUM(HX47,ID47,IJ47) -> 0 | IQ47: =SUM(IL47:IP47) -> 0 | IW47: =SUM(IR47:IV47) -> 0 | JC47: =SUM(IX47:JB47) -> 0 | JI47: =SUM(JD47:JH47) -> 0 | JJ47: =SUM(IR47,IX47,JD47) -> 0 | JK47: =SUM(IS47,IY47,JE47) -> 0 | JL47: =SUM(IT47,IZ47,JF47) -> 0 | JM47: =SUM(IU47,JA47,JG47) -> 0 | JN47: =SUM(IV47,JB47,JH47) -> 0 | JO47: =SUM(JJ47:JN47) -> 0 | JQ47: =SUM(T47,BF47,CF47,DO47,FL47,HN47,IL47,JJ47) -> 0 | JR47: =SUM(U47,BG47,CG47,DP47,FM47,HO47,IM47,JK47) -> 2665.213 | JS47: =SUM(V47,BH47,CH47,DQ47,FN47,HP47,IN47,JL47) -> 2295.7912 | JT47: =SUM(W47,BI47,CI47,DR47,FO47,HQ47,IO47,JM47) -> 43.535498 | JU47: =SUM(X47,BJ47,CJ47,DS47,FP47,HR47,IP47,JN47) -> 0 | JV47: =SUM(DT47,BK47,CK47) -> 0 | JW47: =SUM(JQ47:JV47) -> 5004.5398
A48: Total Defoliators= | B48: =SUM(B21:B47) -> 0 | C48: =SUM(C21:C47) -> 0 | D48: =SUM(D21:D47) -> 0 | E48: =SUM(E21:E47) -> 0 | F48: =SUM(F21:F47) -> 0 | G48: =SUM(G21:G47) -> 0 | H48: =SUM(H21:H47) -> 0 | I48: =SUM(I21:I47) -> 85.502394 | ... S48: =SUM(S21:S47) -> 22.866557 | T48: =SUM(B48,H48,N48) -> 22.866557 | U48: =SUM(C48,I48,O48) -> 85.502394 | V48: =SUM(D48,J48,P48) -> 522.87141 | W48: =SUM(E48,K48,Q48) -> 0 | X48: =SUM(F48,L48,R48) -> 0 | Y48: =SUM(Y21:Y46) -> 631.24036 | Z48: =SUM(Z21:Z47) -> 30.380023 | AA48: =SUM(AA21:AA47) -> 0 | AB48: =SUM(AB21:AB47) -> 0 | AC48: =SUM(AC21:AC47) -> 0 | AD48: =SUM(AD21:AD47) -> 0 | AE48: =SUM(AE21:AE47) -> 30.380023 | AF48: =SUM(AF21:AF47) -> 87.91876 | AG48: =SUM(AG21:AG47) -> 0 | ... DN48: =SUM(DN21:DN47) -> 6566.5396 | DO48: =SUM(CM48,CT48,DA48,DH48) -> 0 | DP48: =SUM(CN48,CU48,DB48,DI48) -> 20598.999 | DQ48: =SUM(CO48,CV48,DC48,DJ48) -> 26626.411 | DR48: =SUM(CP48,CW48,DD48,DK48) -> 1137.3588 | DS48: =SUM(CQ48,CX48,DE48,DL48) -> 0 | DT48: =SUM(CR48,CY48,DF48,DM48) -> 0 | DU48: =SUM(DU21:DU46) -> 48362.769 | DV48: =SUM(DV21:DV47) -> 0 | DW48: =SUM(DW21:DW47) -> 4768.5399 | DX48: =SUM(DX21:DX47) -> 337.4879 | DY48: =SUM(DY21:DY47) -> 0 | DZ48: =SUM(DZ21:DZ47) -> 0 | EA48: =SUM(EA21:EA47) -> 5106.0278 | EB48: =SUM(EB21:EB47) -> 0 | EC48: =SUM(EC21:EC47) -> 1462.6098 | ... FK48: =SUM(FK21:FK47) -> 1432.149 | FL48: =SUM(DV48,EB48,EH48,EN48,ET48,EZ48,FF48) -> 0 | FM48: =SUM(DW48,EC48,EI48,EO48,EU48,FA48,FG48) -> 12203.99 | FN48: =SUM(DX48,ED48,EJ48,EP48,EV48,FB48,FH48) -> 3302.1719 | FO48: =SUM(DY48,EE48,EK48,EQ48,EW48,FC48,FI48) -> 174.29713 | FP48: =SUM(DZ48,EF48,EL48,ER48,EX48,FD48,FJ48) -> 0 | FQ48: =SUM(FQ21:FQ46) -> 15680.459 | FR48: =SUM(FR21:FR47) -> 0 | FS48: =SUM(FS21:FS47) -> 15410.272 | FT48: =SUM(FT21:FT47) -> 20175.564 | FU48: =SUM(FU21:FU47) -> 5619.776 | FV48: =SUM(FV21:FV47) -> 0 | FW48: =SUM(FW21:FW47) -> 41205.613 | FX48: =SUM(FX21:FX47) -> 0 | FY48: =SUM(FY21:FY47) -> 0 | ... HM48: =SUM(HM21:HM47) -> 141.452 | HN48: =SUM(FR48,FX48,GD48,GJ48,GP48,GV48,HB48,HH48) -> 0 | HO48: =SUM(FS48,FY48,GE48,GK48,GQ48,GW48,HC48,HI48) -> 148824.65 | HP48: =SUM(HJ48,HD48,GX48,GR48,GL48,GF48,FZ48,FT48) -> 148317.88 | HQ48: =SUM(HK48,HE48,GY48,GS48,GM48,GG48,GA48,FU48) -> 50120.902 | HR48: =SUM(HL48,HF48,GZ48,GT48,GN48,GH48,GB48,FV48) -> 0 | HS48: =SUM(HS21:HS46) -> 347263.43 | HT48: =SUM(HT21:HT47) -> 0 | HU48: =SUM(HU21:HU47) -> 15062.08 | HV48: =SUM(HV21:HV47) -> 73767.699 | HW48: =SUM(HW21:HW47) -> 4336.519 | HX48: =SUM(HX21:HX47) -> 0 | HY48: =SUM(HY21:HY47) -> 93166.297 | HZ48: =SUM(HZ21:HZ47) -> 0 | IA48: =SUM(IA21:IA47) -> 11724.442 | ... IK48: =SUM(IK21:IK47) -> 751625.41 | IL48: =SUM(HT48,HZ48,IF48) -> 0 | IM48: =SUM(HU48,IA48,IG48) -> 162573.91 | IN48: =SUM(HV48,IB48,IH48) -> 489584.28 | IO48: =SUM(HW48,IC48,II48) -> 210967.93 | IP48: =SUM(HX48,ID48,IJ48) -> 0 | IQ48: =SUM(IL48:IP48) -> 863126.11 | IR48: =SUM(IR21:IR47) -> 0 | IS48: =SUM(IS21:IS47) -> 4924.3942 | IT48: =SUM(IT21:IT47) -> 35582.204 | IU48: =SUM(IU21:IU47) -> 360.32218 | IV48: =SUM(IV21:IV47) -> 0 | IW48: =SUM(IW21:IW47) -> 40866.92 | IX48: =SUM(IX21:IX47) -> 0 | IY48: =SUM(IY21:IY47) -> 2897.572 | ... JI48: =SUM(JI21:JI47) -> 0 | JJ48: =SUM(IR48,IX48,JD48) -> 0 | JK48: =SUM(IS48,IY48,JE48) -> 7821.9662 | JL48: =SUM(IT48,IZ48,JF48) -> 37526.739 | JM48: =SUM(IU48,JA48,JG48) -> 360.32218 | JN48: =SUM(IV48,JB48,JH48) -> 0 | JO48: =SUM(JJ48:JN48) -> 45709.027 | JQ48: =SUM(JQ21:JQ47) -> 230.06097 | JR48: =SUM(JR21:JR47) -> 598524.79 | JS48: =SUM(JS21:JS47) -> 777272.19 | JT48: =SUM(JT21:JT47) -> 268007.09 | JU48: =SUM(JU21:JU47) -> 0 | JV48: =SUM(JV21:JV47) -> 17.102685 | JW48: =SUM(JW21:JW47) -> 1644051.2
A50: Other
A51: N | G51: =SUM(B51:F51) -> 0 | M51: =SUM(H51:L51) -> 0 | S51: =SUM(N51:R51) -> 0 | T51: =SUM(B51,H51,N51) -> 0 | U51: =SUM(C51,I51,O51) -> 0 | V51: =SUM(D51,J51,P51) -> 0 | W51: =SUM(E51,K51,Q51) -> 0 | X51: =SUM(F51,L51,R51) -> 0 | Y51: =SUM(T51:X51) -> 0 | AE51: =SUM(Z51:AD51) -> 0 | AL51: =SUM(AF51:AK51) -> 0 | AR51: =SUM(AM51:AQ51) -> 0 | AY51: =SUM(AS51:AX51) -> 0 | BE51: =SUM(AZ51:BD51) -> 0 | BF51: =SUM(Z51,AF51,AM51,AS51,AZ51) -> 0 | BG51: =SUM(AA51,AG51,AN51,AT51,BA51) -> 0 | BH51: =SUM(AB51,AH51,AO51,AU51,BB51) -> 0 | BI51: =SUM(AC51,AI51,AP51,AV51,BC51) -> 0 | BJ51: =SUM(AD51,AJ51,AQ51,AW51,BD51) -> 0 | BK51: =SUM(AX51) -> 0 | BL51: =SUM(BF51:BK51) -> 0 | BP51: 70.755317 | BR51: =SUM(BN51:BQ51) -> 70.755317 | BX51: =SUM(BS51:BW51) -> 0 | CE51: =SUM(BY51:CD51) -> 0 | CF51: =SUM(BM51,BS51,BY51) -> 0 | CG51: =SUM(BN51,BT51,BZ51) -> 0 | CH51: =SUM(BO51,BU51,CA51) -> 0 | CI51: =SUM(BP51,BV51,CB51) -> 70.755317 | CJ51: =SUM(BQ51,BW51,CC51) -> 0 | CK51: =SUM(CD51) -> 0 | CL51: =SUM(CF51:CK51) -> 70.755317 | CS51: =SUM(CM51:CR51) -> 0 | CZ51: =SUM(CT51:CY51) -> 0 | DG51: =SUM(DA51:DF51) -> 0 | DN51: =SUM(DH51:DM51) -> 0 | DO51: =SUM(CM51,CT51,DA51,DH51) -> 0 | DP51: =SUM(CN51,CU51,DB51,DI51) -> 0 | DQ51: =SUM(CO51,CV51,DC51,DJ51) -> 0 | DR51: =SUM(CP51,CW51,DD51,DK51) -> 0 | DS51: =SUM(CQ51,CX51,DE51,DL51) -> 0 | DT51: =SUM(CR51,CY51,DF51,DM51) -> 0 | DU51: =SUM(DO51:DT51) -> 0 | EA51: =SUM(DV51:DZ51) -> 0 | EG51: =SUM(EB51:EF51) -> 0 | EM51: =SUM(EH51:EL51) -> 0 | ES51: =SUM(EN51:ER51) -> 0 | EY51: =SUM(ET51:EX51) -> 0 | FE51: =SUM(EZ51:FD51) -> 0 | FK51: =SUM(FF51:FJ51) -> 0 | FL51: =SUM(DV51,EB51,EH51,EN51,ET51,EZ51,FF51) -> 0 | FM51: =SUM(DW51,EC51,EI51,EO51,EU51,FA51,FG51) -> 0 | FN51: =SUM(DX51,ED51,EJ51,EP51,EV51,FB51,FH51) -> 0 | FO51: =SUM(DY51,EE51,EK51,EQ51,EW51,FC51,FI51) -> 0 | FP51: =SUM(DZ51,EF51,EL51,ER51,EX51,FD51,FJ51) -> 0 | FQ51: =SUM(FL51:FP51) -> 0 | FW51: =SUM(FR51:FV51) -> 0 | GC51: =SUM(FX51:GB51) -> 0 | GI51: =SUM(GD51:GH51) -> 0 | GO51: =SUM(GJ51:GN51) -> 0 | GU51: =SUM(GP51:GT51) -> 0 | HA51: =SUM(GV51:GZ51) -> 0 | HG51: =SUM(HB51:HF51) -> 0 | HM51: =SUM(HH51:HL51) -> 0 | HN51: =SUM(FR51,FX51,GD51,GJ51,GP51,GV51,HB51,HH51) -> 0 | HO51: =SUM(FS51,FY51,GE51,GK51,GQ51,GW51,HC51,HI51) -> 0 | HP51: =SUM(HJ51,HD51,GX51,GR51,GL51,GF51,FZ51,FT51) -> 0 | HQ51: =SUM(HK51,HE51,GY51,GS51,GM51,GG51,GA51,FU51) -> 0 | HR51: =SUM(HL51,HF51,GZ51,GT51,GN51,GH51,GB51,FV51) -> 0 | HS51: =SUM(HN51:HR51) -> 0 | HY51: =SUM(HT51:HX51) -> 0 | IE51: =SUM(HZ51:ID51) -> 0 | IK51: =SUM(IF51:IJ51) -> 0 | IL51: =SUM(HT51,HZ51,IF51) -> 0 | IM51: =SUM(HU51,IA51,IG51) -> 0 | IN51: =SUM(HV51,IB51,IH51) -> 0 | IO51: =SUM(HW51,IC51,II51) -> 0 | IP51: =SUM(HX51,ID51,IJ51) -> 0 | IQ51: =SUM(IL51:IP51) -> 0 | IW51: =SUM(IR51:IV51) -> 0 | JC51: =SUM(IX51:JB51) -> 0 | JI51: =SUM(JD51:JH51) -> 0 | JJ51: =SUM(IR51,IX51,JD51) -> 0 | JK51: =SUM(IS51,IY51,JE51) -> 0 | JL51: =SUM(IT51,IZ51,JF51) -> 0 | JM51: =SUM(IU51,JA51,JG51) -> 0 | JN51: =SUM(IV51,JB51,JH51) -> 0 | JO51: =SUM(JJ51:JN51) -> 0 | JQ51: =SUM(T51,BF51,CF51,DO51,FL51,HN51,IL51,JJ51) -> 0 | JR51: =SUM(U51,BG51,CG51,DP51,FM51,HO51,IM51,JK51) -> 0 | JS51: =SUM(V51,BH51,CH51,DQ51,FN51,HP51,IN51,JL51) -> 0 | JT51: =SUM(W51,BI51,CI51,DR51,FO51,HQ51,IO51,JM51) -> 70.755317 | JU51: =SUM(X51,BJ51,CJ51,DS51,FP51,HR51,IP51,JN51) -> 0 | JV51: =SUM(DT51,BK51,CK51) -> 0 | JW51: =SUM(JQ51:JV51) -> 70.755317
A52: NAV=Avalanche or snow slide | G52: =SUM(B52:F52) -> 0 | M52: =SUM(H52:L52) -> 0 | S52: =SUM(N52:R52) -> 0 | T52: =SUM(B52,H52,N52) -> 0 | U52: =SUM(C52,I52,O52) -> 0 | V52: =SUM(D52,J52,P52) -> 0 | W52: =SUM(E52,K52,Q52) -> 0 | X52: =SUM(F52,L52,R52) -> 0 | Y52: =SUM(T52:X52) -> 0 | AE52: =SUM(Z52:AD52) -> 0 | AI52: 10.04236 | AL52: =SUM(AF52:AK52) -> 10.04236 | AO52: 2.7036659 | AP52: 37.302053 | AR52: =SUM(AM52:AQ52) -> 40.005719 | AY52: =SUM(AS52:AX52) -> 0 | BE52: =SUM(AZ52:BD52) -> 0 | BF52: =SUM(Z52,AF52,AM52,AS52,AZ52) -> 0 | BG52: =SUM(AA52,AG52,AN52,AT52,BA52) -> 0 | BH52: =SUM(AB52,AH52,AO52,AU52,BB52) -> 2.7036659 | BI52: =SUM(AC52,AI52,AP52,AV52,BC52) -> 47.344413 | BJ52: =SUM(AD52,AJ52,AQ52,AW52,BD52) -> 0 | BK52: =SUM(AX52) -> 0 | BL52: =SUM(BF52:BK52) -> 50.048079 | BR52: =SUM(BM52:BQ52) -> 0 | BX52: =SUM(BS52:BW52) -> 0 | CE52: =SUM(BY52:CD52) -> 0 | CF52: =SUM(BM52,BS52,BY52) -> 0 | CG52: =SUM(BN52,BT52,BZ52) -> 0 | CH52: =SUM(BO52,BU52,CA52) -> 0 | CI52: =SUM(BP52,BV52,CB52) -> 0 | CJ52: =SUM(BQ52,BW52,CC52) -> 0 | CK52: =SUM(CD52) -> 0 | CL52: =SUM(CF52:CK52) -> 0 | CS52: =SUM(CM52:CR52) -> 0 | CZ52: =SUM(CT52:CY52) -> 0 | DE52: 7.6197877 | DG52: =SUM(DA52:DF52) -> 7.6197877 | DN52: =SUM(DH52:DM52) -> 0 | DO52: =SUM(CM52,CT52,DA52,DH52) -> 0 | DP52: =SUM(CN52,CU52,DB52,DI52) -> 0 | DQ52: =SUM(CO52,CV52,DC52,DJ52) -> 0 | DR52: =SUM(CP52,CW52,DD52,DK52) -> 0 | DS52: =SUM(CQ52,CX52,DE52,DL52) -> 7.6197877 | DT52: =SUM(CR52,CY52,DF52,DM52) -> 0 | DU52: =SUM(DO52:DT52) -> 7.6197877 | EA52: =SUM(DV52:DZ52) -> 0 | EG52: =SUM(EB52:EF52) -> 0 | EM52: =SUM(EH52:EL52) -> 0 | ES52: =SUM(EN52:ER52) -> 0 | EY52: =SUM(ET52:EX52) -> 0 | FE52: =SUM(EZ52:FD52) -> 0 | FK52: =SUM(FF52:FJ52) -> 0 | FL52: =SUM(DV52,EB52,EH52,EN52,ET52,EZ52,FF52) -> 0 | FM52: =SUM(DW52,EC52,EI52,EO52,EU52,FA52,FG52) -> 0 | FN52: =SUM(DX52,ED52,EJ52,EP52,EV52,FB52,FH52) -> 0 | FO52: =SUM(DY52,EE52,EK52,EQ52,EW52,FC52,FI52) -> 0 | FP52: =SUM(DZ52,EF52,EL52,ER52,EX52,FD52,FJ52) -> 0 | FQ52: =SUM(FL52:FP52) -> 0 | FW52: =SUM(FR52:FV52) -> 0 | GC52: =SUM(FX52:GB52) -> 0 | GF52: 8.9049376 | GG52: 2.0700578 | GI52: =SUM(GD52:GH52) -> 10.974995 | GO52: =SUM(GJ52:GN52) -> 0 | GU52: =SUM(GP52:GT52) -> 0 | HA52: =SUM(GV52:GZ52) -> 0 | HG52: =SUM(HB52:HF52) -> 0 | HM52: =SUM(HH52:HL52) -> 0 | HN52: =SUM(FR52,FX52,GD52,GJ52,GP52,GV52,HB52,HH52) -> 0 | HO52: =SUM(FS52,FY52,GE52,GK52,GQ52,GW52,HC52,HI52) -> 0 | HP52: =SUM(HJ52,HD52,GX52,GR52,GL52,GF52,FZ52,FT52) -> 8.9049376 | HQ52: =SUM(HK52,HE52,GY52,GS52,GM52,GG52,GA52,FU52) -> 2.0700578 | HR52: =SUM(HL52,HF52,GZ52,GT52,GN52,GH52,GB52,FV52) -> 0 | HS52: =SUM(HN52:HR52) -> 10.974995 | HY52: =SUM(HT52:HX52) -> 0 | IE52: =SUM(HZ52:ID52) -> 0 | IK52: =SUM(IF52:IJ52) -> 0 | IL52: =SUM(HT52,HZ52,IF52) -> 0 | IM52: =SUM(HU52,IA52,IG52) -> 0 | IN52: =SUM(HV52,IB52,IH52) -> 0 | IO52: =SUM(HW52,IC52,II52) -> 0 | IP52: =SUM(HX52,ID52,IJ52) -> 0 | IQ52: =SUM(IL52:IP52) -> 0 | IW52: =SUM(IR52:IV52) -> 0 | JC52: =SUM(IX52:JB52) -> 0 | JI52: =SUM(JD52:JH52) -> 0 | JJ52: =SUM(IR52,IX52,JD52) -> 0 | JK52: =SUM(IS52,IY52,JE52) -> 0 | JL52: =SUM(IT52,IZ52,JF52) -> 0 | JM52: =SUM(IU52,JA52,JG52) -> 0 | JN52: =SUM(IV52,JB52,JH52) -> 0 | JO52: =SUM(JJ52:JN52) -> 0 | JQ52: =SUM(T52,BF52,CF52,DO52,FL52,HN52,IL52,JJ52) -> 0 | JR52: =SUM(U52,BG52,CG52,DP52,FM52,HO52,IM52,JK52) -> 0 | JS52: =SUM(V52,BH52,CH52,DQ52,FN52,HP52,IN52,JL52) -> 11.608604 | JT52: =SUM(W52,BI52,CI52,DR52,FO52,HQ52,IO52,JM52) -> 49.414471 | JU52: =SUM(X52,BJ52,CJ52,DS52,FP52,HR52,IP52,JN52) -> 7.6197877 | JV52: =SUM(DT52,BK52,CK52) -> 0 | JW52: =SUM(JQ52:JV52) -> 68.642862
A53: NB=Fire | E53: 4319.6179 | G53: =SUM(B53:F53) -> 4319.6179 | K53: 19187.367 | M53: =SUM(H53:L53) -> 19187.367 | Q53: 468.77024 | S53: =SUM(N53:R53) -> 468.77024 | T53: =SUM(B53,H53,N53) -> 0 | U53: =SUM(C53,I53,O53) -> 0 | V53: =SUM(D53,J53,P53) -> 0 | W53: =SUM(E53,K53,Q53) -> 23975.755 | X53: =SUM(F53,L53,R53) -> 0 | Y53: =SUM(T53:X53) -> 23975.755 | AC53: 914.9779 | AE53: =SUM(Z53:AD53) -> 914.9779 | AI53: 18.831643 | AL53: =SUM(AF53:AK53) -> 18.831643 | AR53: =SUM(AM53:AQ53) -> 0 | AY53: =SUM(AS53:AX53) -> 0 | BC53: 6.4923639 | BE53: =SUM(AZ53:BD53) -> 6.4923639 | BF53: =SUM(Z53,AF53,AM53,AS53,AZ53) -> 0 | BG53: =SUM(AA53,AG53,AN53,AT53,BA53) -> 0 | BH53: =SUM(AB53,AH53,AO53,AU53,BB53) -> 0 | BI53: =SUM(AC53,AI53,AP53,AV53,BC53) -> 940.30191 | BJ53: =SUM(AD53,AJ53,AQ53,AW53,BD53) -> 0 | BK53: =SUM(AX53) -> 0 | BL53: =SUM(BF53:BK53) -> 940.30191 | BP53: 25.723876 | BR53: =SUM(BM53:BQ53) -> 25.723876 | BV53: 169.49616 | BX53: =SUM(BS53:BW53) -> 169.49616 | BZ53: 174.55478 | CA53: 12.570592 | CB53: 9705.0712 | CE53: =SUM(BY53:CD53) -> 9892.1965 | CF53: =SUM(BM53,BS53,BY53) -> 0 | CG53: =SUM(BN53,BT53,BZ53) -> 174.55478 | CH53: =SUM(BO53,BU53,CA53) -> 12.570592 | CI53: =SUM(BP53,BV53,CB53) -> 9900.2912 | CJ53: =SUM(BQ53,BW53,CC53) -> 0 | CK53: =SUM(CD53) -> 0 | CL53: =SUM(CF53:CK53) -> 10087.417 | CP53: 630.43049 | CS53: =SUM(CM53:CR53) -> 630.43049 | CW53: 2330.2822 | CZ53: =SUM(CT53:CY53) -> 2330.2822 | DD53: 506.08932 | DG53: =SUM(DA53:DF53) -> 506.08932 | DK53: 7480.7361 | DN53: =SUM(DH53:DM53) -> 7480.7361 | DO53: =SUM(CM53,CT53,DA53,DH53) -> 0 | DP53: =SUM(CN53,CU53,DB53,DI53) -> 0 | DQ53: =SUM(CO53,CV53,DC53,DJ53) -> 0 | DR53: =SUM(CP53,CW53,DD53,DK53) -> 10947.538 | DS53: =SUM(CQ53,CX53,DE53,DL53) -> 0 | DT53: =SUM(CR53,CY53,DF53,DM53) -> 0 | DU53: =SUM(DO53:DT53) -> 10947.538 | DY53: 1831.6115 | EA53: =SUM(DV53:DZ53) -> 1831.6115 | EE53: 7655.2005 | EG53: =SUM(EB53:EF53) -> 7655.2005 | EK53: 2136.1824 | EM53: =SUM(EH53:EL53) -> 2136.1824 | EQ53: 180.00821 | ES53: =SUM(EN53:ER53) -> 180.00821 | EW53: 220.01547 | EY53: =SUM(ET53:EX53) -> 220.01547 | FC53: 2221.562 | FE53: =SUM(EZ53:FD53) -> 2221.562 | FI53: 3.8946889 | FK53: =SUM(FF53:FJ53) -> 3.8946889 | FL53: =SUM(DV53,EB53,EH53,EN53,ET53,EZ53,FF53) -> 0 | FM53: =SUM(DW53,EC53,EI53,EO53,EU53,FA53,FG53) -> 0 | FN53: =SUM(DX53,ED53,EJ53,EP53,EV53,FB53,FH53) -> 0 | FO53: =SUM(DY53,EE53,EK53,EQ53,EW53,FC53,FI53) -> 14248.475 | FP53: =SUM(DZ53,EF53,EL53,ER53,EX53,FD53,FJ53) -> 0 | FQ53: =SUM(FL53:FP53) -> 14248.475 | FU53: 13.395373 | FW53: =SUM(FR53:FV53) -> 13.395373 | GA53: 19398.055 | GC53: =SUM(FX53:GB53) -> 19398.055 | GG53: 1178.5336 | GI53: =SUM(GD53:GH53) -> 1178.5336 | GM53: 4.0205112 | GO53: =SUM(GJ53:GN53) -> 4.0205112 | GS53: 442.67837 | GU53: =SUM(GP53:GT53) -> 442.67837 | GX53: 74.483062 | GY53: 1.8669952 | HA53: =SUM(GV53:GZ53) -> 76.350057 | HE53: 9.1121296 | HG53: =SUM(HB53:HF53) -> 9.1121296 | HK53: 146.00887 | HM53: =SUM(HH53:HL53) -> 146.00887 | HN53: =SUM(FR53,FX53,GD53,GJ53,GP53,GV53,HB53,HH53) -> 0 | HO53: =SUM(FS53,FY53,GE53,GK53,GQ53,GW53,HC53,HI53) -> 0 | HP53: =SUM(HJ53,HD53,GX53,GR53,GL53,GF53,FZ53,FT53) -> 74.483062 | HQ53: =SUM(HK53,HE53,GY53,GS53,GM53,GG53,GA53,FU53) -> 21193.671 | HR53: =SUM(HL53,HF53,GZ53,GT53,GN53,GH53,GB53,FV53) -> 0 | HS53: =SUM(HN53:HR53) -> 21268.154 | HW53: 11591.677 | HY53: =SUM(HT53:HX53) -> 11591.677 | IC53: 32.04287 | IE53: =SUM(HZ53:ID53) -> 32.04287 | II53: 26551.961 | IK53: =SUM(IF53:IJ53) -> 26551.961 | IL53: =SUM(HT53,HZ53,IF53) -> 0 | IM53: =SUM(HU53,IA53,IG53) -> 0 | IN53: =SUM(HV53,IB53,IH53) -> 0 | IO53: =SUM(HW53,IC53,II53) -> 38175.681 | IP53: =SUM(HX53,ID53,IJ53) -> 0 | IQ53: =SUM(IL53:IP53) -> 38175.681 | IU53: 82.962423 | IW53: =SUM(IR53:IV53) -> 82.962423 | JA53: 130593.15 | JC53: =SUM(IX53:JB53) -> 130593.15 | JG53: 15468.982 | JI53: =SUM(JD53:JH53) -> 15468.982 | JJ53: =SUM(IR53,IX53,JD53) -> 0 | JK53: =SUM(IS53,IY53,JE53) -> 0 | JL53: =SUM(IT53,IZ53,JF53) -> 0 | JM53: =SUM(IU53,JA53,JG53) -> 146145.09 | JN53: =SUM(IV53,JB53,JH53) -> 0 | JO53: =SUM(JJ53:JN53) -> 146145.09 | JQ53: =SUM(T53,BF53,CF53,DO53,FL53,HN53,IL53,JJ53) -> 0 | JR53: =SUM(U53,BG53,CG53,DP53,FM53,HO53,IM53,JK53) -> 174.55478 | JS53: =SUM(V53,BH53,CH53,DQ53,FN53,HP53,IN53,JL53) -> 87.053654 | JT53: =SUM(W53,BI53,CI53,DR53,FO53,HQ53,IO53,JM53) -> 265526.81 | JU53: =SUM(X53,BJ53,CJ53,DS53,FP53,HR53,IP53,JN53) -> 0 | JV53: =SUM(DT53,BK53,CK53) -> 0 | JW53: =SUM(JQ53:JV53) -> 265788.41
A54: NBP=Post Fire | G54: =SUM(B54:F54) -> 0 | M54: =SUM(H54:L54) -> 0 | S54: =SUM(N54:R54) -> 0 | T54: =SUM(B54,H54,N54) -> 0 | U54: =SUM(C54,I54,O54) -> 0 | V54: =SUM(D54,J54,P54) -> 0 | W54: =SUM(E54,K54,Q54) -> 0 | X54: =SUM(F54,L54,R54) -> 0 | Y54: =SUM(T54:X54) -> 0 | AE54: =SUM(Z54:AD54) -> 0 | AL54: =SUM(AF54:AK54) -> 0 | AN54: 126.03063 | AR54: =SUM(AM54:AQ54) -> 126.03063 | AY54: =SUM(AS54:AX54) -> 0 | BE54: =SUM(AZ54:BD54) -> 0 | BF54: =SUM(Z54,AF54,AM54,AS54,AZ54) -> 0 | BG54: =SUM(AA54,AG54,AN54,AT54,BA54) -> 126.03063 | BH54: =SUM(AB54,AH54,AO54,AU54,BB54) -> 0 | BI54: =SUM(AC54,AI54,AP54,AV54,BC54) -> 0 | BJ54: =SUM(AD54,AJ54,AQ54,AW54,BD54) -> 0 | BK54: =SUM(AX54) -> 0 | BL54: =SUM(BF54:BK54) -> 126.03063 | BR54: =SUM(BM54:BQ54) -> 0 | BT54: 99.044557 | BU54: 121.43976 | BV54: 176.07417 | BX54: =SUM(BS54:BW54) -> 396.55849 | BZ54: 68.402303 | CA54: 47.58381 | CE54: =SUM(BY54:CD54) -> 115.98611 | CF54: =SUM(BM54,BS54,BY54) -> 0 | CG54: =SUM(BN54,BT54,BZ54) -> 167.44686 | CH54: =SUM(BO54,BU54,CA54) -> 169.02357 | CI54: =SUM(BP54,BV54,CB54) -> 176.07417 | CJ54: =SUM(BQ54,BW54,CC54) -> 0 | CK54: =SUM(CD54) -> 0 | CL54: =SUM(CF54:CK54) -> 512.5446 | CS54: =SUM(CM54:CR54) -> 0 | CV54: 55.160407 | CZ54: =SUM(CT54:CY54) -> 55.160407 | DG54: =SUM(DA54:DF54) -> 0 | DI54: 15.845746 | DN54: =SUM(DH54:DM54) -> 15.845746 | DO54: =SUM(CM54,CT54,DA54,DH54) -> 0 | DP54: =SUM(CN54,CU54,DB54,DI54) -> 15.845746 | DQ54: =SUM(CO54,CV54,DC54,DJ54) -> 55.160407 | DR54: =SUM(CP54,CW54,DD54,DK54) -> 0 | DS54: =SUM(CQ54,CX54,DE54,DL54) -> 0 | DT54: =SUM(CR54,CY54,DF54,DM54) -> 0 | DU54: =SUM(DO54:DT54) -> 71.006153 | EA54: =SUM(DV54:DZ54) -> 0 | EG54: =SUM(EB54:EF54) -> 0 | EM54: =SUM(EH54:EL54) -> 0 | ES54: =SUM(EN54:ER54) -> 0 | EY54: =SUM(ET54:EX54) -> 0 | FE54: =SUM(EZ54:FD54) -> 0 | FK54: =SUM(FF54:FJ54) -> 0 | FL54: =SUM(DV54,EB54,EH54,EN54,ET54,EZ54,FF54) -> 0 | FM54: =SUM(DW54,EC54,EI54,EO54,EU54,FA54,FG54) -> 0 | FN54: =SUM(DX54,ED54,EJ54,EP54,EV54,FB54,FH54) -> 0 | FO54: =SUM(DY54,EE54,EK54,EQ54,EW54,FC54,FI54) -> 0 | FP54: =SUM(DZ54,EF54,EL54,ER54,EX54,FD54,FJ54) -> 0 | FQ54: =SUM(FL54:FP54) -> 0 | FW54: =SUM(FR54:FV54) -> 0 | GC54: =SUM(FX54:GB54) -> 0 | GI54: =SUM(GD54:GH54) -> 0 | GO54: =SUM(GJ54:GN54) -> 0 | GP54: 1306.1876 | GQ54: 63255.54 | GR54: 26221.232 | GS54: 1130.602 | GU54: =SUM(GP54:GT54) -> 91913.561 | HA54: =SUM(GV54:GZ54) -> 0 | HG54: =SUM(HB54:HF54) -> 0 | HM54: =SUM(HH54:HL54) -> 0 | HN54: =SUM(FR54,FX54,GD54,GJ54,GP54,GV54,HB54,HH54) -> 1306.1876 | HO54: =SUM(FS54,FY54,GE54,GK54,GQ54,GW54,HC54,HI54) -> 63255.54 | HP54: =SUM(HJ54,HD54,GX54,GR54,GL54,GF54,FZ54,FT54) -> 26221.232 | HQ54: =SUM(HK54,HE54,GY54,GS54,GM54,GG54,GA54,FU54) -> 1130.602 | HR54: =SUM(HL54,HF54,GZ54,GT54,GN54,GH54,GB54,FV54) -> 0 | HS54: =SUM(HN54:HR54) -> 91913.561 | HY54: =SUM(HT54:HX54) -> 0 | IE54: =SUM(HZ54:ID54) -> 0 | IF54: 978.37726 | IG54: 43148.835 | IH54: 9751.492 | II54: 1135.8573 | IK54: =SUM(IF54:IJ54) -> 55014.562 | IL54: =SUM(HT54,HZ54,IF54) -> 978.37726 | IM54: =SUM(HU54,IA54,IG54) -> 43148.835 | IN54: =SUM(HV54,IB54,IH54) -> 9751.492 | IO54: =SUM(HW54,IC54,II54) -> 1135.8573 | IP54: =SUM(HX54,ID54,IJ54) -> 0 | IQ54: =SUM(IL54:IP54) -> 55014.562 | IW54: =SUM(IR54:IV54) -> 0 | JC54: =SUM(IX54:JB54) -> 0 | JI54: =SUM(JD54:JH54) -> 0 | JJ54: =SUM(IR54,IX54,JD54) -> 0 | JK54: =SUM(IS54,IY54,JE54) -> 0 | JL54: =SUM(IT54,IZ54,JF54) -> 0 | JM54: =SUM(IU54,JA54,JG54) -> 0 | JN54: =SUM(IV54,JB54,JH54) -> 0 | JO54: =SUM(JJ54:JN54) -> 0 | JQ54: =SUM(T54,BF54,CF54,DO54,FL54,HN54,IL54,JJ54) -> 2284.5649 | JR54: =SUM(U54,BG54,CG54,DP54,FM54,HO54,IM54,JK54) -> 106713.7 | JS54: =SUM(V54,BH54,CH54,DQ54,FN54,HP54,IN54,JL54) -> 36196.908 | JT54: =SUM(W54,BI54,CI54,DR54,FO54,HQ54,IO54,JM54) -> 2442.5335 | JU54: =SUM(X54,BJ54,CJ54,DS54,FP54,HR54,IP54,JN54) -> 0 | JV54: =SUM(DT54,BK54,CK54) -> 0 | JW54: =SUM(JQ54:JV54) -> 147637.7
A55: NCA=Aspen decline | G55: =SUM(B55:F55) -> 0 | M55: =SUM(H55:L55) -> 0 | S55: =SUM(N55:R55) -> 0 | T55: =SUM(B55,H55,N55) -> 0 | U55: =SUM(C55,I55,O55) -> 0 | V55: =SUM(D55,J55,P55) -> 0 | W55: =SUM(E55,K55,Q55) -> 0 | X55: =SUM(F55,L55,R55) -> 0 | Y55: =SUM(T55:X55) -> 0 | AE55: =SUM(Z55:AD55) -> 0 | AL55: =SUM(AF55:AK55) -> 0 | AR55: =SUM(AM55:AQ55) -> 0 | AY55: =SUM(AS55:AX55) -> 0 | BE55: =SUM(AZ55:BD55) -> 0 | BF55: =SUM(Z55,AF55,AM55,AS55,AZ55) -> 0 | BG55: =SUM(AA55,AG55,AN55,AT55,BA55) -> 0 | BH55: =SUM(AB55,AH55,AO55,AU55,BB55) -> 0 | BI55: =SUM(AC55,AI55,AP55,AV55,BC55) -> 0 | BJ55: =SUM(AD55,AJ55,AQ55,AW55,BD55) -> 0 | BK55: =SUM(AX55) -> 0 | BL55: =SUM(BF55:BK55) -> 0 | BO55: 5.4270194 | BR55: =SUM(BM55:BQ55) -> 5.4270194 | BX55: =SUM(BS55:BW55) -> 0 | CE55: =SUM(BY55:CD55) -> 0 | CF55: =SUM(BM55,BS55,BY55) -> 0 | CG55: =SUM(BN55,BT55,BZ55) -> 0 | CH55: =SUM(BO55,BU55,CA55) -> 5.4270194 | CI55: =SUM(BP55,BV55,CB55) -> 0 | CJ55: =SUM(BQ55,BW55,CC55) -> 0 | CK55: =SUM(CD55) -> 0 | CL55: =SUM(CF55:CK55) -> 5.4270194 | CS55: =SUM(CM55:CR55) -> 0 | CZ55: =SUM(CT55:CY55) -> 0 | DC55: 90.123683 | DD55: 32.284483 | DG55: =SUM(DA55:DF55) -> 122.40817 | DN55: =SUM(DH55:DM55) -> 0 | DO55: =SUM(CM55,CT55,DA55,DH55) -> 0 | DP55: =SUM(CN55,CU55,DB55,DI55) -> 0 | DQ55: =SUM(CO55,CV55,DC55,DJ55) -> 90.123683 | DR55: =SUM(CP55,CW55,DD55,DK55) -> 32.284483 | DS55: =SUM(CQ55,CX55,DE55,DL55) -> 0 | DT55: =SUM(CR55,CY55,DF55,DM55) -> 0 | DU55: =SUM(DO55:DT55) -> 122.40817 | EA55: =SUM(DV55:DZ55) -> 0 | EG55: =SUM(EB55:EF55) -> 0 | EM55: =SUM(EH55:EL55) -> 0 | ES55: =SUM(EN55:ER55) -> 0 | EY55: =SUM(ET55:EX55) -> 0 | FE55: =SUM(EZ55:FD55) -> 0 | FK55: =SUM(FF55:FJ55) -> 0 | FL55: =SUM(DV55,EB55,EH55,EN55,ET55,EZ55,FF55) -> 0 | FM55: =SUM(DW55,EC55,EI55,EO55,EU55,FA55,FG55) -> 0 | FN55: =SUM(DX55,ED55,EJ55,EP55,EV55,FB55,FH55) -> 0 | FO55: =SUM(DY55,EE55,EK55,EQ55,EW55,FC55,FI55) -> 0 | FP55: =SUM(DZ55,EF55,EL55,ER55,EX55,FD55,FJ55) -> 0 | FQ55: =SUM(FL55:FP55) -> 0 | FW55: =SUM(FR55:FV55) -> 0 | GC55: =SUM(FX55:GB55) -> 0 | GI55: =SUM(GD55:GH55) -> 0 | GO55: =SUM(GJ55:GN55) -> 0 | GU55: =SUM(GP55:GT55) -> 0 | HA55: =SUM(GV55:GZ55) -> 0 | HG55: =SUM(HB55:HF55) -> 0 | HM55: =SUM(HH55:HL55) -> 0 | HN55: =SUM(FR55,FX55,GD55,GJ55,GP55,GV55,HB55,HH55) -> 0 | HO55: =SUM(FS55,FY55,GE55,GK55,GQ55,GW55,HC55,HI55) -> 0 | HP55: =SUM(HJ55,HD55,GX55,GR55,GL55,GF55,FZ55,FT55) -> 0 | HQ55: =SUM(HK55,HE55,GY55,GS55,GM55,GG55,GA55,FU55) -> 0 | HR55: =SUM(HL55,HF55,GZ55,GT55,GN55,GH55,GB55,FV55) -> 0 | HS55: =SUM(HN55:HR55) -> 0 | HY55: =SUM(HT55:HX55) -> 0 | IE55: =SUM(HZ55:ID55) -> 0 | IK55: =SUM(IF55:IJ55) -> 0 | IL55: =SUM(HT55,HZ55,IF55) -> 0 | IM55: =SUM(HU55,IA55,IG55) -> 0 | IN55: =SUM(HV55,IB55,IH55) -> 0 | IO55: =SUM(HW55,IC55,II55) -> 0 | IP55: =SUM(HX55,ID55,IJ55) -> 0 | IQ55: =SUM(IL55:IP55) -> 0 | IT55: 32.719552 | IU55: 13.79862 | IW55: =SUM(IR55:IV55) -> 46.518172 | JC55: =SUM(IX55:JB55) -> 0 | JI55: =SUM(JD55:JH55) -> 0 | JJ55: =SUM(IR55,IX55,JD55) -> 0 | JK55: =SUM(IS55,IY55,JE55) -> 0 | JL55: =SUM(IT55,IZ55,JF55) -> 32.719552 | JM55: =SUM(IU55,JA55,JG55) -> 13.79862 | JN55: =SUM(IV55,JB55,JH55) -> 0 | JO55: =SUM(JJ55:JN55) -> 46.518172 | JQ55: =SUM(T55,BF55,CF55,DO55,FL55,HN55,IL55,JJ55) -> 0 | JR55: =SUM(U55,BG55,CG55,DP55,FM55,HO55,IM55,JK55) -> 0 | JS55: =SUM(V55,BH55,CH55,DQ55,FN55,HP55,IN55,JL55) -> 128.27025 | JT55: =SUM(W55,BI55,CI55,DR55,FO55,HQ55,IO55,JM55) -> 46.083103 | JU55: =SUM(X55,BJ55,CJ55,DS55,FP55,HR55,IP55,JN55) -> 0 | JV55: =SUM(DT55,BK55,CK55) -> 0 | JW55: =SUM(JQ55:JV55) -> 174.35336
A56: NCB=Birch decline | G56: =SUM(B56:F56) -> 0 | M56: =SUM(H56:L56) -> 0 | S56: =SUM(N56:R56) -> 0 | T56: =SUM(B56,H56,N56) -> 0 | U56: =SUM(C56,I56,O56) -> 0 | V56: =SUM(D56,J56,P56) -> 0 | W56: =SUM(E56,K56,Q56) -> 0 | X56: =SUM(F56,L56,R56) -> 0 | Y56: =SUM(T56:X56) -> 0 | AE56: =SUM(Z56:AD56) -> 0 | AL56: =SUM(AF56:AK56) -> 0 | AR56: =SUM(AM56:AQ56) -> 0 | AY56: =SUM(AS56:AX56) -> 0 | BE56: =SUM(AZ56:BD56) -> 0 | BF56: =SUM(Z56,AF56,AM56,AS56,AZ56) -> 0 | BG56: =SUM(AA56,AG56,AN56,AT56,BA56) -> 0 | BH56: =SUM(AB56,AH56,AO56,AU56,BB56) -> 0 | BI56: =SUM(AC56,AI56,AP56,AV56,BC56) -> 0 | BJ56: =SUM(AD56,AJ56,AQ56,AW56,BD56) -> 0 | BK56: =SUM(AX56) -> 0 | BL56: =SUM(BF56:BK56) -> 0 | BR56: =SUM(BM56:BQ56) -> 0 | BX56: =SUM(BS56:BW56) -> 0 | CE56: =SUM(BY56:CD56) -> 0 | CF56: =SUM(BM56,BS56,BY56) -> 0 | CG56: =SUM(BN56,BT56,BZ56) -> 0 | CH56: =SUM(BO56,BU56,CA56) -> 0 | CI56: =SUM(BP56,BV56,CB56) -> 0 | CJ56: =SUM(BQ56,BW56,CC56) -> 0 | CK56: =SUM(CD56) -> 0 | CL56: =SUM(CF56:CK56) -> 0 | CS56: =SUM(CM56:CR56) -> 0 | CZ56: =SUM(CT56:CY56) -> 0 | DG56: =SUM(DA56:DF56) -> 0 | DN56: =SUM(DH56:DM56) -> 0 | DO56: =SUM(CM56,CT56,DA56,DH56) -> 0 | DP56: =SUM(CN56,CU56,DB56,DI56) -> 0 | DQ56: =SUM(CO56,CV56,DC56,DJ56) -> 0 | DR56: =SUM(CP56,CW56,DD56,DK56) -> 0 | DS56: =SUM(CQ56,CX56,DE56,DL56) -> 0 | DT56: =SUM(CR56,CY56,DF56,DM56) -> 0 | DU56: =SUM(DO56:DT56) -> 0 | EA56: =SUM(DV56:DZ56) -> 0 | EG56: =SUM(EB56:EF56) -> 0 | EM56: =SUM(EH56:EL56) -> 0 | ES56: =SUM(EN56:ER56) -> 0 | EY56: =SUM(ET56:EX56) -> 0 | FE56: =SUM(EZ56:FD56) -> 0 | FK56: =SUM(FF56:FJ56) -> 0 | FL56: =SUM(DV56,EB56,EH56,EN56,ET56,EZ56,FF56) -> 0 | FM56: =SUM(DW56,EC56,EI56,EO56,EU56,FA56,FG56) -> 0 | FN56: =SUM(DX56,ED56,EJ56,EP56,EV56,FB56,FH56) -> 0 | FO56: =SUM(DY56,EE56,EK56,EQ56,EW56,FC56,FI56) -> 0 | FP56: =SUM(DZ56,EF56,EL56,ER56,EX56,FD56,FJ56) -> 0 | FQ56: =SUM(FL56:FP56) -> 0 | FW56: =SUM(FR56:FV56) -> 0 | GC56: =SUM(FX56:GB56) -> 0 | GI56: =SUM(GD56:GH56) -> 0 | GO56: =SUM(GJ56:GN56) -> 0 | GU56: =SUM(GP56:GT56) -> 0 | HA56: =SUM(GV56:GZ56) -> 0 | HG56: =SUM(HB56:HF56) -> 0 | HM56: =SUM(HH56:HL56) -> 0 | HN56: =SUM(FR56,FX56,GD56,GJ56,GP56,GV56,HB56,HH56) -> 0 | HO56: =SUM(FS56,FY56,GE56,GK56,GQ56,GW56,HC56,HI56) -> 0 | HP56: =SUM(HJ56,HD56,GX56,GR56,GL56,GF56,FZ56,FT56) -> 0 | HQ56: =SUM(HK56,HE56,GY56,GS56,GM56,GG56,GA56,FU56) -> 0 | HR56: =SUM(HL56,HF56,GZ56,GT56,GN56,GH56,GB56,FV56) -> 0 | HS56: =SUM(HN56:HR56) -> 0 | HY56: =SUM(HT56:HX56) -> 0 | IE56: =SUM(HZ56:ID56) -> 0 | IK56: =SUM(IF56:IJ56) -> 0 | IL56: =SUM(HT56,HZ56,IF56) -> 0 | IM56: =SUM(HU56,IA56,IG56) -> 0 | IN56: =SUM(HV56,IB56,IH56) -> 0 | IO56: =SUM(HW56,IC56,II56) -> 0 | IP56: =SUM(HX56,ID56,IJ56) -> 0 | IQ56: =SUM(IL56:IP56) -> 0 | IW56: =SUM(IR56:IV56) -> 0 | JC56: =SUM(IX56:JB56) -> 0 | JI56: =SUM(JD56:JH56) -> 0 | JJ56: =SUM(IR56,IX56,JD56) -> 0 | JK56: =SUM(IS56,IY56,JE56) -> 0 | JL56: =SUM(IT56,IZ56,JF56) -> 0 | JM56: =SUM(IU56,JA56,JG56) -> 0 | JN56: =SUM(IV56,JB56,JH56) -> 0 | JO56: =SUM(JJ56:JN56) -> 0 | JQ56: =SUM(T56,BF56,CF56,DO56,FL56,HN56,IL56,JJ56) -> 0 | JR56: =SUM(U56,BG56,CG56,DP56,FM56,HO56,IM56,JK56) -> 0 | JS56: =SUM(V56,BH56,CH56,DQ56,FN56,HP56,IN56,JL56) -> 0 | JT56: =SUM(W56,BI56,CI56,DR56,FO56,HQ56,IO56,JM56) -> 0 | JU56: =SUM(X56,BJ56,CJ56,DS56,FP56,HR56,IP56,JN56) -> 0 | JV56: =SUM(DT56,BK56,CK56) -> 0 | JW56: =SUM(JQ56:JV56) -> 0
A57: NCF=Douglas-fir decline | G57: =SUM(B57:F57) -> 0 | M57: =SUM(H57:L57) -> 0 | S57: =SUM(N57:R57) -> 0 | T57: =SUM(B57,H57,N57) -> 0 | U57: =SUM(C57,I57,O57) -> 0 | V57: =SUM(D57,J57,P57) -> 0 | W57: =SUM(E57,K57,Q57) -> 0 | X57: =SUM(F57,L57,R57) -> 0 | Y57: =SUM(T57:X57) -> 0 | AE57: =SUM(Z57:AD57) -> 0 | AL57: =SUM(AF57:AK57) -> 0 | AR57: =SUM(AM57:AQ57) -> 0 | AY57: =SUM(AS57:AX57) -> 0 | BE57: =SUM(AZ57:BD57) -> 0 | BF57: =SUM(Z57,AF57,AM57,AS57,AZ57) -> 0 | BG57: =SUM(AA57,AG57,AN57,AT57,BA57) -> 0 | BH57: =SUM(AB57,AH57,AO57,AU57,BB57) -> 0 | BI57: =SUM(AC57,AI57,AP57,AV57,BC57) -> 0 | BJ57: =SUM(AD57,AJ57,AQ57,AW57,BD57) -> 0 | BK57: =SUM(AX57) -> 0 | BL57: =SUM(BF57:BK57) -> 0 | BR57: =SUM(BM57:BQ57) -> 0 | BX57: =SUM(BS57:BW57) -> 0 | CE57: =SUM(BY57:CD57) -> 0 | CF57: =SUM(BM57,BS57,BY57) -> 0 | CG57: =SUM(BN57,BT57,BZ57) -> 0 | CH57: =SUM(BO57,BU57,CA57) -> 0 | CI57: =SUM(BP57,BV57,CB57) -> 0 | CJ57: =SUM(BQ57,BW57,CC57) -> 0 | CK57: =SUM(CD57) -> 0 | CL57: =SUM(CF57:CK57) -> 0 | CS57: =SUM(CM57:CR57) -> 0 | CZ57: =SUM(CT57:CY57) -> 0 | DG57: =SUM(DA57:DF57) -> 0 | DN57: =SUM(DH57:DM57) -> 0 | DO57: =SUM(CM57,CT57,DA57,DH57) -> 0 | DP57: =SUM(CN57,CU57,DB57,DI57) -> 0 | DQ57: =SUM(CO57,CV57,DC57,DJ57) -> 0 | DR57: =SUM(CP57,CW57,DD57,DK57) -> 0 | DS57: =SUM(CQ57,CX57,DE57,DL57) -> 0 | DT57: =SUM(CR57,CY57,DF57,DM57) -> 0 | DU57: =SUM(DO57:DT57) -> 0 | EA57: =SUM(DV57:DZ57) -> 0 | EG57: =SUM(EB57:EF57) -> 0 | EM57: =SUM(EH57:EL57) -> 0 | ES57: =SUM(EN57:ER57) -> 0 | EY57: =SUM(ET57:EX57) -> 0 | FE57: =SUM(EZ57:FD57) -> 0 | FK57: =SUM(FF57:FJ57) -> 0 | FL57: =SUM(DV57,EB57,EH57,EN57,ET57,EZ57,FF57) -> 0 | FM57: =SUM(DW57,EC57,EI57,EO57,EU57,FA57,FG57) -> 0 | FN57: =SUM(DX57,ED57,EJ57,EP57,EV57,FB57,FH57) -> 0 | FO57: =SUM(DY57,EE57,EK57,EQ57,EW57,FC57,FI57) -> 0 | FP57: =SUM(DZ57,EF57,EL57,ER57,EX57,FD57,FJ57) -> 0 | FQ57: =SUM(FL57:FP57) -> 0 | FW57: =SUM(FR57:FV57) -> 0 | GC57: =SUM(FX57:GB57) -> 0 | GI57: =SUM(GD57:GH57) -> 0 | GO57: =SUM(GJ57:GN57) -> 0 | GU57: =SUM(GP57:GT57) -> 0 | HA57: =SUM(GV57:GZ57) -> 0 | HG57: =SUM(HB57:HF57) -> 0 | HM57: =SUM(HH57:HL57) -> 0 | HN57: =SUM(FR57,FX57,GD57,GJ57,GP57,GV57,HB57,HH57) -> 0 | HO57: =SUM(FS57,FY57,GE57,GK57,GQ57,GW57,HC57,HI57) -> 0 | HP57: =SUM(HJ57,HD57,GX57,GR57,GL57,GF57,FZ57,FT57) -> 0 | HQ57: =SUM(HK57,HE57,GY57,GS57,GM57,GG57,GA57,FU57) -> 0 | HR57: =SUM(HL57,HF57,GZ57,GT57,GN57,GH57,GB57,FV57) -> 0 | HS57: =SUM(HN57:HR57) -> 0 | HY57: =SUM(HT57:HX57) -> 0 | IE57: =SUM(HZ57:ID57) -> 0 | IK57: =SUM(IF57:IJ57) -> 0 | IL57: =SUM(HT57,HZ57,IF57) -> 0 | IM57: =SUM(HU57,IA57,IG57) -> 0 | IN57: =SUM(HV57,IB57,IH57) -> 0 | IO57: =SUM(HW57,IC57,II57) -> 0 | IP57: =SUM(HX57,ID57,IJ57) -> 0 | IQ57: =SUM(IL57:IP57) -> 0 | IW57: =SUM(IR57:IV57) -> 0 | JC57: =SUM(IX57:JB57) -> 0 | JI57: =SUM(JD57:JH57) -> 0 | JJ57: =SUM(IR57,IX57,JD57) -> 0 | JK57: =SUM(IS57,IY57,JE57) -> 0 | JL57: =SUM(IT57,IZ57,JF57) -> 0 | JM57: =SUM(IU57,JA57,JG57) -> 0 | JN57: =SUM(IV57,JB57,JH57) -> 0 | JO57: =SUM(JJ57:JN57) -> 0 | JQ57: =SUM(T57,BF57,CF57,DO57,FL57,HN57,IL57,JJ57) -> 0 | JR57: =SUM(U57,BG57,CG57,DP57,FM57,HO57,IM57,JK57) -> 0 | JS57: =SUM(V57,BH57,CH57,DQ57,FN57,HP57,IN57,JL57) -> 0 | JT57: =SUM(W57,BI57,CI57,DR57,FO57,HQ57,IO57,JM57) -> 0 | JU57: =SUM(X57,BJ57,CJ57,DS57,FP57,HR57,IP57,JN57) -> 0 | JV57: =SUM(DT57,BK57,CK57) -> 0 | JW57: =SUM(JQ57:JV57) -> 0
A58: NCY=Yellow cedar decline | G58: =SUM(B58:F58) -> 0 | M58: =SUM(H58:L58) -> 0 | S58: =SUM(N58:R58) -> 0 | T58: =SUM(B58,H58,N58) -> 0 | U58: =SUM(C58,I58,O58) -> 0 | V58: =SUM(D58,J58,P58) -> 0 | W58: =SUM(E58,K58,Q58) -> 0 | X58: =SUM(F58,L58,R58) -> 0 | Y58: =SUM(T58:X58) -> 0 | AE58: =SUM(Z58:AD58) -> 0 | AF58: 7695.6866 | AG58: 826.60439 | AH58: 401.53112 | AI58: 23.75 | AL58: =SUM(AF58:AK58) -> 8947.5721 | AM58: 8717.19 | AN58: 2175.9413 | AO58: 138.91491 | AP58: 91.25 | AR58: =SUM(AM58:AQ58) -> 11123.296 | AS58: 1248.7538 | AT58: 2524.6833 | AU58: 2551.0346 | AV58: 431.17828 | AY58: =SUM(AS58:AX58) -> 6755.65 | BE58: =SUM(AZ58:BD58) -> 0 | BF58: =SUM(Z58,AF58,AM58,AS58,AZ58) -> 17661.63 | BG58: =SUM(AA58,AG58,AN58,AT58,BA58) -> 5527.229 | BH58: =SUM(AB58,AH58,AO58,AU58,BB58) -> 3091.4806 | BI58: =SUM(AC58,AI58,AP58,AV58,BC58) -> 546.17828 | BJ58: =SUM(AD58,AJ58,AQ58,AW58,BD58) -> 0 | BK58: =SUM(AX58) -> 0 | BL58: =SUM(BF58:BK58) -> 26826.518 | BR58: =SUM(BM58:BQ58) -> 0 | BX58: =SUM(BS58:BW58) -> 0 | CE58: =SUM(BY58:CD58) -> 0 | CF58: =SUM(BM58,BS58,BY58) -> 0 | CG58: =SUM(BN58,BT58,BZ58) -> 0 | CH58: =SUM(BO58,BU58,CA58) -> 0 | CI58: =SUM(BP58,BV58,CB58) -> 0 | CJ58: =SUM(BQ58,BW58,CC58) -> 0 | CK58: =SUM(CD58) -> 0 | CL58: =SUM(CF58:CK58) -> 0 | CS58: =SUM(CM58:CR58) -> 0 | CZ58: =SUM(CT58:CY58) -> 0 | DG58: =SUM(DA58:DF58) -> 0 | DN58: =SUM(DH58:DM58) -> 0 | DO58: =SUM(CM58,CT58,DA58,DH58) -> 0 | DP58: =SUM(CN58,CU58,DB58,DI58) -> 0 | DQ58: =SUM(CO58,CV58,DC58,DJ58) -> 0 | DR58: =SUM(CP58,CW58,DD58,DK58) -> 0 | DS58: =SUM(CQ58,CX58,DE58,DL58) -> 0 | DT58: =SUM(CR58,CY58,DF58,DM58) -> 0 | DU58: =SUM(DO58:DT58) -> 0 | EA58: =SUM(DV58:DZ58) -> 0 | EG58: =SUM(EB58:EF58) -> 0 | EM58: =SUM(EH58:EL58) -> 0 | ES58: =SUM(EN58:ER58) -> 0 | EY58: =SUM(ET58:EX58) -> 0 | FE58: =SUM(EZ58:FD58) -> 0 | FK58: =SUM(FF58:FJ58) -> 0 | FL58: =SUM(DV58,EB58,EH58,EN58,ET58,EZ58,FF58) -> 0 | FM58: =SUM(DW58,EC58,EI58,EO58,EU58,FA58,FG58) -> 0 | FN58: =SUM(DX58,ED58,EJ58,EP58,EV58,FB58,FH58) -> 0 | FO58: =SUM(DY58,EE58,EK58,EQ58,EW58,FC58,FI58) -> 0 | FP58: =SUM(DZ58,EF58,EL58,ER58,EX58,FD58,FJ58) -> 0 | FQ58: =SUM(FL58:FP58) -> 0 | FW58: =SUM(FR58:FV58) -> 0 | GC58: =SUM(FX58:GB58) -> 0 | GD58: 75.642395 | GE58: 687.72942 | GG58: 0.75 | GI58: =SUM(GD58:GH58) -> 764.12181 | GO58: =SUM(GJ58:GN58) -> 0 | GQ58: 102.09145 | GU58: =SUM(GP58:GT58) -> 102.09145 | HA58: =SUM(GV58:GZ58) -> 0 | HG58: =SUM(HB58:HF58) -> 0 | HH58: 5150.1096 | HI58: 4210.1628 | HJ58: 217.84219 | HK58: 201.79408 | HL58: 67.864036 | HM58: =SUM(HH58:HL58) -> 9847.7727 | HN58: =SUM(FR58,FX58,GD58,GJ58,GP58,GV58,HB58,HH58) -> 5225.752 | HO58: =SUM(FS58,FY58,GE58,GK58,GQ58,GW58,HC58,HI58) -> 4999.9837 | HP58: =SUM(HJ58,HD58,GX58,GR58,GL58,GF58,FZ58,FT58) -> 217.84219 | HQ58: =SUM(HK58,HE58,GY58,GS58,GM58,GG58,GA58,FU58) -> 202.54408 | HR58: =SUM(HL58,HF58,GZ58,GT58,GN58,GH58,GB58,FV58) -> 67.864036 | HS58: =SUM(HN58:HR58) -> 10713.986 | HY58: =SUM(HT58:HX58) -> 0 | IE58: =SUM(HZ58:ID58) -> 0 | IK58: =SUM(IF58:IJ58) -> 0 | IL58: =SUM(HT58,HZ58,IF58) -> 0 | IM58: =SUM(HU58,IA58,IG58) -> 0 | IN58: =SUM(HV58,IB58,IH58) -> 0 | IO58: =SUM(HW58,IC58,II58) -> 0 | IP58: =SUM(HX58,ID58,IJ58) -> 0 | IQ58: =SUM(IL58:IP58) -> 0 | IW58: =SUM(IR58:IV58) -> 0 | JC58: =SUM(IX58:JB58) -> 0 | JI58: =SUM(JD58:JH58) -> 0 | JJ58: =SUM(IR58,IX58,JD58) -> 0 | JK58: =SUM(IS58,IY58,JE58) -> 0 | JL58: =SUM(IT58,IZ58,JF58) -> 0 | JM58: =SUM(IU58,JA58,JG58) -> 0 | JN58: =SUM(IV58,JB58,JH58) -> 0 | JO58: =SUM(JJ58:JN58) -> 0 | JQ58: =SUM(T58,BF58,CF58,DO58,FL58,HN58,IL58,JJ58) -> 22887.382 | JR58: =SUM(U58,BG58,CG58,DP58,FM58,HO58,IM58,JK58) -> 10527.213 | JS58: =SUM(V58,BH58,CH58,DQ58,FN58,HP58,IN58,JL58) -> 3309.3228 | JT58: =SUM(W58,BI58,CI58,DR58,FO58,HQ58,IO58,JM58) -> 748.72236 | JU58: =SUM(X58,BJ58,CJ58,DS58,FP58,HR58,IP58,JN58) -> 67.864036 | JV58: =SUM(DT58,BK58,CK58) -> 0 | JW58: =SUM(JQ58:JV58) -> 37540.504
