Workbook
Name fhdata_Query: #REF!
Name PARKS_Query: #REF!
Name sum_data: #REF!

Sheet Annual Report
A1: 2015 Aerial Overview Summary for British Columbia
B2: Regions | J2: Provincial
B3: South Coast | C3: West Coast | D3: Cariboo | E3: Thompson/ Okanagan | F3: Kootenay/ Boundary | G3: Skeena | H3: Omineca | I3: Northeast | J3: Total
A5: Bark Beetles
A6: IBM=Mountain Pine Beetle | B6: =Master!Y6 -> 333.29147 | C6: =Master!BL6 -> 44.397263 | D6: =Master!CL6 -> 1899.3413 | E6: =Master!DU6 -> 8539.8276 | F6: =Master!FQ6 -> 30026.785 | G6: =Master!HS6 -> 10573.512 | H6: =Master!IQ6 -> 96072.752 | I6: =Master!JO6 -> 178986.68 | J6: =SUM(B6:I6) -> 326476.59
A7: IBS=Spruce Beetle | B7: =Master!Y7 -> 202.56884 | C7: =Master!BL7 -> 1663.3119 | D7: =Master!CL7 -> 2900.0722 | E7: =Master!DU7 -> 5295.2211 | F7: =Master!FQ7 -> 5190.3102 | G7: =Master!HS7 -> 8406.1648 | H7: =Master!IQ7 -> 156057.4 | I7: =Master!JO7 -> 14335.099 | J7: =SUM(B7:I7) -> 194050.15
A8: IBB=Western Balsam Bark Beetle | B8: =Master!Y8 -> 22072.32 | C8: =Master!BL8 -> 17211.586 | D8: =Master!CL8 -> 38775.882 | E8: =Master!DU8 -> 187374.21 | F8: =Master!FQ8 -> 21046.26 | G8: =Master!HS8 -> 814699.52 | H8: =Master!IQ8 -> 1036054.6 | I8: =Master!JO8 -> 212235.42 | J8: =SUM(B8:I8) -> 2349469.8
A9: IBD=Douglas-fir Beetle | B9: =Master!Y9 -> 4908.8389 | C9: =Master!BL9 -> 1312.7536 | D9: =Master!CL9 -> 33251.838 | E9: =Master!DU9 -> 5207.3609 | F9: =Master!FQ9 -> 1640.8271 | G9: =Master!HS9 -> 1.25 | H9: =Master!IQ9 -> 1304.6494 | I9: =Master!JO9 -> 0 | J9: =SUM(B9:I9) -> 47627.518
A10: IBF=Fir engraver beetle | B10: =Master!Y10 -> 0 | C10: =Master!BL10 -> 0 | D10: =Master!CL10 -> 0 | E10: =Master!DU10 -> 0 | F10: =Master!FQ10 -> 0 | G10: =Master!HS10 -> 0 | H10: =Master!IQ10 -> 0 | I10: =Master!JO10 -> 0 | J10: =SUM(B10:I10) -> 0
A11: IBP=Twig beetle | B11: =Master!Y11 -> 0 | C11: =Master!BL11 -> 0 | D11: =Master!CL11 -> 0 | E11: =Master!DU11 -> 0 | F11: =Master!FQ11 -> 0 | G11: =Master!HS11 -> 0 | H11: =Master!IQ11 -> 0 | I11: =Master!JO11 -> 0 | J11: =SUM(B11:I11) -> 0
A12: IBI=Engraver Beetle (Ips species) | B12: =Master!Y12 -> 0 | C12: =Master!BL12 -> 0 | D12: =Master!CL12 -> 0 | E12: =Master!DU12 -> 0 | F12: =Master!FQ12 -> 0 | G12: =Master!HS12 -> 0 | H12: =Master!IQ12 -> 0 | I12: =Master!JO12 -> 0 | J12: =SUM(B12:I12) -> 0
A13: IBW=Western Pine Beetle | B13: =Master!Y13 -> 0 | C13: =Master!BL13 -> 0 | D13: =Master!CL13 -> 0 | E13: =Master!DU13 -> 0 | F13: =Master!FQ13 -> 0 | G13: =Master!HS13 -> 0 | H13: =Master!IQ13 -> 0 | I13: =Master!JO13 -> 0 | J13: =SUM(B13:I13) -> 0
A14: IBL=Lodgepole Pine Beetle | B14: =Master!Y14 -> 0 | C14: =Master!BL14 -> 0 | D14: =Master!CL14 -> 0 | E14: =Master!DU14 -> 0 | F14: =Master!FQ14 -> 0 | G14: =Master!HS14 -> 0 | H14: =Master!IQ14 -> 0 | I14: =Master!JO14 -> 0 | J14: =SUM(B14:I14) -> 0
A15: IBT=Red Turpentine Beetle | B15: =Master!Y15 -> 0 | C15: =Master!BL15 -> 0 | D15: =Master!CL15 -> 0 | E15: =Master!DU15 -> 0 | F15: =Master!FQ15 -> 0 | G15: =Master!HS15 -> 0 | H15: =Master!IQ15 -> 0 | I15: =Master!JO15 -> 0 | J15: =SUM(B15:I15) -> 0
A16: IB=Young pine mortality | B16: =Master!Y16 -> 0 | C16: =Master!BL16 -> 0 | D16: =Master!CL16 -> 0 | E16: =Master!DU16 -> 0 | F16: =Master!FQ16 -> 0 | G16: =Master!HS16 -> 0.75 | H16: =Master!IQ16 -> 756.91084 | I16: =Master!JO16 -> 0 | J16: =SUM(B16:I16) -> 757.66084
A17: IWW=Warrens Root Collar Weevil | B17: =Master!Y17 -> 0 | C17: =Master!BL17 -> 0 | D17: =Master!CL17 -> 0 | E17: =Master!DU17 -> 0 | F17: =Master!FQ17 -> 0 | G17: =Master!HS17 -> 0 | H17: =Master!IQ17 -> 0 | I17: =Master!JO17 -> 0 | J17: =SUM(B17:I17) -> 0
A18: Total All BB= | B18: =Master!Y18 -> 27517.019 | C18: =Master!BL18 -> 20232.048 | D18: =Master!CL18 -> 76827.134 | E18: =Master!DU18 -> 206416.62 | F18: =Master!FQ18 -> 57904.182 | G18: =Master!HS18 -> 833681.19 | H18: =Master!IQ18 -> 1290246.3 | I18: =Master!JO18 -> 405557.2 | J18: =SUM(B18:I18) -> 2918381.7
A20: Defoliators
A21: ID=Defoliators | B21: =Master!Y21 -> 0 | C21: =Master!BL21 -> 182.48367 | D21: =Master!CL21 -> 0 | E21: =Master!DU21 -> 0 | F21: =Master!FQ21 -> 141.65491 | G21: =Master!HS21 -> 21.611337 | H21: =Master!IQ21 -> 0 | I21: =Master!JO21 -> 0 | J21: =SUM(B21:I21) -> 345.74992
A22: IAB=Balsam Woolly Adelgid | B22: =Master!Y22 -> 22.866557 | C22: =Master!BL22 -> 236.79861 | D22: =Master!CL22 -> 0 | E22: =Master!DU22 -> 0 | F22: =Master!FQ22 -> 34.826294 | G22: =Master!HS22 -> 0 | H22: =Master!IQ22 -> 0 | I22: =Master!JO22 -> 0 | J22: =SUM(B22:I22) -> 294.49147
A23: IAS=Green Spruce Aphid | B23: =Master!Y23 -> 0 | C23: =Master!BL23 -> 578.02834 | D23: =Master!CL23 -> 0 | E23: =Master!DU23 -> 0 | F23: =Master!FQ23 -> 0 | G23: =Master!HS23 -> 0 | H23: =Master!IQ23 -> 0 | I23: =Master!JO23 -> 0 | J23: =SUM(B23:I23) -> 578.02834
A24: ID1=Leaf Beetles | B24: =Master!Y24 -> 0 | C24: =Master!BL24 -> 0 | D24: =Master!CL24 -> 0 | E24: =Master!DU24 -> 0 | F24: =Master!FQ24 -> 0 | G24: =Master!HS24 -> 0 | H24: =Master!IQ24 -> 0 | I24: =Master!JO24 -> 0 | J24: =SUM(B24:I24) -> 0
A25: ID2=Bruce spanworm | B25: =Master!Y25 -> 0 | C25: =Master!BL25 -> 0 | D25: =Master!CL25 -> 0 | E25: =Master!DU25 -> 0 | F25: =Master!FQ25 -> 0 | G25: =Master!HS25 -> 0 | H25: =Master!IQ25 -> 0 | I25: =Master!JO25 -> 22452.23 | J25: =SUM(B25:I25) -> 22452.23
A26: ID6=Aspen Leaf Miner | B26: =Master!Y26 -> 0 | C26: =Master!BL26 -> 1759.4994 | D26: =Master!CL26 -> 174048.15 | E26: =Master!DU26 -> 36398.867 | F26: =Master!FQ26 -> 13850.377 | G26: =Master!HS26 -> 319232.65 | H26: =Master!IQ26 -> 373538.46 | I26: =Master!JO26 -> 23256.797 | J26: =SUM(B26:I26) -> 942084.8
A27: IDA=Black Army Cutworm | B27: =Master!Y27 -> 0 | C27: =Master!BL27 -> 0 | D27: =Master!CL27 -> 0 | E27: =Master!DU27 -> 0 | F27: =Master!FQ27 -> 0 | G27: =Master!HS27 -> 0 | H27: =Master!IQ27 -> 0 | I27: =Master!JO27 -> 0 | J27: =SUM(B27:I27) -> 0
A28: IDB=2-Year Budworm | B28: =Master!Y28 -> 0 | C28: =Master!BL28 -> 0 | D28: =Master!CL28 -> 106.1736 | E28: =Master!DU28 -> 7122.8972 | F28: =Master!FQ28 -> 0 | G28: =Master!HS28 -> 28009.171 | H28: =Master!IQ28 -> 11181.804 | I28: =Master!JO28 -> 0 | J28: =SUM(B28:I28) -> 46420.046
A29: IDC=Larch casebearer | B29: =Master!Y29 -> 0 | C29: =Master!BL29 -> 0 | D29: =Master!CL29 -> 0 | E29: =Master!DU29 -> 32.111339 | F29: =Master!FQ29 -> 0 | G29: =Master!HS29 -> 0 | H29: =Master!IQ29 -> 0 | I29: =Master!JO29 -> 0 | J29: =SUM(B29:I29) -> 32.111339
A30: IDE=Spruce Budworm | B30: =Master!Y30 -> 0 | C30: =Master!BL30 -> 0 | D30: =Master!CL30 -> 0 | E30: =Master!DU30 -> 0 | F30: =Master!FQ30 -> 0 | G30: =Master!HS30 -> 0 | H30: =Master!IQ30 -> 0 | I30: =Master!JO30 -> 0 | J30: =SUM(B30:I30) -> 0
A31: IDF=Forest Tent Caterpillar | B31: =Master!Y31 -> 0 | C31: =Master!BL31 -> 0 | D31: =Master!CL31 -> 131665.45 | E31: =Master!DU31 -> 0 | F31: =Master!FQ31 -> 0 | G31: =Master!HS31 -> 0 | H31: =Master!IQ31 -> 478333.58 | I31: =Master!JO31 -> 0 | J31: =SUM(B31:I31) -> 609999.03
A32: IDH=Western Blackheaded Budworm | B32: =Master!Y32 -> 0 | C32: =Master!BL32 -> 301.14466 | D32: =Master!CL32 -> 0 | E32: =Master!DU32 -> 0 | F32: =Master!FQ32 -> 0 | G32: =Master!HS32 -> 0 | H32: =Master!IQ32 -> 0 | I32: =Master!JO32 -> 0 | J32: =SUM(B32:I32) -> 301.14466
... A48: Total Defoliators= | B48: =Master!Y48 -> 631.24036 | C48: =Master!BL48 -> 8062.4945 | D48: =Master!CL48 -> 315215.7 | E48: =Master!DU48 -> 48362.769 | F48: =Master!FQ48 -> 15680.459 | G48: =Master!HS48 -> 347263.43 | H48: =Master!IQ48 -> 863126.11 | I48: =Master!JO48 -> 45709.027 | J48: =SUM(B48:I48) -> 1644051.2
A50: Other
A51: N | B51: =Master!Y51 -> 0 | C51: =Master!BL51 -> 0 | D51: =Master!CL51 -> 70.755317 | E51: =Master!DU51 -> 0 | F51: =Master!FQ51 -> 0 | G51: =Master!HS51 -> 0 | H51: =Master!IQ51 -> 0 | I51: =Master!JO51 -> 0 | J51: =SUM(B51:I51) -> 70.755317
A52: NAV=Avalanche or snow slide | B52: =Master!Y52 -> 0 | C52: =Master!BL52 -> 50.048079 | D52: =Master!CL52 -> 0 | E52: =Master!DU52 -> 7.6197877 | F52: =Master!FQ52 -> 0 | G52: =Master!HS52 -> 10.974995 | H52: =Master!IQ52 -> 0 | I52: =Master!JO52 -> 0 | J52: =SUM(B52:I52) -> 68.642862
A53: NB=Fire | B53: =Master!Y53 -> 23975.755 | C53: =Master!BL53 -> 940.30191 | D53: =Master!CL53 -> 10087.417 | E53: =Master!DU53 -> 10947.538 | F53: =Master!FQ53 -> 14248.475 | G53: =Master!HS53 -> 21268.154 | H53: =Master!IQ53 -> 38175.681 | I53: =Master!JO53 -> 146145.09 | J53: =SUM(B53:I53) -> 265788.41
A54: NBP=Post Fire | B54: =Master!Y54 -> 0 | C54: =Master!BL54 -> 126.03063 | D54: =Master!CL54 -> 512.5446 | E54: =Master!DU54 -> 71.006153 | F54: =Master!FQ54 -> 0 | G54: =Master!HS54 -> 91913.561 | H54: =Master!IQ54 -> 55014.562 | I54: =Master!JO54 -> 0 | J54: =SUM(B54:I54) -> 147637.7
A55: NCA=Aspen decline | B55: =Master!Y55 -> 0 | C55: =Master!BL55 -> 0 | D55: =Master!CL55 -> 5.4270194 | E55: =Master!DU55 -> 122.40817 | F55: =Master!FQ55 -> 0 | G55: =Master!HS55 -> 0 | H55: =Master!IQ55 -> 0 | I55: =Master!JO55 -> 46.518172 | J55: =SUM(B55:I55) -> 174.35336
A56: NCB=Birch decline | B56: =Master!Y56 -> 0 | C56: =Master!BL56 -> 0 | D56: =Master!CL56 -> 0 | E56: =Master!DU56 -> 0 | F56: =Master!FQ56 -> 0 | G56: =Master!HS56 -> 0 | H56: =Master!IQ56 -> 0 | I56: =Master!JO56 -> 0 | J56: =SUM(B56:I56) -> 0
A57: NCF=Douglas-fir decline | B57: =Master!Y57 -> 0 | C57: =Master!BL57 -> 0 | D57: =Master!CL57 -> 0 | E57: =Master!DU57 -> 0 | F57: =Master!FQ57 -> 0 | G57: =Master!HS57 -> 0 | H57: =Master!IQ57 -> 0 | I57: =Master!JO57 -> 0 | J57: =SUM(B57:I57) -> 0
A58: NCY=Yellow cedar decline | B58: =Master!Y58 -> 0 | C58: =Master!BL58 -> 26826.518 | D58: =Master!CL58 -> 0 | E58: =Master!DU58 -> 0 | F58: =Master!FQ58 -> 0 | G58: =Master!HS58 -> 10713.986 | H58: =Master!IQ58 -> 0 | I58: =Master!JO58 -> 0 | J58: =SUM(B58:I58) -> 37540.504
...

Sheet Master
A1: 2015 Aerial Overview Summary for British Columbia by TSA's
A2: Regions | B2: South Coast Region | Z2: West Coast Region | BM2: Cariboo Region | CM2: Thompson Okanagan Region | DV2: Kootenay/Boundary Region | FR2: Skeena Region | HT2: Omineca Region | IR2: Northeast Region
A3: TSA's | B3: Fraser | C3: (TFR) | H3: Soo | I3: (TSO) | N3: Sunshine Coast | P3: (TSC) | T3: SOUTH COAST FOREST TOTAL | Z3: Arrowsmith | AB3: (TAS) | AF3: Kingcome | AG3: (TKC) | AM3: Mid Coast | AN3: (TMC) | AS3: Haida Gwaii | AU3: (THG) | AZ3: Strathcona | BA3: (TST) | BF3: WEST COAST REGION TOTAL | BM3: 100 Mile House | BO3: (TMH) | BS3: Quesnel | BT3: (TQU) | BY3: Williams Lake | BZ3: (TWL) | CF3: CARIBOO REGION TOTAL | CM3: Kamloops | CN3: (TKA) | CT3: Lillooet | CU3: (TLI) | DA3: Merritt | DB3: (TME) | DH3: Okanagan | DI3: (TOK) | DO3: THOMPSON/OKANAGAN REGION TOTAL | DV3: Arrow | DW3: (TAR) | EB3: Boundary | EC3: (TBO) | EH3: Cranbrook | EI3: (TCB) | EN3: Golden | EO3: (TGO) | ET3: Invermere | EU3: (TIN) | EZ3: Kootenay Lake | FA3: (TKL) | FF3: Revelstoke | FG3: (TRE) | FL3: KOOTENAY/BOUNDARY REGION | FR3: Bulkley | FS3: (TBU) | FX3: Cassiar | FY3: (TCA) | GD3: Kalum | GE3: (TKM) | GJ3: Kispiox | GK3: (TKI) | GP3: Lakes | GQ3: (TLA) | GV3: Morice | GW3: (TMO) | HB3: Nass | HC3: (TNA) | HH3: North Coast | HI3: (TNC) | HN3: SKEENA REGION | HT3: MacKenzie | HU3: (TMK) | HZ3: Robson Valley | IB3: (TRV) | IF3: Prince George | IH3: (TPG) | IL3: OMINECA REGION | IR3: Dawson Creek | IT3: (TDC) | IX3: Fort Nelson | IY3: (TFN) | JD3: Fort St. John | JF3: (TJO) | JJ3: NORTHEAST REGION | JQ3: GRAND TOTAL
B4: Trace | C4: Light | D4: Moderate | E4: Severe | F4: Very Sev | G4: Total | H4: Trace | I4: Light | J4: Moderate | K4: Severe | L4: Very Sev | M4: Total | N4: Trace | O4: Light | P4: Moderate | Q4: Severe | R4: Very Sev | S4: Total | T4: Trace | U4: Light | V4: Moderate | W4: Severe | X4: Ver Sev | Y4: Total | Z4: Trace | AA4: Light | AB4: Moderate | AC4: Severe | AD4: Very Sev | AE4: Total | AF4: Trace | AG4: Light | AH4: Moderate | AI4: Severe | AJ4: Very Sev | AK4: Grey | AL4: Total | AM4: Trace | AN4: Light | AO4: Moderate | AP4: Severe | AQ4: Very Sev | AR4: Total | AS4: Trace | AT4: Light | AU4: Moderate | AV4: Severe | AW4: Very Sev | AX4: Grey | AY4: Total | AZ4: Trace | BA4: Light | BB4: Moderate | BC4: Severe | BD4: Very Sev | BE4: Total | BF4: Trace | BG4: Light | BH4: Moderate | BI4: Severe | BJ4: Ver Sev | BK4: Grey | BL4: Total | BM4: Trace | BN4: Light | BO4: Moderate | BP4: Severe | BQ4: Very Sev | BR4: Total | BS4: Trace | BT4: Light | BU4: Moderate | BV4: Severe | BW4: Very Sev | BX4: Total | BY4: Trace | BZ4: Light | CA4: Moderate | CB4: Severe | CC4: Very Sev | CD4: Grey | CE4: Total | CF4: Trace | CG4: Light | CH4: Moderate | CI4: Severe | CJ4: Ver Sev | CK4: Grey | CL4: Total | CM4: Trace | CN4: Light | CO4: Moderate | CP4: Severe | CQ4: Very Sev | CR4: Grey | CS4: Total | CT4: Trace | CU4: Light | CV4: Moderate | CW4: Severe | CX4: Very Sev | CY4: Grey | CZ4: Total | DA4: Trace | DB4: Light | DC4: Moderate | DD4: Severe | DE4: Very Sev | DF4: Grey | DG4: Total | DH4: Trace | DI4: Light | DJ4: Moderate | DK4: Severe | DL4: Very Sev | DM4: Grey | DN4: Total | DO4: Trace | DP4: Light | DQ4: Moderate | DR4: Severe | DS4: Ver Sev | DT4: Grey | DU4: Total | DV4: Trace | DW4: Light | DX4: Moderate | DY4: Severe | DZ4: Very Sev | EA4: Total | EB4: Trace | EC4: Light | ED4: Moderate | EE4: Severe | EF4: Very Sev | EG4: Total | EH4: Trace | EI4: Light | EJ4: Moderate | EK4: Severe | EL4: Very Sev | EM4: Total | EN4: Trace | EO4: Light | EP4: Moderate | EQ4: Severe | ER4: Very Sev | ES4: Total | ET4: Trace | EU4: Light | EV4: Moderate | EW4: Severe | EX4: Very Sev | EY4: Total | EZ4: Trace | FA4: Light | FB4: Moderate | FC4: Severe | FD4: Very Sev | FE4: Total | FF4: Trace | FG4: Light | FH4: Moderate | FI4: Severe | FJ4: Very Sev | FK4: Total | FL4: Trace | FM4: Light | FN4: Moderate | FO4: Severe | FP4: Very Sev | FQ4: TOTAL | FR4: Trace | FS4: Light | FT4: Moderate | FU4: Severe | FV4: Very Sev | FW4: Total | FX4: Trace | FY4: Light | FZ4: Moderate | GA4: Severe | GB4: Very Sev | GC4: Total | GD4: Trace | GE4: Light | GF4: Moderate | GG4: Severe | GH4: Very Sev | GI4: Total | GJ4: Trace | GK4: Light | GL4: Moderate | GM4: Severe | GN4: Very Sev | GO4: Total | GP4: Trace | GQ4: Light | GR4: Moderate | GS4: Severe | GT4: Very Sev | GU4: Total | GV4: Trace | GW4: Light | GX4: Moderate | GY4: Severe | GZ4: Very Sev | HA4: Total | HB4: Trace | HC4: Light | HD4: Moderate | HE4: Severe | HF4: Very Sev | HG4: Total | HH4: Trace | HI4: Light | HJ4: Moderate | HK4: Severe | HL4: Very Sev | HM4: Total | HN4: Trace | HO4: Light | HP4: Moderate | HQ4: Severe | HR4: Very Sev | HS4: TOTAL | HT4: Trace | HU4: Light | HV4: Moderate | HW4: Severe | HX4: Very Sev | HY4: Total | HZ4: Trace | IA4: Light | IB4: Moderate | IC4: Severe | ID4: Very Sev | IE4: Total | IF4: Trace | IG4: Light | IH4: Moderate | II4: Severe | IJ4: Very Sev | IK4: Total | IL4: Trace | IM4: Light | IN4: Moderate | IO4: Severe | IP4: Very Sev | IQ4: TOTAL | IR4: Trace | IS4: Light | IT4: Moderate | IU4: Severe | IV4: Very Sev | IW4: Total | IX4: Trace | IY4: Light | IZ4: Moderate | JA4: Severe | JB4: Very Sev | JC4: Total | JD4: Trace | JE4: Light | JF4: Moderate | JG4: Severe | JH4: Very Sev | JI4: Total | JJ4: Trace | JK4: Light | JL4: Moderate | JM4: Severe | JN4: Very Sev | JO4: TOTAL | JQ4: Trace | JR4: Light | JS4: Moderate | JT4: Severe | JU4: Very Sev | JV4: Grey | JW4: TOTAL
A5: Bark Beetles
A6: IBM=Mountain Pine Beetle | E6: 0.25 | G6: =SUM(B6:F6) -> 0.25 | H6: 46.656733 | I6: 219.37339 | J6: 58.694051 | K6: 8.3172958 | M6: =SUM(H6:L6) -> 333.04147 | S6: =SUM(N6:R6) -> 0 | T6: =SUM(B6,H6,N6) -> 46.656733 | U6: =SUM(C6,I6,O6) -> 219.37339 | V6: =SUM(D6,J6,P6) -> 58.694051 | W6: =SUM(E6,K6,Q6) -> 8.5672958 | X6: =SUM(F6,L6,R6) -> 0 | Y6: =SUM(T6:X6) -> 333.29147 | AE6: =SUM(Z6:AD6) -> 0 | AL6: =SUM(AF6:AJ6) -> 0 | AM6: 19.949636 | AN6: 23.697626 | AP6: 0.75 | AR6: =SUM(AM6:AQ6) -> 44.397263 | AY6: =SUM(AS6:AX6) -> 0 | BE6: =SUM(AZ6:BD6) -> 0 | BF6: =SUM(Z6,AF6,AM6,AS6,AZ6) -> 19.949636 | BG6: =SUM(AA6,AG6,AN6,AT6,BA6) -> 23.697626 | BH6: =SUM(AB6,AH6,AO6,AU6,BB6) -> 0 | BI6: =SUM(AC6,AI6,AP6,AV6,BC6) -> 0.75 | BJ6: =SUM(AD6,AJ6,AQ6,AW6,BD6) -> 0 | BK6: =SUM(AX6) -> 0 | BL6: =SUM(BF6:BK6) -> 44.397263 | BR6: =SUM(BM6:BQ6) -> 0 | BX6: =SUM(BS6:BW6) -> 0 | BY6: 260.0887 | BZ6: 1333.3632 | CA6: 287.63932 | CB6: 18.25 | CE6: =SUM(BY6:CD6) -> 1899.3413 | CF6: =SUM(BM6,BS6,BY6) -> 260.0887 | CG6: =SUM(BN6,BT6,BZ6) -> 1333.3632 | CH6: =SUM(BO6,BU6,CA6) -> 287.63932 | CI6: =SUM(BP6,BV6,CB6) -> 18.25 | CJ6: =SUM(BQ6,BW6,CC6) -> 0 | CK6: =SUM(CD6) -> 0 | CL6: =SUM(CF6:CK6) -> 1899.3413 | CS6: =SUM(CM6:CR6) -> 0 | CT6: 420.6032 | CU6: 3182.3005 | CV6: 2075.4094 | CW6: 157.3433 | CX6: 15.507121 | CZ6: =SUM(CT6:CY6) -> 5851.1634 | DA6: 141.66792 | DB6: 475.62833 | DC6: 20.437368 | DD6: 8 | DG6: =SUM(DA6:DF6) -> 645.73362 | DH6: 560.63068 | DI6: 1296.9319 | DJ6: 145.61792 | DK6: 39.75 | DN6: =SUM(DH6:DM6) -> 2042.9306 | DO6: =SUM(CM6,CT6,DA6,DH6) -> 1122.9018 | DP6: =SUM(CN6,CU6,DB6,DI6) -> 4954.8607 | DQ6: =SUM(CO6,CV6,DC6,DJ6) -> 2241.4646 | DR6: =SUM(CP6,CW6,DD6,DK6) -> 205.0933 | DS6: =SUM(CQ6,CX6,DE6,DL6) -> 15.507121 | DT6: =SUM(CR6,CY6,DF6,DM6) -> 0 | DU6: =SUM(DO6:DT6) -> 8539.8276 | DV6: 662.21028 | DW6: 799.56491 | DX6: 23.680921 | DY6: 51 | EA6: =SUM(DV6:DZ6) -> 1536.4561 | EB6: 6712.9556 | EC6: 7705.9444 | ED6: 2696.7579 | EE6: 293.11933 | EF6: 27.073615 | EG6: =SUM(EB6:EF6) -> 17435.851 | EH6: 242.13755 | EI6: 521.18174 | EJ6: 131.54152 | EK6: 45.21269 | EM6: =SUM(EH6:EL6) -> 940.0735 | EN6: 410.921 | EO6: 878.84185 | EP6: 330.15524 | EQ6: 170.20434 | ER6: 57.902224 | ES6: =SUM(EN6:ER6) -> 1848.0246 | ET6: 1656.6138 | EU6: 1865.7427 | EV6: 1333.759 | EW6: 231.25167 | EY6: =SUM(ET6:EX6) -> 5087.3672 | EZ6: 505.6268 | FA6: 842.63915 | FB6: 766.79793 | FC6: 130.19324 | FE6: =SUM(EZ6:FD6) -> 2245.2571 | FF6: 98.824076 | FG6: 828.68136 | FI6: 6.25 | FK6: =SUM(FF6:FJ6) -> 933.75544 | FL6: =SUM(DV6,EB6,EH6,EN6,ET6,EZ6,FF6) -> 10289.289 | FM6: =SUM(DW6,EC6,EI6,EO6,EU6,FA6,FG6) -> 13442.596 | FN6: =SUM(DX6,ED6,EJ6,EP6,EV6,FB6,FH6) -> 5282.6926 | FO6: =SUM(DY6,EE6,EK6,EQ6,EW6,FC6,FI6) -> 927.23127 | FP6: =SUM(DZ6,EF6,EL6,ER6,EX6,FD6,FJ6) -> 84.975839 | FQ6: =SUM(FL6:FP6) -> 30026.785 | FR6: 1407.4333 | FS6: 4495.6996 | FT6: 2379.6319 | FU6: 126.18508 | FW6: =SUM(FR6:FV6) -> 8408.9498 | GC6: =SUM(FX6:GB6) -> 0 | GD6: 281.54246 | GF6: 20.784576 | GG6: 1.25 | GI6: =SUM(GD6:GH6) -> 303.57703 | GJ6: 305.78438 | GM6: 1.25 | GO6: =SUM(GJ6:GN6) -> 307.03438 | GP6: 470.87704 | GQ6: 227.6067 | GR6: 19.875041 | GS6: 6.5 | GU6: =SUM(GP6:GT6) -> 724.85878 | GV6: 531.18562 | GW6: 181.09041 | GX6: 109.56563 | GY6: 7.25 | HA6: =SUM(GV6:GZ6) -> 829.09166 | HG6: =SUM(HB6:HF6) -> 0 | HM6: =SUM(HH6:HL6) -> 0 | HN6: =SUM(FR6,FX6,GD6,GJ6,GP6,GV6,HB6,HH6) -> 2996.8228 | HO6: =SUM(FS6,FY6,GE6,GK6,GQ6,GW6,HC6,HI6) -> 4904.3967 | HP6: =SUM(HJ6,HD6,GX6,GR6,GL6,GF6,FZ6,FT6) -> 2529.8571 | HQ6: =SUM(HK6,HE6,GY6,GS6,GM6,GG6,GA6,FU6) -> 142.43508 | HR6: =SUM(HL6,HF6,GZ6,GT6,GN6,GH6,GB6,FV6) -> 0 | HS6: =SUM(HN6:HR6) -> 10573.512 | HT6: 28712.822 | HU6: 3215.0343 | HW6: 31.5 | HY6: =SUM(HT6:HX6) -> 31959.356 | HZ6: 7434.1295 | IA6: 21847.304 | IB6: 12887.348 | IC6: 5324.9293 | ID6: 854.88213 | IE6: =SUM(HZ6:ID6) -> 48348.594 | IF6: 10891.611 | IG6: 4412.9585 | IH6: 445.48254 | II6: 14.75 | IK6: =SUM(IF6:IJ6) -> 15764.802 | IL6: =SUM(HT6,HZ6,IF6) -> 47038.563 | IM6: =SUM(HU6,IA6,IG6) -> 29475.297 | IN6: =SUM(HV6,IB6,IH6) -> 13332.831 | IO6: =SUM(HW6,IC6,II6) -> 5371.1793 | IP6: =SUM(HX6,ID6,IJ6) -> 854.88213 | IQ6: =SUM(IL6:IP6) -> 96072.752 | IR6: 6167.8792 | IS6: 5272.9773 | IT6: 6052.4707 | IU6: 705.28557 | IW6: =SUM(IR6:IV6) -> 18198.613 | IX6: 21743.598 | IY6: 7721.0044 | IZ6: 231.55266 | JA6: 44.25 | JC6: =SUM(IX6:JB6) -> 29740.405 | JD6: 76375 | JE6: 52465.167 | JF6: 1926.9544 | JG6: 280.54183 | JI6: =SUM(JD6:JH6) -> 131047.66 | JJ6: =SUM(IR6,IX6,JD6) -> 104286.48 | JK6: =SUM(IS6,IY6,JE6) -> 65459.149 | JL6: =SUM(IT6,IZ6,JF6) -> 8210.9778 | JM6: =SUM(IU6,JA6,JG6) -> 1030.0774 | JN6: =SUM(IV6,JB6,JH6) -> 0 | JO6: =SUM(JJ6:JN6) -> 178986.68 | JQ6: =SUM(T6,BF6,CF6,DO6,FL6,HN6,IL6,JJ6) -> 166060.75 | JR6: =SUM(U6,BG6,CG6,DP6,FM6,HO6,IM6,JK6) -> 119812.73 | JS6: =SUM(V6,BH6,CH6,DQ6,FN6,HP6,IN6,JL6) -> 31944.156 | JT6: =SUM(W6,BI6,CI6,DR6,FO6,HQ6,IO6,JM6) -> 7703.5837 | JU6: =SUM(X6,BJ6,CJ6,DS6,FP6,HR6,IP6,JN6) -> 955.36509 | JV6: =SUM(DT6,BK6,CK6) -> 0 | JW6: =SUM(JQ6:JV6) -> 326476.59
A7: IBS=Spruce Beetle | D7: 119.0574 | E7: 0.6764011 | G7: =SUM(B7:F7) -> 119.7338 | H7: 74.270307 | I7: 5.0396915 | J7: 2.2750366 | K7: 1.25 | M7: =SUM(H7:L7) -> 82.835035 | S7: =SUM(N7:R7) -> 0 | T7: =SUM(B7,H7,N7) -> 74.270307 | U7: =SUM(C7,I7,O7) -> 5.0396915 | V7: =SUM(D7,J7,P7) -> 121.33244 | W7: =SUM(E7,K7,Q7) -> 1.9264011 | X7: =SUM(F7,L7,R7) -> 0 | Y7: =SUM(T7:X7) -> 202.56884 | Z7: 18.889621 | AC7: 0.25 | AE7: =SUM(Z7:AD7) -> 19.139621 | AF7: 34.673671 | AG7: 2.6531758 | AI7: 4.5 | AL7: =SUM(AF7:AJ7) -> 41.826846 | AM7: 47.431427 | AN7: 155.46162 | AO7: 8.9587843 | AP7: 17.841057 | AR7: =SUM(AM7:AQ7) -> 229.69289 | AS7: 1291.3469 | AY7: =SUM(AS7:AX7) -> 1291.3469 | AZ7: 64.282659 | BB7: 13.773036 | BC7: 3.25 | BE7: =SUM(AZ7:BD7) -> 81.305695 | BF7: =SUM(Z7,AF7,AM7,AS7,AZ7) -> 1456.6242 | BG7: =SUM(AA7,AG7,AN7,AT7,BA7) -> 158.1148 | BH7: =SUM(AB7,AH7,AO7,AU7,BB7) -> 22.73182 | BI7: =SUM(AC7,AI7,AP7,AV7,BC7) -> 25.841057 | BJ7: =SUM(AD7,AJ7,AQ7,AW7,BD7) -> 0 | BK7: =SUM(AX7) -> 0 | BL7: =SUM(BF7:BK7) -> 1663.3119 | BN7: 215.18591 | BP7: 0.75 | BR7: =SUM(BM7:BQ7) -> 215.93591 | BS7: 30.737964 | BT7: 22.992408 | BU7: 11.395442 | BV7: 45.780325 | BX7: =SUM(BS7:BW7) -> 110.90614 | BY7: 86.381225 | BZ7: 2088.1966 | CA7: 348.63792 | CB7: 50.014452 | CE7: =SUM(BY7:CD7) -> 2573.2302 | CF7: =SUM(BM7,BS7,BY7) -> 117.11919 | CG7: =SUM(BN7,BT7,BZ7) -> 2326.3749 | CH7: =SUM(BO7,BU7,CA7) -> 360.03337 | CI7: =SUM(BP7,BV7,CB7) -> 96.544777 | CJ7: =SUM(BQ7,BW7,CC7) -> 0 | CK7: =SUM(CD7) -> 0 | CL7: =SUM(CF7:CK7) -> 2900.0722 | CN7: 371.41062 | CO7: 900.18074 | CP7: 89.602805 | CQ7: 17.024025 | CS7: =SUM(CM7:CR7) -> 1378.2182 | CU7: 424.10741 | CV7: 2191.7841 | CW7: 513.32413 | CZ7: =SUM(CT7:CY7) -> 3129.2156 | DB7: 62.512722 | DC7: 591.25549 | DD7: 62.606302 | DE7: 7.5514633 | DG7: =SUM(DA7:DF7) -> 723.92597 | DI7: 21.937339 | DJ7: 41.924 | DN7: =SUM(DH7:DM7) -> 63.861339 | DO7: =SUM(CM7,CT7,DA7,DH7) -> 0 | DP7: =SUM(CN7,CU7,DB7,DI7) -> 879.9681 | DQ7: =SUM(CO7,CV7,DC7,DJ7) -> 3725.1443 | DR7: =SUM(CP7,CW7,DD7,DK7) -> 665.53324 | DS7: =SUM(CQ7,CX7,DE7,DL7) -> 24.575488 | DT7: =SUM(CR7,CY7,DF7,DM7) -> 0 | DU7: =SUM(DO7:DT7) -> 5295.2211 | DW7: 37.485764 | EA7: =SUM(DV7:DZ7) -> 37.485764 | EG7: =SUM(EB7:EF7) -> 0 | EI7: 61.09907 | EJ7: 124.58116 | EK7: 0.75 | EM7: =SUM(EH7:EL7) -> 186.43023 | EN7: 262.04445 | EO7: 423.83324 | EP7: 331.65884 | EQ7: 52.787083 | ES7: =SUM(EN7:ER7) -> 1070.3236 | ET7: 924.28943 | EU7: 558.3153 | EV7: 1294.4053 | EW7: 734.3019 | EX7: 233.99297 | EY7: =SUM(ET7:EX7) -> 3745.3049 | FB7: 44.131817 | FC7: 0.25 | FE7: =SUM(EZ7:FD7) -> 44.381817 | FG7: 36.449235 | FH7: 69.684707 | FI7: 0.25 | FK7: =SUM(FF7:FJ7) -> 106.38394 | FL7: =SUM(DV7,EB7,EH7,EN7,ET7,EZ7,FF7) -> 1186.3339 | FM7: =SUM(DW7,EC7,EI7,EO7,EU7,FA7,FG7) -> 1117.1826 | FN7: =SUM(DX7,ED7,EJ7,EP7,EV7,FB7,FH7) -> 1864.4618 | FO7: =SUM(DY7,EE7,EK7,EQ7,EW7,FC7,FI7) -> 788.33899 | FP7: =SUM(DZ7,EF7,EL7,ER7,EX7,FD7,FJ7) -> 233.99297 | FQ7: =SUM(FL7:FP7) -> 5190.3102 | FS7: 221.85864 | FT7: 528.01264 | FU7: 29.001238 | FW7: =SUM(FR7:FV7) -> 778.87252 | FX7: 136.75957 | FY7: 36.218406 | GC7: =SUM(FX7:GB7) -> 172.97797 | GE7: 2.9779968 | GG7: 9.5870214 | GI7: =SUM(GD7:GH7) -> 12.565018 | GJ7: 2295.7381 | GL7: 69.796791 | GM7: 2.75 | GO7: =SUM(GJ7:GN7) -> 2368.2849 | GP7: 80.569482 | GQ7: 779.80141 | GR7: 312.41522 | GS7: 112.08912 | GU7: =SUM(GP7:GT7) -> 1284.8752 | GV7: 1709.8309 | GW7: 833.41647 | GX7: 102.36602 | GY7: 3.25 | HA7: =SUM(GV7:GZ7) -> 2648.8634 | HC7: 1135.2257 | HE7: 4.5 | HG7: =SUM(HB7:HF7) -> 1139.7257 | HM7: =SUM(HH7:HL7) -> 0 | HN7: =SUM(FR7,FX7,GD7,GJ7,GP7,GV7,HB7,HH7) -> 4222.898 | HO7: =SUM(FS7,FY7,GE7,GK7,GQ7,GW7,HC7,HI7) -> 3009.4987 | HP7: =SUM(HJ7,HD7,GX7,GR7,GL7,GF7,FZ7,FT7) -> 1012.5907 | HQ7: =SUM(HK7,HE7,GY7,GS7,GM7,GG7,GA7,FU7) -> 161.17738 | HR7: =SUM(HL7,HF7,GZ7,GT7,GN7,GH7,GB7,FV7) -> 0 | HS7: =SUM(HN7:HR7) -> 8406.1648 | HT7: 11318.064 | HU7: 24534.407 | HV7: 24417.373 | HW7: 1906.7822 | HY7: =SUM(HT7:HX7) -> 62176.626 | IA7: 110.35103 | IC7: 2.5 | IE7: =SUM(HZ7:ID7) -> 112.85103 | IF7: 14718.256 | IG7: 43850.872 | IH7: 26328.358 | II7: 8870.4397 | IK7: =SUM(IF7:IJ7) -> 93767.926 | IL7: =SUM(HT7,HZ7,IF7) -> 26036.319 | IM7: =SUM(HU7,IA7,IG7) -> 68495.63 | IN7: =SUM(HV7,IB7,IH7) -> 50745.732 | IO7: =SUM(HW7,IC7,II7) -> 10779.722 | IP7: =SUM(HX7,ID7,IJ7) -> 0 | IQ7: =SUM(IL7:IP7) -> 156057.4 | IR7: 5179.2924 | IS7: 4094.5017 | IT7: 160.01493 | IU7: 5.75 | IW7: =SUM(IR7:IV7) -> 9439.5591 | IX7: 114.48611 | IY7: 1620.564 | JA7: 6 | JC7: =SUM(IX7:JB7) -> 1741.0501 | JD7: 673.77228 | JE7: 2008.7765 | JG7: 471.94133 | JI7: =SUM(JD7:JH7) -> 3154.4902 | JJ7: =SUM(IR7,IX7,JD7) -> 5967.5508 | JK7: =SUM(IS7,IY7,JE7) -> 7723.8423 | JL7: =SUM(IT7,IZ7,JF7) -> 160.01493 | JM7: =SUM(IU7,JA7,JG7) -> 483.69133 | JN7: =SUM(IV7,JB7,JH7) -> 0 | JO7: =SUM(JJ7:JN7) -> 14335.099 | JQ7: =SUM(T7,BF7,CF7,DO7,FL7,HN7,IL7,JJ7) -> 39061.116 | JR7: =SUM(U7,BG7,CG7,DP7,FM7,HO7,IM7,JK7) -> 83715.652 | JS7: =SUM(V7,BH7,CH7,DQ7,FN7,HP7,IN7,JL7) -> 58012.041 | JT7: =SUM(W7,BI7,CI7,DR7,FO7,HQ7,IO7,JM7) -> 13002.775 | JU7: =SUM(X7,BJ7,CJ7,DS7,FP7,HR7,IP7,JN7) -> 258.56846 | JV7: =SUM(DT7,BK7,CK7) -> 0 | JW7: =SUM(JQ7:JV7) -> 194050.15
A8: IBB=Western Balsam Bark Beetle | B8: 4239.4238 | C8: 285.78454 | D8: 70.626098 | E8: 4.25 | G8: =SUM(B8:F8) -> 4600.0844 | H8: 12063.843 | I8: 2857.7428 | J8: 74.440249 | K8: 13.812624 | M8: =SUM(H8:L8) -> 15009.839 | N8: 737.18117 | O8: 915.46048 | P8: 802.25533 | Q8: 7.5 | S8: =SUM(N8:R8) -> 2462.397 | T8: =SUM(B8,H8,N8) -> 17040.448 | U8: =SUM(C8,I8,O8) -> 4058.9878 | V8: =SUM(D8,J8,P8) -> 947.32168 | W8: =SUM(E8,K8,Q8) -> 25.562624 | X8: =SUM(F8,L8,R8) -> 0 | Y8: =SUM(T8:X8) -> 22072.32 | AC8: 0.75 | AE8: =SUM(Z8:AD8) -> 0.75 | AF8: 1324.3259 | AG8: 945.20938 | AH8: 35.430552 | AI8: 12.954286 | AL8: =SUM(AF8:AJ8) -> 2317.9201 | AM8: 11864.421 | AN8: 2882.6453 | AO8: 33.637869 | AP8: 8 | AR8: =SUM(AM8:AQ8) -> 14788.704 | AY8: =SUM(AS8:AX8) -> 0 | AZ8: 78.282193 | BA8: 22.67937 | BC8: 3.25 | BE8: =SUM(AZ8:BD8) -> 104.21156 | BF8: =SUM(Z8,AF8,AM8,AS8,AZ8) -> 13267.029 | BG8: =SUM(AA8,AG8,AN8,AT8,BA8) -> 3850.5341 | BH8: =SUM(AB8,AH8,AO8,AU8,BB8) -> 69.068421 | BI8: =SUM(AC8,AI8,AP8,AV8,BC8) -> 24.954286 | BJ8: =SUM(AD8,AJ8,AQ8,AW8,BD8) -> 0 | BK8: =SUM(AX8) -> 0 | BL8: =SUM(BF8:BK8) -> 17211.586 | BM8: 2978.1233 | BN8: 714.89979 | BR8: =SUM(BM8:BQ8) -> 3693.0231 | BS8: 1825.3136 | BT8: 4993.4712 | BU8: 16.671405 | BV8: 2.5 | BX8: =SUM(BS8:BW8) -> 6837.9562 | BY8: 10724.71 | BZ8: 16677.303 | CA8: 836.88969 | CB8: 6 | CE8: =SUM(BY8:CD8) -> 28244.903 | CF8: =SUM(BM8,BS8,BY8) -> 15528.147 | CG8: =SUM(BN8,BT8,BZ8) -> 22385.674 | CH8: =SUM(BO8,BU8,CA8) -> 853.5611 | CI8: =SUM(BP8,BV8,CB8) -> 8.5 | CJ8: =SUM(BQ8,BW8,CC8) -> 0 | CK8: =SUM(CD8) -> 0 | CL8: =SUM(CF8:CK8) -> 38775.882 | CM8: 98712.306 | CN8: 3667.3197 | CS8: =SUM(CM8:CR8) -> 102379.63 | CT8: 12835.968 | CU8: 344.48639 | CV8: 30.91136 | CW8: 0.5 | CZ8: =SUM(CT8:CY8) -> 13211.865 | DA8: 15778.401 | DB8: 92.947051 | DG8: =SUM(DA8:DF8) -> 15871.348 | DH8: 55686.679 | DI8: 224.68941 | DN8: =SUM(DH8:DM8) -> 55911.368 | DO8: =SUM(CM8,CT8,DA8,DH8) -> 183013.35 | DP8: =SUM(CN8,CU8,DB8,DI8) -> 4329.4426 | DQ8: =SUM(CO8,CV8,DC8,DJ8) -> 30.91136 | DR8: =SUM(CP8,CW8,DD8,DK8) -> 0.5 | DS8: =SUM(CQ8,CX8,DE8,DL8) -> 0 | DT8: =SUM(CR8,CY8,DF8,DM8) -> 0 | DU8: =SUM(DO8:DT8) -> 187374.21 | DV8: 2529.5605 | DW8: 654.12356 | DY8: 7.75 | EA8: =SUM(DV8:DZ8) -> 3191.4341 | EB8: 1670.6262 | EC8: 7.8055317 | EE8: 0.75 | EG8: =SUM(EB8:EF8) -> 1679.1817 | EH8: 1491.9268 | EI8: 521.80609 | EJ8: 96.858612 | EK8: 3.75 | EM8: =SUM(EH8:EL8) -> 2114.3415 | EN8: 3598.9409 | EO8: 2134.8108 | EP8: 494.68464 | EQ8: 3.5 | ES8: =SUM(EN8:ER8) -> 6231.9364 | ET8: 4271.9963 | EU8: 1194.4984 | EV8: 277.40753 | EW8: 9.5 | EY8: =SUM(ET8:EX8) -> 5753.4023 | EZ8: 1138.9427 | FA8: 215.02069 | FB8: 20.661036 | FC8: 3 | FE8: =SUM(EZ8:FD8) -> 1377.6245 | FF8: 641.91028 | FG8: 54.92886 | FI8: 1.5 | FK8: =SUM(FF8:FJ8) -> 698.33915 | FL8: =SUM(DV8,EB8,EH8,EN8,ET8,EZ8,FF8) -> 15343.904 | FM8: =SUM(DW8,EC8,EI8,EO8,EU8,FA8,FG8) -> 4782.994 | FN8: =SUM(DX8,ED8,EJ8,EP8,EV8,FB8,FH8) -> 889.61182 | FO8: =SUM(DY8,EE8,EK8,EQ8,EW8,FC8,FI8) -> 29.75 | FP8: =SUM(DZ8,EF8,EL8,ER8,EX8,FD8,FJ8) -> 0 | FQ8: =SUM(FL8:FP8) -> 21046.26 | FR8: 202295.36 | FS8: 9142.0133 | FT8: 264.98109 | FU8: 6.25 | FW8: =SUM(FR8:FV8) -> 211708.6 | FX8: 8302.2964 | FY8: 1847.4863 | GA8: 14.75 | GC8: =SUM(FX8:GB8) -> 10164.533 | GD8: 3966.5177 | GG8: 4.25 | GI8: =SUM(GD8:GH8) -> 3970.7677 | GJ8: 214551.73 | GK8: 3477.8489 | GM8: 8.25 | GO8: =SUM(GJ8:GN8) -> 218037.83 | GP8: 77395.786 | GQ8: 14225.074 | GR8: 253.46665 | GS8: 29.75 | GU8: =SUM(GP8:GT8) -> 91904.077 | GV8: 168990.44 | GW8: 29741.103 | GX8: 3093.9526 | GY8: 1100.1743 | HA8: =SUM(GV8:GZ8) -> 202925.67 | HB8: 75096.696 | HC8: 877.838 | HE8: 11 | HG8: =SUM(HB8:HF8) -> 75985.534 | HK8: 2.5 | HM8: =SUM(HH8:HL8) -> 2.5 | HN8: =SUM(FR8,FX8,GD8,GJ8,GP8,GV8,HB8,HH8) -> 750598.83 | HO8: =SUM(FS8,FY8,GE8,GK8,GQ8,GW8,HC8,HI8) -> 59311.363 | HP8: =SUM(HJ8,HD8,GX8,GR8,GL8,GF8,FZ8,FT8) -> 3612.4003 | HQ8: =SUM(HK8,HE8,GY8,GS8,GM8,GG8,GA8,FU8) -> 1176.9243 | HR8: =SUM(HL8,HF8,GZ8,GT8,GN8,GH8,GB8,FV8) -> 0 | HS8: =SUM(HN8:HR8) -> 814699.52 | HT8: 227401.32 | HU8: 156037.33 | HV8: 6749.1301 | HW8: 57 | HY8: =SUM(HT8:HX8) -> 390244.78 | HZ8: 11567.631 | IA8: 5024.5477 | IC8: 6.25 | IE8: =SUM(HZ8:ID8) -> 16598.428 | IF8: 439336.95 | IG8: 151426.48 | IH8: 37299.537 | II8: 1148.4619 | IK8: =SUM(IF8:IJ8) -> 629211.43 | IL8: =SUM(HT8,HZ8,IF8) -> 678305.9 | IM8: =SUM(HU8,IA8,IG8) -> 312488.35 | IN8: =SUM(HV8,IB8,IH8) -> 44048.667 | IO8: =SUM(HW8,IC8,II8) -> 1211.7119 | IP8: =SUM(HX8,ID8,IJ8) -> 0 | IQ8: =SUM(IL8:IP8) -> 1036054.6 | IR8: 114584.28 | IS8: 12565.408 | IU8: 85.75 | IW8: =SUM(IR8:IV8) -> 127235.43 | IX8: 39562.488 | IY8: 3902.4767 | JA8: 58.5 | JC8: =SUM(IX8:JB8) -> 43523.465 | JD8: 34015.896 | JE8: 7447.378 | JG8: 13.25 | JI8: =SUM(JD8:JH8) -> 41476.524 | JJ8: =SUM(IR8,IX8,JD8) -> 188162.66 | JK8: =SUM(IS8,IY8,JE8) -> 23915.263 | JL8: =SUM(IT8,IZ8,JF8) -> 0 | JM8: =SUM(IU8,JA8,JG8) -> 157.5 | JN8: =SUM(IV8,JB8,JH8) -> 0 | JO8: =SUM(JJ8:JN8) -> 212235.42 | JQ8: =SUM(T8,BF8,CF8,DO8,FL8,HN8,IL8,JJ8) -> 1861260.3 | JR8: =SUM(U8,BG8,CG8,DP8,FM8,HO8,IM8,JK8) -> 435122.61 | JS8: =SUM(V8,BH8,CH8,DQ8,FN8,HP8,IN8,JL8) -> 50451.542 | JT8: =SUM(W8,BI8,CI8,DR8,FO8,HQ8,IO8,JM8) -> 2635.4031 | JU8: =SUM(X8,BJ8,CJ8,DS8,FP8,HR8,IP8,JN8) -> 0 | JV8: =SUM(DT8,BK8,CK8) -> 0 | JW8: =SUM(JQ8:JV8) -> 2349469.8
A9: IBD=Douglas-fir Beetle | B9: 3351.1816 | C9: 214.69413 | D9: 622.61502 | E9: 83.230598 | G9: =SUM(B9:F9) -> 4271.7214 | H9: 303.03585 | I9: 44.732893 | J9: 47.000212 | K9: 68.725915 | M9: =SUM(H9:L9) -> 463.49487 | O9: 112.10951 | P9: 47.013167 | Q9: 14.5 | S9: =SUM(N9:R9) -> 173.62267 | T9: =SUM(B9,H9,N9) -> 3654.2175 | U9: =SUM(C9,I9,O9) -> 371.53653 | V9: =SUM(D9,J9,P9) -> 716.6284 | W9: =SUM(E9,K9,Q9) -> 166.45651 | X9: =SUM(F9,L9,R9) -> 0 | Y9: =SUM(T9:X9) -> 4908.8389 | Z9: 65.338625 | AA9: 169.42295 | AB9: 6.0934959 | AC9: 25.75 | AE9: =SUM(Z9:AD9) -> 266.60507 | AF9: 194.4685 | AG9: 25.396588 | AH9: 5.7560607 | AI9: 24 | AL9: =SUM(AF9:AJ9) -> 249.62115 | AN9: 246.40513 | AO9: 38.364996 | AP9: 23 | AR9: =SUM(AM9:AQ9) -> 307.77013 | AY9: =SUM(AS9:AX9) -> 0 | AZ9: 141.89569 | BA9: 143.71169 | BB9: 47.430458 | BC9: 155.71938 | BE9: =SUM(AZ9:BD9) -> 488.75722 | BF9: =SUM(Z9,AF9,AM9,AS9,AZ9) -> 401.70282 | BG9: =SUM(AA9,AG9,AN9,AT9,BA9) -> 584.93636 | BH9: =SUM(AB9,AH9,AO9,AU9,BB9) -> 97.64501 | BI9: =SUM(AC9,AI9,AP9,AV9,BC9) -> 228.46938 | BJ9: =SUM(AD9,AJ9,AQ9,AW9,BD9) -> 0 | BK9: =SUM(AX9) -> 0 | BL9: =SUM(BF9:BK9) -> 1312.7536 | BM9: 913.57038 | BN9: 4005.3119 | BO9: 183.39506 | BP9: 444.83639 | BR9: =SUM(BM9:BQ9) -> 5547.1137 | BS9: 6.3548515 | BT9: 182.59663 | BU9: 55.631471 | BV9: 56.75 | BX9: =SUM(BS9:BW9) -> 301.33295 | BY9: 638.87525 | BZ9: 23242.987 | CA9: 2891.8636 | CB9: 629.66588 | CE9: =SUM(BY9:CD9) -> 27403.392 | CF9: =SUM(BM9,BS9,BY9) -> 1558.8005 | CG9: =SUM(BN9,BT9,BZ9) -> 27430.896 | CH9: =SUM(BO9,BU9,CA9) -> 3130.8901 | CI9: =SUM(BP9,BV9,CB9) -> 1131.2523 | CJ9: =SUM(BQ9,BW9,CC9) -> 0 | CK9: =SUM(CD9) -> 0 | CL9: =SUM(CF9:CK9) -> 33251.838 | CN9: 293.86844 | CO9: 438.6589 | CP9: 274.6862 | CQ9: 2.8603068 | CS9: =SUM(CM9:CR9) -> 1010.0738 | CU9: 985.20806 | CV9: 932.59808 | CW9: 272.13828 | CX9: 57.688417 | CZ9: =SUM(CT9:CY9) -> 2247.6328 | DB9: 153.74412 | DC9: 164.24378 | DD9: 170.28614 | DE9: 11.266091 | DG9: =SUM(DA9:DF9) -> 499.54013 | DI9: 543.25353 | DJ9: 463.89727 | DK9: 396.25011 | DL9: 46.713154 | DN9: =SUM(DH9:DM9) -> 1450.1141 | DO9: =SUM(CM9,CT9,DA9,DH9) -> 0 | DP9: =SUM(CN9,CU9,DB9,DI9) -> 1976.0741 | DQ9: =SUM(CO9,CV9,DC9,DJ9) -> 1999.398 | DR9: =SUM(CP9,CW9,DD9,DK9) -> 1113.3607 | DS9: =SUM(CQ9,CX9,DE9,DL9) -> 118.52797 | DT9: =SUM(CR9,CY9,DF9,DM9) -> 0 | DU9: =SUM(DO9:DT9) -> 5207.3609 | DW9: 191.47927 | DX9: 41.012082 | DY9: 31.5 | EA9: =SUM(DV9:DZ9) -> 263.99136 | EB9: 172.91887 | EC9: 86.922289 | EE9: 13.5 | EG9: =SUM(EB9:EF9) -> 273.34116 | EH9: 17.676721 | EI9: 127.16613 | EK9: 34 | EM9: =SUM(EH9:EL9) -> 178.84285 | EN9: 54.896576 | EO9: 11.180088 | EP9: 20.023562 | EQ9: 16.920225 | ES9: =SUM(EN9:ER9) -> 103.02045 | EU9: 314.48903 | EV9: 215.71467 | EW9: 80.432149 | EY9: =SUM(ET9:EX9) -> 610.63585 | FA9: 54.27552 | FB9: 16.68761 | FC9: 19.25 | FE9: =SUM(EZ9:FD9) -> 90.213131 | FF9: 48.642795 | FG9: 64.639497 | FI9: 7.5 | FK9: =SUM(FF9:FJ9) -> 120.78229 | FL9: =SUM(DV9,EB9,EH9,EN9,ET9,EZ9,FF9) -> 294.13496 | FM9: =SUM(DW9,EC9,EI9,EO9,EU9,FA9,FG9) -> 850.15182 | FN9: =SUM(DX9,ED9,EJ9,EP9,EV9,FB9,FH9) -> 293.43793 | FO9: =SUM(DY9,EE9,EK9,EQ9,EW9,FC9,FI9) -> 203.10237 | FP9: =SUM(DZ9,EF9,EL9,ER9,EX9,FD9,FJ9) -> 0 | FQ9: =SUM(FL9:FP9) -> 1640.8271 | FW9: =SUM(FR9:FV9) -> 0 | GC9: =SUM(FX9:GB9) -> 0 | GI9: =SUM(GD9:GH9) -> 0 | GO9: =SUM(GJ9:GN9) -> 0 | GS9: 1.25 | GU9: =SUM(GP9:GT9) -> 1.25 | HA9: =SUM(GV9:GZ9) -> 0 | HG9: =SUM(HB9:HF9) -> 0 | HM9: =SUM(HH9:HL9) -> 0 | HN9: =SUM(FR9,FX9,GD9,GJ9,GP9,GV9,HB9,HH9) -> 0 | HO9: =SUM(FS9,FY9,GE9,GK9,GQ9,GW9,HC9,HI9) -> 0 | HP9: =SUM(HJ9,HD9,GX9,GR9,GL9,GF9,FZ9,FT9) -> 0 | HQ9: =SUM(HK9,HE9,GY9,GS9,GM9,GG9,GA9,FU9) -> 1.25 | HR9: =SUM(HL9,HF9,GZ9,GT9,GN9,GH9,GB9,FV9) -> 0 | HS9: =SUM(HN9:HR9) -> 1.25 | HW9: 0.25 | HY9: =SUM(HT9:HX9) -> 0.25 | IE9: =SUM(HZ9:ID9) -> 0 | IF9: 132.22809 | IG9: 630.88053 | IH9: 485.44541 | II9: 55.845333 | IK9: =SUM(IF9:IJ9) -> 1304.3994 | IL9: =SUM(HT9,HZ9,IF9) -> 132.22809 | IM9: =SUM(HU9,IA9,IG9) -> 630.88053 | IN9: =SUM(HV9,IB9,IH9) -> 485.44541 | IO9: =SUM(HW9,IC9,II9) -> 56.095333 | IP9: =SUM(HX9,ID9,IJ9) -> 0 | IQ9: =SUM(IL9:IP9) -> 1304.6494 | IW9: =SUM(IR9:IV9) -> 0 | JC9: =SUM(IX9:JB9) -> 0 | JI9: =SUM(JD9:JH9) -> 0 | JJ9: =SUM(IR9,IX9,JD9) -> 0 | JK9: =SUM(IS9,IY9,JE9) -> 0 | JL9: =SUM(IT9,IZ9,JF9) -> 0 | JM9: =SUM(IU9,JA9,JG9) -> 0 | JN9: =SUM(IV9,JB9,JH9) -> 0 | JO9: =SUM(JJ9:JN9) -> 0 | JQ9: =SUM(T9,BF9,CF9,DO9,FL9,HN9,IL9,JJ9) -> 6041.0838 | JR9: =SUM(U9,BG9,CG9,DP9,FM9,HO9,IM9,JK9) -> 31844.475 | JS9: =SUM(V9,BH9,CH9,DQ9,FN9,HP9,IN9,JL9) -> 6723.4449 | JT9: =SUM(W9,BI9,CI9,DR9,FO9,HQ9,IO9,JM9) -> 2899.9866 | JU9: =SUM(X9,BJ9,CJ9,DS9,FP9,HR9,IP9,JN9) -> 118.52797 | JV9: =SUM(DT9,BK9,CK9) -> 0 | JW9: =SUM(JQ9:JV9) -> 47627.518
A10: IBF = Fir engraver Beetle | G10: =SUM(B10:F10) -> 0 | M10: =SUM(H10:L10) -> 0 | S10: =SUM(N10:R10) -> 0 | T10: =SUM(B10,H10,N10) -> 0 | U10: =SUM(C10,I10,O10) -> 0 | V10: =SUM(D10,J10,P10) -> 0 | W10: =SUM(E10,K10,Q10) -> 0 | X10: =SUM(F10,L10,R10) -> 0 | Y10: =SUM(T10:X10) -> 0 | AE10: =SUM(Z10:AD10) -> 0 | AL10: =SUM(AF10:AJ10) -> 0 | AR10: =SUM(AM10:AQ10) -> 0 | AY10: =SUM(AS10:AX10) -> 0 | BE10: =SUM(AZ10:BD10) -> 0 | BF10: =SUM(Z10,AF10,AM10,AS10,AZ10) -> 0 | BG10: =SUM(AA10,AG10,AN10,AT10,BA10) -> 0 | BH10: =SUM(AB10,AH10,AO10,AU10,BB10) -> 0 | BI10: =SUM(AC10,AI10,AP10,AV10,BC10) -> 0 | BJ10: =SUM(AD10,AJ10,AQ10,AW10,BD10) -> 0 | BK10: =SUM(AX10) -> 0 | BL10: =SUM(BF10:BK10) -> 0 | BR10: =SUM(BM10:BQ10) -> 0 | BX10: =SUM(BS10:BW10) -> 0 | CE10: =SUM(BY10:CD10) -> 0 | CF10: =SUM(BM10,BS10,BY10) -> 0 | CG10: =SUM(BN10,BT10,BZ10) -> 0 | CH10: =SUM(BO10,BU10,CA10) -> 0 | CI10: =SUM(BP10,BV10,CB10) -> 0 | CJ10: =SUM(BQ10,BW10,CC10) -> 0 | CK10: =SUM(CD10) -> 0 | CL10: =SUM(CF10:CK10) -> 0 | CS10: =SUM(CM10:CR10) -> 0 | CZ10: =SUM(CT10:CY10) -> 0 | DG10: =SUM(DA10:DF10) -> 0 | DN10: =SUM(DH10:DM10) -> 0 | DO10: =SUM(CM10,CT10,DA10,DH10) -> 0 | DP10: =SUM(CN10,CU10,DB10,DI10) -> 0 | DQ10: =SUM(CO10,CV10,DC10,DJ10) -> 0 | DR10: =SUM(CP10,CW10,DD10,DK10) -> 0 | DS10: =SUM(CQ10,CX10,DE10,DL10) -> 0 | DT10: =SUM(CR10,CY10,DF10,DM10) -> 0 | DU10: =SUM(DO10:DT10) -> 0 | EA10: =SUM(DV10:DZ10) -> 0 | EG10: =SUM(EB10:EF10) -> 0 | EM10: =SUM(EH10:EL10) -> 0 | ES10: =SUM(EN10:ER10) -> 0 | EY10: =SUM(ET10:EX10) -> 0 | FE10: =SUM(EZ10:FD10) -> 0 | FK10: =SUM(FF10:FJ10) -> 0 | FL10: =SUM(DV10,EB10,EH10,EN10,ET10,EZ10,FF10) -> 0 | FM10: =SUM(DW10,EC10,EI10,EO10,EU10,FA10,FG10) -> 0 | FN10: =SUM(DX10,ED10,EJ10,EP10,EV10,FB10,FH10) -> 0 | FO10: =SUM(DY10,EE10,EK10,EQ10,EW10,FC10,FI10) -> 0 | FP10: =SUM(DZ10,EF10,EL10,ER10,EX10,FD10,FJ10) -> 0 | FQ10: =SUM(FL10:FP10) -> 0 | FW10: =SUM(FR10:FV10) -> 0 | GC10: =SUM(FX10:GB10) -> 0 | GI10: =SUM(GD10:GH10) -> 0 | GO10: =SUM(GJ10:GN10) -> 0 | GU10: =SUM(GP10:GT10) -> 0 | HA10: =SUM(GV10:GZ10) -> 0 | HG10: =SUM(HB10:HF10) -> 0 | HM10: =SUM(HH10:HL10) -> 0 | HN10: =SUM(FR10,FX10,GD10,GJ10,GP10,GV10,HB10,HH10) -> 0 | HO10: =SUM(FS10,FY10,GE10,GK10,GQ10,GW10,HC10,HI10) -> 0 | HP10: =SUM(HJ10,HD10,GX10,GR10,GL10,GF10,FZ10,FT10) -> 0 | HQ10: =SUM(HK10,HE10,GY10,GS10,GM10,GG10,GA10,FU10) -> 0 | HR10: =SUM(HL10,HF10,GZ10,GT10,GN10,GH10,GB10,FV10) -> 0 | HS10: =SUM(HN10:HR10) -> 0 | HY10: =SUM(HT10:HX10) -> 0 | IE10: =SUM(HZ10:ID10) -> 0 | IK10: =SUM(IF10:IJ10) -> 0 | IL10: =SUM(HT10,HZ10,IF10) -> 0 | IM10: =SUM(HU10,IA10,IG10) -> 0 | IN10: =SUM(HV10,IB10,IH10) -> 0 | IO10: =SUM(HW10,IC10,II10) -> 0 | IP10: =SUM(HX10,ID10,IJ10) -> 0 | IQ10: =SUM(IL10:IP10) -> 0 | IW10: =SUM(IR10:IV10) -> 0 | JC10: =SUM(IX10:JB10) -> 0 | JI10: =SUM(JD10:JH10) -> 0 | JJ10: =SUM(IR10,IX10,JD10) -> 0 | JK10: =SUM(IS10,IY10,JE10) -> 0 | JL10: =SUM(IT10,IZ10,JF10) -> 0 | JM10: =SUM(IU10,JA10,JG10) -> 0 | JN10: =SUM(IV10,JB10,JH10) -> 0 | JO10: =SUM(JJ10:JN10) -> 0 | JQ10: =SUM(T10,BF10,CF10,DO10,FL10,HN10,IL10,JJ10) -> 0 | JR10: =SUM(U10,BG10,CG10,DP10,FM10,HO10,IM10,JK10) -> 0 | JS10: =SUM(V10,BH10,CH10,DQ10,FN10,HP10,IN10,JL10) -> 0 | JT10: =SUM(W10,BI10,CI10,DR10,FO10,HQ10,IO10,JM10) -> 0 | JU10: =SUM(X10,BJ10,CJ10,DS10,FP10,HR10,IP10,JN10) -> 0 | JV10: =SUM(DT10,BK10,CK10) -> 0 | JW10: =SUM(JQ10:JV10) -> 0
A11: IBP = Twig Beetle | G11: =SUM(B11:F11) -> 0 | M11: =SUM(H11:L11) -> 0 | S11: =SUM(N11:R11) -> 0 | T11: =SUM(B11,H11,N11) -> 0 | U11: =SUM(C11,I11,O11) -> 0 | V11: =SUM(D11,J11,P11) -> 0 | W11: =SUM(E11,K11,Q11) -> 0 | X11: =SUM(F11,L11,R11) -> 0 | Y11: =SUM(T11:X11) -> 0 | AE11: =SUM(Z11:AD11) -> 0 | AL11: =SUM(AF11:AJ11) -> 0 | AR11: =SUM(AM11:AQ11) -> 0 | AY11: =SUM(AS11:AX11) -> 0 | BE11: =SUM(AZ11:BD11) -> 0 | BF11: =SUM(Z11,AF11,AM11,AS11,AZ11) -> 0 | BG11: =SUM(AA11,AG11,AN11,AT11,BA11) -> 0 | BH11: =SUM(AB11,AH11,AO11,AU11,BB11) -> 0 | BI11: =SUM(AC11,AI11,AP11,AV11,BC11) -> 0 | BJ11: =SUM(AD11,AJ11,AQ11,AW11,BD11) -> 0 | BK11: =SUM(AX11) -> 0 | BL11: =SUM(BF11:BK11) -> 0 | BR11: =SUM(BM11:BQ11) -> 0 | BX11: =SUM(BS11:BW11) -> 0 | CE11: =SUM(BY11:CD11) -> 0 | CF11: =SUM(BM11,BS11,BY11) -> 0 | CG11: =SUM(BN11,BT11,BZ11) -> 0 | CH11: =SUM(BO11,BU11,CA11) -> 0 | CI11: =SUM(BP11,BV11,CB11) -> 0 | CJ11: =SUM(BQ11,BW11,CC11) -> 0 | CK11: =SUM(CD11) -> 0 | CL11: =SUM(CF11:CK11) -> 0 | CS11: =SUM(CM11:CR11) -> 0 | CZ11: =SUM(CT11:CY11) -> 0 | DG11: =SUM(DA11:DF11) -> 0 | DN11: =SUM(DH11:DM11) -> 0 | DO11: =SUM(CM11,CT11,DA11,DH11) -> 0 | DP11: =SUM(CN11,CU11,DB11,DI11) -> 0 | DQ11: =SUM(CO11,CV11,DC11,DJ11) -> 0 | DR11: =SUM(CP11,CW11,DD11,DK11) -> 0 | DS11: =SUM(CQ11,CX11,DE11,DL11) -> 0 | DT11: =SUM(CR11,CY11,DF11,DM11) -> 0 | DU11: =SUM(DO11:DT11) -> 0 | EA11: =SUM(DV11:DZ11) -> 0 | EG11: =SUM(EB11:EF11) -> 0 | EM11: =SUM(EH11:EL11) -> 0 | ES11: =SUM(EN11:ER11) -> 0 | EY11: =SUM(ET11:EX11) -> 0 | FE11: =SUM(EZ11:FD11) -> 0 | FK11: =SUM(FF11:FJ11) -> 0 | FL11: =SUM(DV11,EB11,EH11,EN11,ET11,EZ11,FF11) -> 0 | FM11: =SUM(DW11,EC11,EI11,EO11,EU11,FA11,FG11) -> 0 | FN11: =SUM(DX11,ED11,EJ11,EP11,EV11,FB11,FH11) -> 0 | FO11: =SUM(DY11,EE11,EK11,EQ11,EW11,FC11,FI11) -> 0 | FP11: =SUM(DZ11,EF11,EL11,ER11,EX11,FD11,FJ11) -> 0 | FQ11: =SUM(FL11:FP11) -> 0 | FW11: =SUM(FR11:FV11) -> 0 | GC11: =SUM(FX11:GB11) -> 0 | GI11: =SUM(GD11:GH11) -> 0 | GO11: =SUM(GJ11:GN11) -> 0 | GU11: =SUM(GP11:GT11) -> 0 | HA11: =SUM(GV11:GZ11) -> 0 | HG11: =SUM(HB11:HF11) -> 0 | HM11: =SUM(HH11:HL11) -> 0 | HN11: =SUM(FR11,FX11,GD11,GJ11,GP11,GV11,HB11,HH11) -> 0 | HO11: =SUM(FS11,FY11,GE11,GK11,GQ11,GW11,HC11,HI11) -> 0 | HP11: =SUM(HJ11,HD11,GX11,GR11,GL11,GF11,FZ11,FT11) -> 0 | HQ11: =SUM(HK11,HE11,GY11,GS11,GM11,GG11,GA11,FU11) -> 0 | HR11: =SUM(HL11,HF11,GZ11,GT11,GN11,GH11,GB11,FV11) -> 0 | HS11: =SUM(HN11:HR11) -> 0 | HY11: =SUM(HT11:HX11) -> 0 | IE11: =SUM(HZ11:ID11) -> 0 | IK11: =SUM(IF11:IJ11) -> 0 | IL11: =SUM(HT11,HZ11,IF11) -> 0 | IM11: =SUM(HU11,IA11,IG11) -> 0 | IN11: =SUM(HV11,IB11,IH11) -> 0 | IO11: =SUM(HW11,IC11,II11) -> 0 | IP11: =SUM(HX11,ID11,IJ11) -> 0 | IQ11: =SUM(IL11:IP11) -> 0 | IW11: =SUM(IR11:IV11) -> 0 | JC11: =SUM(IX11:JB11) -> 0 | JI11: =SUM(JD11:JH11) -> 0 | JJ11: =SUM(IR11,IX11,JD11) -> 0 | JK11: =SUM(IS11,IY11,JE11) -> 0 | JL11: =SUM(IT11,IZ11,JF11) -> 0 | JM11: =SUM(IU11,JA11,JG11) -> 0 | JN11: =SUM(IV11,JB11,JH11) -> 0 | JO11: =SUM(JJ11:JN11) -> 0 | JQ11: =SUM(T11,BF11,CF11,DO11,FL11,HN11,IL11,JJ11) -> 0 | JR11: =SUM(U11,BG11,CG11,DP11,FM11,HO11,IM11,JK11) -> 0 | JS11: =SUM(V11,BH11,CH11,DQ11,FN11,HP11,IN11,JL11) -> 0 | JT11: =SUM(W11,BI11,CI11,DR11,FO11,HQ11,IO11,JM11) -> 0 | JU11: =SUM(X11,BJ11,CJ11,DS11,FP11,HR11,IP11,JN11) -> 0 | JV11: =SUM(DT11,BK11,CK11) -> 0 | JW11: =SUM(JQ11:JV11) -> 0
A12: IBI=Engraver Beetle (Ips species) | G12: =SUM(B12:F12) -> 0 | M12: =SUM(H12:L12) -> 0 | S12: =SUM(N12:R12) -> 0 | T12: =SUM(B12,H12,N12) -> 0 | U12: =SUM(C12,I12,O12) -> 0 | V12: =SUM(D12,J12,P12) -> 0 | W12: =SUM(E12,K12,Q12) -> 0 | X12: =SUM(F12,L12,R12) -> 0 | Y12: =SUM(T12:X12) -> 0 | AE12: =SUM(Z12:AD12) -> 0 | AL12: =SUM(AF12:AJ12) -> 0 | AR12: =SUM(AM12:AQ12) -> 0 | AY12: =SUM(AS12:AX12) -> 0 | BE12: =SUM(AZ12:BD12) -> 0 | BF12: =SUM(Z12,AF12,AM12,AS12,AZ12) -> 0 | BG12: =SUM(AA12,AG12,AN12,AT12,BA12) -> 0 | BH12: =SUM(AB12,AH12,AO12,AU12,BB12) -> 0 | BI12: =SUM(AC12,AI12,AP12,AV12,BC12) -> 0 | BJ12: =SUM(AD12,AJ12,AQ12,AW12,BD12) -> 0 | BK12: =SUM(AX12) -> 0 | BL12: =SUM(BF12:BK12) -> 0 | BR12: =SUM(BM12:BQ12) -> 0 | BX12: =SUM(BS12:BW12) -> 0 | CE12: =SUM(BY12:CD12) -> 0 | CF12: =SUM(BM12,BS12,BY12) -> 0 | CG12: =SUM(BN12,BT12,BZ12) -> 0 | CH12: =SUM(BO12,BU12,CA12) -> 0 | CI12: =SUM(BP12,BV12,CB12) -> 0 | CJ12: =SUM(BQ12,BW12,CC12) -> 0 | CK12: =SUM(CD12) -> 0 | CL12: =SUM(CF12:CK12) -> 0 | CS12: =SUM(CM12:CR12) -> 0 | CZ12: =SUM(CT12:CY12) -> 0 | DG12: =SUM(DA12:DF12) -> 0 | DN12: =SUM(DH12:DM12) -> 0 | DO12: =SUM(CM12,CT12,DA12,DH12) -> 0 | DP12: =SUM(CN12,CU12,DB12,DI12) -> 0 | DQ12: =SUM(CO12,CV12,DC12,DJ12) -> 0 | DR12: =SUM(CP12,CW12,DD12,DK12) -> 0 | DS12: =SUM(CQ12,CX12,DE12,DL12) -> 0 | DT12: =SUM(CR12,CY12,DF12,DM12) -> 0 | DU12: =SUM(DO12:DT12) -> 0 | EA12: =SUM(DV12:DZ12) -> 0 | EG12: =SUM(EB12:EF12) -> 0 | EM12: =SUM(EH12:EL12) -> 0 | ES12: =SUM(EN12:ER12) -> 0 | EY12: =SUM(ET12:EX12) -> 0 | FE12: =SUM(EZ12:FD12) -> 0 | FK12: =SUM(FF12:FJ12) -> 0 | FL12: =SUM(DV12,EB12,EH12,EN12,ET12,EZ12,FF12) -> 0 | FM12: =SUM(DW12,EC12,EI12,EO12,EU12,FA12,FG12) -> 0 | FN12: =SUM(DX12,ED12,EJ12,EP12,EV12,FB12,FH12) -> 0 | FO12: =SUM(DY12,EE12,EK12,EQ12,EW12,FC12,FI12) -> 0 | FP12: =SUM(DZ12,EF12,EL12,ER12,EX12,FD12,FJ12) -> 0 | FQ12: =SUM(FL12:FP12) -> 0 | FW12: =SUM(FR12:FV12) -> 0 | GC12: =SUM(FX12:GB12) -> 0 | GI12: =SUM(GD12:GH12) -> 0 | GO12: =SUM(GJ12:GN12) -> 0 | GU12: =SUM(GP12:GT12) -> 0 | HA12: =SUM(GV12:GZ12) -> 0 | HG12: =SUM(HB12:HF12) -> 0 | HM12: =SUM(HH12:HL12) -> 0 | HN12: =SUM(FR12,FX12,GD12,GJ12,GP12,GV12,HB12,HH12) -> 0 | HO12: =SUM(FS12,FY12,GE12,GK12,GQ12,GW12,HC12,HI12) -> 0 | HP12: =SUM(HJ12,HD12,GX12,GR12,GL12,GF12,FZ12,FT12) -> 0 | HQ12: =SUM(HK12,HE12,GY12,GS12,GM12,GG12,GA12,FU12) -> 0 | HR12: =SUM(HL12,HF12,GZ12,GT12,GN12,GH12,GB12,FV12) -> 0 | HS12: =SUM(HN12:HR12) -> 0 | HY12: =SUM(HT12:HX12) -> 0 | IE12: =SUM(HZ12:ID12) -> 0 | IK12: =SUM(IF12:IJ12) -> 0 | IL12: =SUM(HT12,HZ12,IF12) -> 0 | IM12: =SUM(HU12,IA12,IG12) -> 0 | IN12: =SUM(HV12,IB12,IH12) -> 0 | IO12: =SUM(HW12,IC12,II12) -> 0 | IP12: =SUM(HX12,ID12,IJ12) -> 0 | IQ12: =SUM(IL12:IP12) -> 0 | IW12: =SUM(IR12:IV12) -> 0 | JC12: =SUM(IX12:JB12) -> 0 | JI12: =SUM(JD12:JH12) -> 0 | JJ12: =SUM(IR12,IX12,JD12) -> 0 | JK12: =SUM(IS12,IY12,JE12) -> 0 | JL12: =SUM(IT12,IZ12,JF12) -> 0 | JM12: =SUM(IU12,JA12,JG12) -> 0 | JN12: =SUM(IV12,JB12,JH12) -> 0 | JO12: =SUM(JJ12:JN12) -> 0 | JQ12: =SUM(T12,BF12,CF12,DO12,FL12,HN12,IL12,JJ12) -> 0 | JR12: =SUM(U12,BG12,CG12,DP12,FM12,HO12,IM12,JK12) -> 0 | JS12: =SUM(V12,BH12,CH12,DQ12,FN12,HP12,IN12,JL12) -> 0 | JT12: =SUM(W12,BI12,CI12,DR12,FO12,HQ12,IO12,JM12) -> 0 | JU12: =SUM(X12,BJ12,CJ12,DS12,FP12,HR12,IP12,JN12) -> 0 | JV12: =SUM(DT12,BK12,CK12) -> 0 | JW12: =SUM(JQ12:JV12) -> 0
A13: IBW=Western Pine Beetle | G13: =SUM(B13:F13) -> 0 | M13: =SUM(H13:L13) -> 0 | S13: =SUM(N13:R13) -> 0 | T13: =SUM(B13,H13,N13) -> 0 | U13: =SUM(C13,I13,O13) -> 0 | V13: =SUM(D13,J13,P13) -> 0 | W13: =SUM(E13,K13,Q13) -> 0 | X13: =SUM(F13,L13,R13) -> 0 | Y13: =SUM(T13:X13) -> 0 | AE13: =SUM(Z13:AD13) -> 0 | AL13: =SUM(AF13:AJ13) -> 0 | AR13: =SUM(AM13:AQ13) -> 0 | AY13: =SUM(AS13:AX13) -> 0 | BE13: =SUM(AZ13:BD13) -> 0 | BF13: =SUM(Z13,AF13,AM13,AS13,AZ13) -> 0 | BG13: =SUM(AA13,AG13,AN13,AT13,BA13) -> 0 | BH13: =SUM(AB13,AH13,AO13,AU13,BB13) -> 0 | BI13: =SUM(AC13,AI13,AP13,AV13,BC13) -> 0 | BJ13: =SUM(AD13,AJ13,AQ13,AW13,BD13) -> 0 | BK13: =SUM(AX13) -> 0 | BL13: =SUM(BF13:BK13) -> 0 | BR13: =SUM(BM13:BQ13) -> 0 | BX13: =SUM(BS13:BW13) -> 0 | CE13: =SUM(BY13:CD13) -> 0 | CF13: =SUM(BM13,BS13,BY13) -> 0 | CG13: =SUM(BN13,BT13,BZ13) -> 0 | CH13: =SUM(BO13,BU13,CA13) -> 0 | CI13: =SUM(BP13,BV13,CB13) -> 0 | CJ13: =SUM(BQ13,BW13,CC13) -> 0 | CK13: =SUM(CD13) -> 0 | CL13: =SUM(CF13:CK13) -> 0 | CS13: =SUM(CM13:CR13) -> 0 | CZ13: =SUM(CT13:CY13) -> 0 | DG13: =SUM(DA13:DF13) -> 0 | DN13: =SUM(DH13:DM13) -> 0 | DO13: =SUM(CM13,CT13,DA13,DH13) -> 0 | DP13: =SUM(CN13,CU13,DB13,DI13) -> 0 | DQ13: =SUM(CO13,CV13,DC13,DJ13) -> 0 | DR13: =SUM(CP13,CW13,DD13,DK13) -> 0 | DS13: =SUM(CQ13,CX13,DE13,DL13) -> 0 | DT13: =SUM(CR13,CY13,DF13,DM13) -> 0 | DU13: =SUM(DO13:DT13) -> 0 | EA13: =SUM(DV13:DZ13) -> 0 | EG13: =SUM(EB13:EF13) -> 0 | EM13: =SUM(EH13:EL13) -> 0 | ES13: =SUM(EN13:ER13) -> 0 | EY13: =SUM(ET13:EX13) -> 0 | FE13: =SUM(EZ13:FD13) -> 0 | FK13: =SUM(FF13:FJ13) -> 0 | FL13: =SUM(DV13,EB13,EH13,EN13,ET13,EZ13,FF13) -> 0 | FM13: =SUM(DW13,EC13,EI13,EO13,EU13,FA13,FG13) -> 0 | FN13: =SUM(DX13,ED13,EJ13,EP13,EV13,FB13,FH13) -> 0 | FO13: =SUM(DY13,EE13,EK13,EQ13,EW13,FC13,FI13) -> 0 | FP13: =SUM(DZ13,EF13,EL13,ER13,EX13,FD13,FJ13) -> 0 | FQ13: =SUM(FL13:FP13) -> 0 | FW13: =SUM(FR13:FV13) -> 0 | GC13: =SUM(FX13:GB13) -> 0 | GI13: =SUM(GD13:GH13) -> 0 | GO13: =SUM(GJ13:GN13) -> 0 | GU13: =SUM(GP13:GT13) -> 0 | HA13: =SUM(GV13:GZ13) -> 0 | HG13: =SUM(HB13:HF13) -> 0 | HM13: =SUM(HH13:HL13) -> 0 | HN13: =SUM(FR13,FX13,GD13,GJ13,GP13,GV13,HB13,HH13) -> 0 | HO13: =SUM(FS13,FY13,GE13,GK13,GQ13,GW13,HC13,HI13) -> 0 | HP13: =SUM(HJ13,HD13,GX13,GR13,GL13,GF13,FZ13,FT13) -> 0 | HQ13: =SUM(HK13,HE13,GY13,GS13,GM13,GG13,GA13,FU13) -> 0 | HR13: =SUM(HL13,HF13,GZ13,GT13,GN13,GH13,GB13,FV13) -> 0 | HS13: =SUM(HN13:HR13) -> 0 | HY13: =SUM(HT13:HX13) -> 0 | IE13: =SUM(HZ13:ID13) -> 0 | IK13: =SUM(IF13:IJ13) -> 0 | IL13: =SUM(HT13,HZ13,IF13) -> 0 | IM13: =SUM(HU13,IA13,IG13) -> 0 | IN13: =SUM(HV13,IB13,IH13) -> 0 | IO13: =SUM(HW13,IC13,II13) -> 0 | IP13: =SUM(HX13,ID13,IJ13) -> 0 | IQ13: =SUM(IL13:IP13) -> 0 | IW13: =SUM(IR13:IV13) -> 0 | JC13: =SUM(IX13:JB13) -> 0 | JI13: =SUM(JD13:JH13) -> 0 | JJ13: =SUM(IR13,IX13,JD13) -> 0 | JK13: =SUM(IS13,IY13,JE13) -> 0 | JL13: =SUM(IT13,IZ13,JF13) -> 0 | JM13: =SUM(IU13,JA13,JG13) -> 0 | JN13: =SUM(IV13,JB13,JH13) -> 0 | JO13: =SUM(JJ13:JN13) -> 0 | JQ13: =SUM(T13,BF13,CF13,DO13,FL13,HN13,IL13,JJ13) -> 0 | JR13: =SUM(U13,BG13,CG13,DP13,FM13,HO13,IM13,JK13) -> 0 | JS13: =SUM(V13,BH13,CH13,DQ13,FN13,HP13,IN13,JL13) -> 0 | JT13: =SUM(W13,BI13,CI13,DR13,FO13,HQ13,IO13,JM13) -> 0 | JU13: =SUM(X13,BJ13,CJ13,DS13,FP13,HR13,IP13,JN13) -> 0 | JV13: =SUM(DT13,BK13,CK13) -> 0 | JW13: =SUM(JQ13:JV13) -> 0
A14: IBL=Lodgepole Pine Beetle | G14: =SUM(B14:F14) -> 0 | M14: =SUM(H14:L14) -> 0 | S14: =SUM(N14:R14) -> 0 | T14: =SUM(B14,H14,N14) -> 0 | U14: =SUM(C14,I14,O14) -> 0 | V14: =SUM(D14,J14,P14) -> 0 | W14: =SUM(E14,K14,Q14) -> 0 | X14: =SUM(F14,L14,R14) -> 0 | Y14: =SUM(T14:X14) -> 0 | AE14: =SUM(Z14:AD14) -> 0 | AL14: =SUM(AF14:AK14) -> 0 | AR14: =SUM(AM14:AQ14) -> 0 | AY14: =SUM(AS14:AX14) -> 0 | BE14: =SUM(AZ14:BD14) -> 0 | BF14: =SUM(Z14,AF14,AM14,AS14,AZ14) -> 0 | BG14: =SUM(AA14,AG14,AN14,AT14,BA14) -> 0 | BH14: =SUM(AB14,AH14,AO14,AU14,BB14) -> 0 | BI14: =SUM(AC14,AI14,AP14,AV14,BC14) -> 0 | BJ14: =SUM(AD14,AJ14,AQ14,AW14,BD14) -> 0 | BK14: =SUM(AX14) -> 0 | BL14: =SUM(BF14:BK14) -> 0 | BR14: =SUM(BM14:BQ14) -> 0 | BX14: =SUM(BS14:BW14) -> 0 | CE14: =SUM(BY14:CD14) -> 0 | CF14: =SUM(BM14,BS14,BY14) -> 0 | CG14: =SUM(BN14,BT14,BZ14) -> 0 | CH14: =SUM(BO14,BU14,CA14) -> 0 | CI14: =SUM(BP14,BV14,CB14) -> 0 | CJ14: =SUM(BQ14,BW14,CC14) -> 0 | CK14: =SUM(CD14) -> 0 | CL14: =SUM(CF14:CK14) -> 0 | CS14: =SUM(CM14:CR14) -> 0 | CZ14: =SUM(CT14:CY14) -> 0 | DG14: =SUM(DA14:DF14) -> 0 | DN14: =SUM(DH14:DM14) -> 0 | DO14: =SUM(CM14,CT14,DA14,DH14) -> 0 | DP14: =SUM(CN14,CU14,DB14,DI14) -> 0 | DQ14: =SUM(CO14,CV14,DC14,DJ14) -> 0 | DR14: =SUM(CP14,CW14,DD14,DK14) -> 0 | DS14: =SUM(CQ14,CX14,DE14,DL14) -> 0 | DT14: =SUM(CR14,CY14,DF14,DM14) -> 0 | DU14: =SUM(DO14:DT14) -> 0 | EA14: =SUM(DV14:DZ14) -> 0 | EG14: =SUM(EB14:EF14) -> 0 | EM14: =SUM(EH14:EL14) -> 0 | ES14: =SUM(EN14:ER14) -> 0 | EY14: =SUM(ET14:EX14) -> 0 | FE14: =SUM(EZ14:FD14) -> 0 | FK14: =SUM(FF14:FJ14) -> 0 | FL14: =SUM(DV14,EB14,EH14,EN14,ET14,EZ14,FF14) -> 0 | FM14: =SUM(DW14,EC14,EI14,EO14,EU14,FA14,FG14) -> 0 | FN14: =SUM(DX14,ED14,EJ14,EP14,EV14,FB14,FH14) -> 0 | FO14: =SUM(DY14,EE14,EK14,EQ14,EW14,FC14,FI14) -> 0 | FP14: =SUM(DZ14,EF14,EL14,ER14,EX14,FD14,FJ14) -> 0 | FQ14: =SUM(FL14:FP14) -> 0 | FW14: =SUM(FR14:FV14) -> 0 | GC14: =SUM(FX14:GB14) -> 0 | GI14: =SUM(GD14:GH14) -> 0 | GO14: =SUM(GJ14:GN14) -> 0 | GU14: =SUM(GP14:GT14) -> 0 | HA14: =SUM(GV14:GZ14) -> 0 | HG14: =SUM(HB14:HF14) -> 0 | HM14: =SUM(HH14:HL14) -> 0 | HN14: =SUM(FR14,FX14,GD14,GJ14,GP14,GV14,HB14,HH14) -> 0 | HO14: =SUM(FS14,FY14,GE14,GK14,GQ14,GW14,HC14,HI14) -> 0 | HP14: =SUM(HJ14,HD14,GX14,GR14,GL14,GF14,FZ14,FT14) -> 0 | HQ14: =SUM(HK14,HE14,GY14,GS14,GM14,GG14,GA14,FU14) -> 0 | HR14: =SUM(HL14,HF14,GZ14,GT14,GN14,GH14,GB14,FV14) -> 0 | HS14: =SUM(HN14:HR14) -> 0 | HY14: =SUM(HT14:HX14) -> 0 | IE14: =SUM(HZ14:ID14) -> 0 | IK14: =SUM(IF14:IJ14) -> 0 | IL14: =SUM(HT14,HZ14,IF14) -> 0 | IM14: =SUM(HU14,IA14,IG14) -> 0 | IN14: =SUM(HV14,IB14,IH14) -> 0 | IO14: =SUM(HW14,IC14,II14) -> 0 | IP14: =SUM(HX14,ID14,IJ14) -> 0 | IQ14: =SUM(IL14:IP14) -> 0 | IW14: =SUM(IR14:IV14) -> 0 | JC14: =SUM(IX14:JB14) -> 0 | JI14: =SUM(JD14:JH14) -> 0 | JJ14: =SUM(IR14,IX14,JD14) -> 0 | JK14: =SUM(IS14,IY14,JE14) -> 0 | JL14: =SUM(IT14,IZ14,JF14) -> 0 | JM14: =SUM(IU14,JA14,JG14) -> 0 | JN14: =SUM(IV14,JB14,JH14) -> 0 | JO14: =SUM(JJ14:JN14) -> 0 | JQ14: =SUM(T14,BF14,CF14,DO14,FL14,HN14,IL14,JJ14) -> 0 | JR14: =SUM(U14,BG14,CG14,DP14,FM14,HO14,IM14,JK14) -> 0 | JS14: =SUM(V14,BH14,CH14,DQ14,FN14,HP14,IN14,JL14) -> 0 | JT14: =SUM(W14,BI14,CI14,DR14,FO14,HQ14,IO14,JM14) -> 0 | JU14: =SUM(X14,BJ14,CJ14,DS14,FP14,HR14,IP14,JN14) -> 0 | JV14: =SUM(DT14,BK14,CK14) -> 0 | JW14: =SUM(JQ14:JV14) -> 0
A15: IBT=Red Turpentine Beetle | G15: =SUM(B15:F15) -> 0 | M15: =SUM(H15:L15) -> 0 | S15: =SUM(N15:R15) -> 0 | T15: =SUM(B15,H15,N15) -> 0 | U15: =SUM(C15,I15,O15) -> 0 | V15: =SUM(D15,J15,P15) -> 0 | W15: =SUM(E15,K15,Q15) -> 0 | X15: =SUM(F15,L15,R15) -> 0 | Y15: =SUM(T15:X15) -> 0 | AE15: =SUM(Z15:AD15) -> 0 | AL15: =SUM(AF15:AK15) -> 0 | AR15: =SUM(AM15:AQ15) -> 0 | AY15: =SUM(AS15:AX15) -> 0 | BE15: =SUM(AZ15:BD15) -> 0 | BF15: =SUM(Z15,AF15,AM15,AS15,AZ15) -> 0 | BG15: =SUM(AA15,AG15,AN15,AT15,BA15) -> 0 | BH15: =SUM(AB15,AH15,AO15,AU15,BB15) -> 0 | BI15: =SUM(AC15,AI15,AP15,AV15,BC15) -> 0 | BJ15: =SUM(AD15,AJ15,AQ15,AW15,BD15) -> 0 | BK15: =SUM(AX15) -> 0 | BL15: =SUM(BF15:BK15) -> 0 | BR15: =SUM(BM15:BQ15) -> 0 | BX15: =SUM(BS15:BW15) -> 0 | CE15: =SUM(BY15:CD15) -> 0 | CF15: =SUM(BM15,BS15,BY15) -> 0 | CG15: =SUM(BN15,BT15,BZ15) -> 0 | CH15: =SUM(BO15,BU15,CA15) -> 0 | CI15: =SUM(BP15,BV15,CB15) -> 0 | CJ15: =SUM(BQ15,BW15,CC15) -> 0 | CK15: =SUM(CD15) -> 0 | CL15: =SUM(CF15:CK15) -> 0 | CS15: =SUM(CM15:CR15) -> 0 | CZ15: =SUM(CT15:CY15) -> 0 | DG15: =SUM(DA15:DF15) -> 0 | DN15: =SUM(DH15:DM15) -> 0 | DO15: =SUM(CM15,CT15,DA15,DH15) -> 0 | DP15: =SUM(CN15,CU15,DB15,DI15) -> 0 | DQ15: =SUM(CO15,CV15,DC15,DJ15) -> 0 | DR15: =SUM(CP15,CW15,DD15,DK15) -> 0 | DS15: =SUM(CQ15,CX15,DE15,DL15) -> 0 | DT15: =SUM(CR15,CY15,DF15,DM15) -> 0 | DU15: =SUM(DO15:DT15) -> 0 | EA15: =SUM(DV15:DZ15) -> 0 | EG15: =SUM(EB15:EF15) -> 0 | EM15: =SUM(EH15:EL15) -> 0 | ES15: =SUM(EN15:ER15) -> 0 | EY15: =SUM(ET15:EX15) -> 0 | FE15: =SUM(EZ15:FD15) -> 0 | FK15: =SUM(FF15:FJ15) -> 0 | FL15: =SUM(DV15,EB15,EH15,EN15,ET15,EZ15,FF15) -> 0 | FM15: =SUM(DW15,EC15,EI15,EO15,EU15,FA15,FG15) -> 0 | FN15: =SUM(DX15,ED15,EJ15,EP15,EV15,FB15,FH15) -> 0 | FO15: =SUM(DY15,EE15,EK15,EQ15,EW15,FC15,FI15) -> 0 | FP15: =SUM(DZ15,EF15,EL15,ER15,EX15,FD15,FJ15) -> 0 | FQ15: =SUM(FL15:FP15) -> 0 | FW15: =SUM(FR15:FV15) -> 0 | GC15: =SUM(FX15:GB15) -> 0 | GI15: =SUM(GD15:GH15) -> 0 | GO15: =SUM(GJ15:GN15) -> 0 | GU15: =SUM(GP15:GT15) -> 0 | HA15: =SUM(GV15:GZ15) -> 0 | HG15: =SUM(HB15:HF15) -> 0 | HM15: =SUM(HH15:HL15) -> 0 | HN15: =SUM(FR15,FX15,GD15,GJ15,GP15,GV15,HB15,HH15) -> 0 | HO15: =SUM(FS15,FY15,GE15,GK15,GQ15,GW15,HC15,HI15) -> 0 | HP15: =SUM(HJ15,HD15,GX15,GR15,GL15,GF15,FZ15,FT15) -> 0 | HQ15: =SUM(HK15,HE15,GY15,GS15,GM15,GG15,GA15,FU15) -> 0 | HR15: =SUM(HL15,HF15,GZ15,GT15,GN15,GH15,GB15,FV15) -> 0 | HS15: =SUM(HN15:HR15) -> 0 | HY15: =SUM(HT15:HX15) -> 0 | IE15: =SUM(HZ15:ID15) -> 0 | IK15: =SUM(IF15:IJ15) -> 0 | IL15: =SUM(HT15,HZ15,IF15) -> 0 | IM15: =SUM(HU15,IA15,IG15) -> 0 | IN15: =SUM(HV15,IB15,IH15) -> 0 | IO15: =SUM(HW15,IC15,II15) -> 0 | IP15: =SUM(HX15,ID15,IJ15) -> 0 | IQ15: =SUM(IL15:IP15) -> 0 | IW15: =SUM(IR15:IV15) -> 0 | JC15: =SUM(IX15:JB15) -> 0 | JI15: =SUM(JD15:JH15) -> 0 | JJ15: =SUM(IR15,IX15,JD15) -> 0 | JK15: =SUM(IS15,IY15,JE15) -> 0 | JL15: =SUM(IT15,IZ15,JF15) -> 0 | JM15: =SUM(IU15,JA15,JG15) -> 0 | JN15: =SUM(IV15,JB15,JH15) -> 0 | JO15: =SUM(JJ15:JN15) -> 0 | JQ15: =SUM(T15,BF15,CF15,DO15,FL15,HN15,IL15,JJ15) -> 0 | JR15: =SUM(U15,BG15,CG15,DP15,FM15,HO15,IM15,JK15) -> 0 | JS15: =SUM(V15,BH15,CH15,DQ15,FN15,HP15,IN15,JL15) -> 0 | JT15: =SUM(W15,BI15,CI15,DR15,FO15,HQ15,IO15,JM15) -> 0 | JU15: =SUM(X15,BJ15,CJ15,DS15,FP15,HR15,IP15,JN15) -> 0 | JV15: =SUM(DT15,BK15,CK15) -> 0 | JW15: =SUM(JQ15:JV15) -> 0
A16: IB=Young pine mortality unknown | G16: =SUM(B16:F16) -> 0 | M16: =SUM(H16:L16) -> 0 | S16: =SUM(N16:R16) -> 0 | T16: =SUM(B16,H16,N16) -> 0 | U16: =SUM(C16,I16,O16) -> 0 | V16: =SUM(D16,J16,P16) -> 0 | W16: =SUM(E16,K16,Q16) -> 0 | X16: =SUM(F16,L16,R16) -> 0 | Y16: =SUM(T16:X16) -> 0 | AE16: =SUM(Z16:AD16) -> 0 | AL16: =SUM(AF16:AK16) -> 0 | AR16: =SUM(AM16:AQ16) -> 0 | AY16: =SUM(AS16:AX16) -> 0 | BE16: =SUM(AZ16:BD16) -> 0 | BF16: =SUM(Z16,AF16,AM16,AS16,AZ16) -> 0 | BG16: =SUM(AA16,AG16,AN16,AT16,BA16) -> 0 | BH16: =SUM(AB16,AH16,AO16,AU16,BB16) -> 0 | BI16: =SUM(AC16,AI16,AP16,AV16,BC16) -> 0 | BJ16: =SUM(AD16,AJ16,AQ16,AW16,BD16) -> 0 | BK16: =SUM(AX16) -> 0 | BL16: =SUM(BF16:BK16) -> 0 | BR16: =SUM(BM16:BQ16) -> 0 | BX16: =SUM(BS16:BW16) -> 0 | CE16: =SUM(BY16:CD16) -> 0 | CF16: =SUM(BM16,BS16,BY16) -> 0 | CG16: =SUM(BN16,BT16,BZ16) -> 0 | CH16: =SUM(BO16,BU16,CA16) -> 0 | CI16: =SUM(BP16,BV16,CB16) -> 0 | CJ16: =SUM(BQ16,BW16,CC16) -> 0 | CK16: =SUM(CD16) -> 0 | CL16: =SUM(CF16:CK16) -> 0 | CS16: =SUM(CM16:CR16) -> 0 | CZ16: =SUM(CT16:CY16) -> 0 | DG16: =SUM(DA16:DF16) -> 0 | DN16: =SUM(DH16:DM16) -> 0 | DO16: =SUM(CM16,CT16,DA16,DH16) -> 0 | DP16: =SUM(CN16,CU16,DB16,DI16) -> 0 | DQ16: =SUM(CO16,CV16,DC16,DJ16) -> 0 | DR16: =SUM(CP16,CW16,DD16,DK16) -> 0 | DS16: =SUM(CQ16,CX16,DE16,DL16) -> 0 | DT16: =SUM(CR16,CY16,DF16,DM16) -> 0 | DU16: =SUM(DO16:DT16) -> 0 | EA16: =SUM(DV16:DZ16) -> 0 | EG16: =SUM(EB16:EF16) -> 0 | EM16: =SUM(EH16:EL16) -> 0 | ES16: =SUM(EN16:ER16) -> 0 | EY16: =SUM(ET16:EX16) -> 0 | FE16: =SUM(EZ16:FD16) -> 0 | FK16: =SUM(FF16:FJ16) -> 0 | FL16: =SUM(DV16,EB16,EH16,EN16,ET16,EZ16,FF16) -> 0 | FM16: =SUM(DW16,EC16,EI16,EO16,EU16,FA16,FG16) -> 0 | FN16: =SUM(DX16,ED16,EJ16,EP16,EV16,FB16,FH16) -> 0 | FO16: =SUM(DY16,EE16,EK16,EQ16,EW16,FC16,FI16) -> 0 | FP16: =SUM(DZ16,EF16,EL16,ER16,EX16,FD16,FJ16) -> 0 | FQ16: =SUM(FL16:FP16) -> 0 | FW16: =SUM(FR16:FV16) -> 0 | GC16: =SUM(FX16:GB16) -> 0 | GI16: =SUM(GD16:GH16) -> 0 | GO16: =SUM(GJ16:GN16) -> 0 | GS16: 0.75 | GU16: =SUM(GP16:GT16) -> 0.75 | HA16: =SUM(GV16:GZ16) -> 0 | HG16: =SUM(HB16:HF16) -> 0 | HM16: =SUM(HH16:HL16) -> 0 | HN16: =SUM(FR16,FX16,GD16,GJ16,GP16,GV16,HB16,HH16) -> 0 | HO16: =SUM(FS16,FY16,GE16,GK16,GQ16,GW16,HC16,HI16) -> 0 | HP16: =SUM(HJ16,HD16,GX16,GR16,GL16,GF16,FZ16,FT16) -> 0 | HQ16: =SUM(HK16,HE16,GY16,GS16,GM16,GG16,GA16,FU16) -> 0.75 | HR16: =SUM(HL16,HF16,GZ16,GT16,GN16,GH16,GB16,FV16) -> 0 | HS16: =SUM(HN16:HR16) -> 0.75 | HY16: =SUM(HT16:HX16) -> 0 | IE16: =SUM(HZ16:ID16) -> 0 | IF16: 756.16084 | II16: 0.75 | IK16: =SUM(IF16:IJ16) -> 756.91084 | IL16: =SUM(HT16,HZ16,IF16) -> 756.16084 | IM16: =SUM(HU16,IA16,IG16) -> 0 | IN16: =SUM(HV16,IB16,IH16) -> 0 | IO16: =SUM(HW16,IC16,II16) -> 0.75 | IP16: =SUM(HX16,ID16,IJ16) -> 0 | IQ16: =SUM(IL16:IP16) -> 756.91084 | IW16: =SUM(IR16:IV16) -> 0 | JC16: =SUM(IX16:JB16) -> 0 | JI16: =SUM(JD16:JH16) -> 0 | JJ16: =SUM(IR16,IX16,JD16) -> 0 | JK16: =SUM(IS16,IY16,JE16) -> 0 | JL16: =SUM(IT16,IZ16,JF16) -> 0 | JM16: =SUM(IU16,JA16,JG16) -> 0 | JN16: =SUM(IV16,JB16,JH16) -> 0 | JO16: =SUM(JJ16:JN16) -> 0 | JQ16: =SUM(T16,BF16,CF16,DO16,FL16,HN16,IL16,JJ16) -> 756.16084 | JR16: =SUM(U16,BG16,CG16,DP16,FM16,HO16,IM16,JK16) -> 0 | JS16: =SUM(V16,BH16,CH16,DQ16,FN16,HP16,IN16,JL16) -> 0 | JT16: =SUM(W16,BI16,CI16,DR16,FO16,HQ16,IO16,JM16) -> 1.5 | JU16: =SUM(X16,BJ16,CJ16,DS16,FP16,HR16,IP16,JN16) -> 0 | JV16: =SUM(DT16,BK16,CK16) -> 0 | JW16: =SUM(JQ16:JV16) -> 757.66084
